BEGIN:VCALENDAR
VERSION:2.0
PRODID:-//Unitarian Universalist Church of Spokane - ECPv6.15.20//NONSGML v1.0//EN
CALSCALE:GREGORIAN
METHOD:PUBLISH
X-ORIGINAL-URL:https://uuspokane.org
X-WR-CALDESC:Events for Unitarian Universalist Church of Spokane
REFRESH-INTERVAL;VALUE=DURATION:PT1H
X-Robots-Tag:noindex
X-PUBLISHED-TTL:PT1H
BEGIN:VTIMEZONE
TZID:America/Los_Angeles
BEGIN:DAYLIGHT
TZOFFSETFROM:-0800
TZOFFSETTO:-0700
TZNAME:PDT
DTSTART:20240310T100000
END:DAYLIGHT
BEGIN:STANDARD
TZOFFSETFROM:-0700
TZOFFSETTO:-0800
TZNAME:PST
DTSTART:20241103T090000
END:STANDARD
BEGIN:DAYLIGHT
TZOFFSETFROM:-0800
TZOFFSETTO:-0700
TZNAME:PDT
DTSTART:20250309T100000
END:DAYLIGHT
BEGIN:STANDARD
TZOFFSETFROM:-0700
TZOFFSETTO:-0800
TZNAME:PST
DTSTART:20251102T090000
END:STANDARD
BEGIN:DAYLIGHT
TZOFFSETFROM:-0800
TZOFFSETTO:-0700
TZNAME:PDT
DTSTART:20260308T100000
END:DAYLIGHT
BEGIN:STANDARD
TZOFFSETFROM:-0700
TZOFFSETTO:-0800
TZNAME:PST
DTSTART:20261101T090000
END:STANDARD
END:VTIMEZONE
BEGIN:VEVENT
DTSTART;TZID=America/Los_Angeles:20251214T123000
DTEND;TZID=America/Los_Angeles:20251214T133000
DTSTAMP:20260423T190619
CREATED:20251120T162222Z
LAST-MODIFIED:20251120T162222Z
UID:10002750-1765715400-1765719000@uuspokane.org
SUMMARY:Poetry Sharing Circle
DESCRIPTION:Have you ever stumbled upon a poem — whether found in a book\, heard in passing\, or written yourself — that felt too meaningful to keep to yourself? Our Poetry Sharing Circle is a gentle\, welcoming hour created just for that. \nThis is not a workshop\, class\, or writers’ critique group. Instead\, it’s a simple in-person gathering where we come together to share poems that move us\, comfort us\, surprise us\, or make us think. Bring a poem you love and a few words about why it speaks to you — or simply come to listen and enjoy the company of others who appreciate the magic of poetry. \nNo pressure … no preparation … no expectations. \nJust people\, poems\, and a peaceful moment in community.
URL:https://uuspokane.org/event/poetry-sharing-circle-2/2025-12-14/
LOCATION:Chapel
CATEGORIES:Adult Enrichment
ORGANIZER;CN="Lynn Jinishian":MAILTO:jinishian@comcast.net
END:VEVENT
BEGIN:VEVENT
DTSTART;TZID=America/Los_Angeles:20251218T130000
DTEND;TZID=America/Los_Angeles:20251218T150000
DTSTAMP:20260423T190619
CREATED:20251125T175917Z
LAST-MODIFIED:20251125T180124Z
UID:10003243-1766062800-1766070000@uuspokane.org
SUMMARY:Third Thursday Book Group - Christmas and Book Selections Party
DESCRIPTION:The Third Thursday Book Group is having a Christmas and Book Selection party! We will meet at the home of Lucy Christopher\, 7001 N. Westgate Place.  Bring a wrapped used book for our book exchange and if you wish one or two suggestions for next year’s book group reading list. \nRSVP to Lucy Christopher at bschrissy@msn.com. \nTake me to a map of the location. \nGot questions? Or want the book group reading list and schedule? Contact Jan Wingenroth at Jan_dennis@msn.com.
URL:https://uuspokane.org/event/third-thursday-book-group-4/
LOCATION:Offsite
CATEGORIES:Adult Enrichment
ORGANIZER;CN="Lucy Christopher":MAILTO:bschrissy@msn.com
END:VEVENT
BEGIN:VEVENT
DTSTART;TZID=America/Los_Angeles:20251223T183000
DTEND;TZID=America/Los_Angeles:20251223T200000
DTSTAMP:20260423T190619
CREATED:20251203T172258Z
LAST-MODIFIED:20251216T184701Z
UID:10003661-1766514600-1766520000@uuspokane.org
SUMMARY:Yuletide Rhythms: An Evening of Music\, Cheer\, and Community
DESCRIPTION:As the winter nights draw near and the season’s sparkle fills the air\, we invite you to gather with us for Yuletide Rhythms\, a joyful evening of holiday music\, dancing\, and community. Whether you arrive in your most outrageous\, ugly sweater or shine in glitter and pearls\, this celebration promises warmth\, laughter\, and festive fun. \nEnjoy live holiday music. Together they will fill the sanctuary with seasonal favorites and lively tunes perfect for listening\, dancing\, and celebrating the spirit of the season. \nGuests can look forward to holiday cheer in abundance—snacks\, wine\, beer\, and egg nog will all be available. Wine and beer will be offered for a suggested donation of $5.00. \nTickets: $15.00 each/2 for $25.00 \nShare the warmth of community\, savor the music\, and enjoy a festive evening UU-style. Children are welcome for free. \nHelp Needed \n\nTicket Sales – before the event and at the door\, or serving wine and beer\nSet-Up Crew – decorating and preparing the space on Tuesday\, Dec. 23 at 10 AM\nClean-Up Crew – helping restore the sanctuary afterward\n\nIf you’re able to help in any of these areas\, please contact Nancy Avery at NancyTavery@comcast.net or 509-385-1344. Your support makes events like this possible—and magical.
URL:https://uuspokane.org/event/christmas-eve-eve-holiday-concert-party/
LOCATION:Friendship Hall
CATEGORIES:Adult Enrichment,Fellowship
ORGANIZER;CN="Nancy Avery":MAILTO:NancyTavery@comcast.net
END:VEVENT
END:VCALENDAR