BEGIN:VCALENDAR
VERSION:2.0
PRODID:-//Unitarian Universalist Church of Spokane - ECPv6.15.20//NONSGML v1.0//EN
CALSCALE:GREGORIAN
METHOD:PUBLISH
X-ORIGINAL-URL:https://uuspokane.org
X-WR-CALDESC:Events for Unitarian Universalist Church of Spokane
REFRESH-INTERVAL;VALUE=DURATION:PT1H
X-Robots-Tag:noindex
X-PUBLISHED-TTL:PT1H
BEGIN:VTIMEZONE
TZID:America/Los_Angeles
BEGIN:DAYLIGHT
TZOFFSETFROM:-0800
TZOFFSETTO:-0700
TZNAME:PDT
DTSTART:20250309T100000
END:DAYLIGHT
BEGIN:STANDARD
TZOFFSETFROM:-0700
TZOFFSETTO:-0800
TZNAME:PST
DTSTART:20251102T090000
END:STANDARD
BEGIN:DAYLIGHT
TZOFFSETFROM:-0800
TZOFFSETTO:-0700
TZNAME:PDT
DTSTART:20260308T100000
END:DAYLIGHT
BEGIN:STANDARD
TZOFFSETFROM:-0700
TZOFFSETTO:-0800
TZNAME:PST
DTSTART:20261101T090000
END:STANDARD
BEGIN:DAYLIGHT
TZOFFSETFROM:-0800
TZOFFSETTO:-0700
TZNAME:PDT
DTSTART:20270314T100000
END:DAYLIGHT
BEGIN:STANDARD
TZOFFSETFROM:-0700
TZOFFSETTO:-0800
TZNAME:PST
DTSTART:20271107T090000
END:STANDARD
END:VTIMEZONE
BEGIN:VEVENT
DTSTART;TZID=America/Los_Angeles:20260416T130000
DTEND;TZID=America/Los_Angeles:20260416T150000
DTSTAMP:20260423T141435
CREATED:20260303T190311Z
LAST-MODIFIED:20260408T172748Z
UID:10003247-1776344400-1776351600@uuspokane.org
SUMMARY:Third Thursday Book Group - Mrs. Dalloway
DESCRIPTION:  \nWe will meet at the home of Susan Gray\, 2518 W Grace. Please RSVP to Susan at wesgray@earthlink.com so she will know how many of us to prepare for. \nTake me to a map of the location. \nRead Ahead our May book selection is: The Optimist Daughter by Eudora Welty.
URL:https://uuspokane.org/event/third-thursday-book-group-8/
LOCATION:Offsite
CATEGORIES:Adult Enrichment
END:VEVENT
END:VCALENDAR