BEGIN:VCALENDAR
VERSION:2.0
PRODID:-//Unitarian Universalist Church of Spokane - ECPv6.15.20//NONSGML v1.0//EN
CALSCALE:GREGORIAN
METHOD:PUBLISH
X-ORIGINAL-URL:https://uuspokane.org
X-WR-CALDESC:Events for Unitarian Universalist Church of Spokane
REFRESH-INTERVAL;VALUE=DURATION:PT1H
X-Robots-Tag:noindex
X-PUBLISHED-TTL:PT1H
BEGIN:VTIMEZONE
TZID:America/Los_Angeles
BEGIN:DAYLIGHT
TZOFFSETFROM:-0800
TZOFFSETTO:-0700
TZNAME:PDT
DTSTART:20280312T100000
END:DAYLIGHT
BEGIN:STANDARD
TZOFFSETFROM:-0700
TZOFFSETTO:-0800
TZNAME:PST
DTSTART:20281105T090000
END:STANDARD
BEGIN:DAYLIGHT
TZOFFSETFROM:-0800
TZOFFSETTO:-0700
TZNAME:PDT
DTSTART:20290311T100000
END:DAYLIGHT
BEGIN:STANDARD
TZOFFSETFROM:-0700
TZOFFSETTO:-0800
TZNAME:PST
DTSTART:20291104T090000
END:STANDARD
BEGIN:DAYLIGHT
TZOFFSETFROM:-0800
TZOFFSETTO:-0700
TZNAME:PDT
DTSTART:20300310T100000
END:DAYLIGHT
BEGIN:STANDARD
TZOFFSETFROM:-0700
TZOFFSETTO:-0800
TZNAME:PST
DTSTART:20301103T090000
END:STANDARD
BEGIN:DAYLIGHT
TZOFFSETFROM:-0800
TZOFFSETTO:-0700
TZNAME:PDT
DTSTART:20310309T100000
END:DAYLIGHT
BEGIN:STANDARD
TZOFFSETFROM:-0700
TZOFFSETTO:-0800
TZNAME:PST
DTSTART:20311102T090000
END:STANDARD
BEGIN:DAYLIGHT
TZOFFSETFROM:-0800
TZOFFSETTO:-0700
TZNAME:PDT
DTSTART:20320314T100000
END:DAYLIGHT
BEGIN:STANDARD
TZOFFSETFROM:-0700
TZOFFSETTO:-0800
TZNAME:PST
DTSTART:20321107T090000
END:STANDARD
END:VTIMEZONE
BEGIN:VEVENT
DTSTART;TZID=America/Los_Angeles:20291209T123000
DTEND;TZID=America/Los_Angeles:20291209T133000
DTSTAMP:20260425T062159
CREATED:20251120T162222Z
LAST-MODIFIED:20251120T162222Z
UID:10002798-1891513800-1891517400@uuspokane.org
SUMMARY:Poetry Sharing Circle
DESCRIPTION:Have you ever stumbled upon a poem — whether found in a book\, heard in passing\, or written yourself — that felt too meaningful to keep to yourself? Our Poetry Sharing Circle is a gentle\, welcoming hour created just for that. \nThis is not a workshop\, class\, or writers’ critique group. Instead\, it’s a simple in-person gathering where we come together to share poems that move us\, comfort us\, surprise us\, or make us think. Bring a poem you love and a few words about why it speaks to you — or simply come to listen and enjoy the company of others who appreciate the magic of poetry. \nNo pressure … no preparation … no expectations. \nJust people\, poems\, and a peaceful moment in community.
URL:https://uuspokane.org/event/poetry-sharing-circle-2/2029-12-09/
LOCATION:Chapel
CATEGORIES:Adult Enrichment
ORGANIZER;CN="Lynn Jinishian":MAILTO:jinishian@comcast.net
END:VEVENT
BEGIN:VEVENT
DTSTART;TZID=America/Los_Angeles:20291220T130000
DTEND;TZID=America/Los_Angeles:20291220T150000
DTSTAMP:20260425T062159
CREATED:20250925T231947Z
LAST-MODIFIED:20250925T231947Z
UID:10003291-1892466000-1892473200@uuspokane.org
SUMMARY:Third Thursday Book Group
DESCRIPTION:
URL:https://uuspokane.org/event/third-thursday-book-group/2029-12-20/
LOCATION:Offsite
CATEGORIES:Adult Enrichment
END:VEVENT
BEGIN:VEVENT
DTSTART;TZID=America/Los_Angeles:20300113T123000
DTEND;TZID=America/Los_Angeles:20300113T133000
DTSTAMP:20260425T062159
CREATED:20251120T162222Z
LAST-MODIFIED:20251120T162222Z
UID:10002799-1894537800-1894541400@uuspokane.org
SUMMARY:Poetry Sharing Circle
DESCRIPTION:Have you ever stumbled upon a poem — whether found in a book\, heard in passing\, or written yourself — that felt too meaningful to keep to yourself? Our Poetry Sharing Circle is a gentle\, welcoming hour created just for that. \nThis is not a workshop\, class\, or writers’ critique group. Instead\, it’s a simple in-person gathering where we come together to share poems that move us\, comfort us\, surprise us\, or make us think. Bring a poem you love and a few words about why it speaks to you — or simply come to listen and enjoy the company of others who appreciate the magic of poetry. \nNo pressure … no preparation … no expectations. \nJust people\, poems\, and a peaceful moment in community.
URL:https://uuspokane.org/event/poetry-sharing-circle-2/2030-01-13/
LOCATION:Chapel
CATEGORIES:Adult Enrichment
ORGANIZER;CN="Lynn Jinishian":MAILTO:jinishian@comcast.net
END:VEVENT
BEGIN:VEVENT
DTSTART;TZID=America/Los_Angeles:20300117T130000
DTEND;TZID=America/Los_Angeles:20300117T150000
DTSTAMP:20260425T062159
CREATED:20250925T231947Z
LAST-MODIFIED:20250925T231947Z
UID:10003292-1894885200-1894892400@uuspokane.org
SUMMARY:Third Thursday Book Group
DESCRIPTION:
URL:https://uuspokane.org/event/third-thursday-book-group/2030-01-17/
LOCATION:Offsite
CATEGORIES:Adult Enrichment
END:VEVENT
BEGIN:VEVENT
DTSTART;TZID=America/Los_Angeles:20300210T123000
DTEND;TZID=America/Los_Angeles:20300210T133000
DTSTAMP:20260425T062159
CREATED:20251120T162222Z
LAST-MODIFIED:20251120T162222Z
UID:10002800-1896957000-1896960600@uuspokane.org
SUMMARY:Poetry Sharing Circle
DESCRIPTION:Have you ever stumbled upon a poem — whether found in a book\, heard in passing\, or written yourself — that felt too meaningful to keep to yourself? Our Poetry Sharing Circle is a gentle\, welcoming hour created just for that. \nThis is not a workshop\, class\, or writers’ critique group. Instead\, it’s a simple in-person gathering where we come together to share poems that move us\, comfort us\, surprise us\, or make us think. Bring a poem you love and a few words about why it speaks to you — or simply come to listen and enjoy the company of others who appreciate the magic of poetry. \nNo pressure … no preparation … no expectations. \nJust people\, poems\, and a peaceful moment in community.
URL:https://uuspokane.org/event/poetry-sharing-circle-2/2030-02-10/
LOCATION:Chapel
CATEGORIES:Adult Enrichment
ORGANIZER;CN="Lynn Jinishian":MAILTO:jinishian@comcast.net
END:VEVENT
BEGIN:VEVENT
DTSTART;TZID=America/Los_Angeles:20300221T130000
DTEND;TZID=America/Los_Angeles:20300221T150000
DTSTAMP:20260425T062159
CREATED:20250925T231947Z
LAST-MODIFIED:20250925T231947Z
UID:10003293-1897909200-1897916400@uuspokane.org
SUMMARY:Third Thursday Book Group
DESCRIPTION:
URL:https://uuspokane.org/event/third-thursday-book-group/2030-02-21/
LOCATION:Offsite
CATEGORIES:Adult Enrichment
END:VEVENT
BEGIN:VEVENT
DTSTART;TZID=America/Los_Angeles:20300310T123000
DTEND;TZID=America/Los_Angeles:20300310T133000
DTSTAMP:20260425T062159
CREATED:20251120T162222Z
LAST-MODIFIED:20251120T162222Z
UID:10002801-1899376200-1899379800@uuspokane.org
SUMMARY:Poetry Sharing Circle
DESCRIPTION:Have you ever stumbled upon a poem — whether found in a book\, heard in passing\, or written yourself — that felt too meaningful to keep to yourself? Our Poetry Sharing Circle is a gentle\, welcoming hour created just for that. \nThis is not a workshop\, class\, or writers’ critique group. Instead\, it’s a simple in-person gathering where we come together to share poems that move us\, comfort us\, surprise us\, or make us think. Bring a poem you love and a few words about why it speaks to you — or simply come to listen and enjoy the company of others who appreciate the magic of poetry. \nNo pressure … no preparation … no expectations. \nJust people\, poems\, and a peaceful moment in community.
URL:https://uuspokane.org/event/poetry-sharing-circle-2/2030-03-10/
LOCATION:Chapel
CATEGORIES:Adult Enrichment
ORGANIZER;CN="Lynn Jinishian":MAILTO:jinishian@comcast.net
END:VEVENT
BEGIN:VEVENT
DTSTART;TZID=America/Los_Angeles:20300321T130000
DTEND;TZID=America/Los_Angeles:20300321T150000
DTSTAMP:20260425T062159
CREATED:20250925T231947Z
LAST-MODIFIED:20250925T231947Z
UID:10003294-1900328400-1900335600@uuspokane.org
SUMMARY:Third Thursday Book Group
DESCRIPTION:
URL:https://uuspokane.org/event/third-thursday-book-group/2030-03-21/
LOCATION:Offsite
CATEGORIES:Adult Enrichment
END:VEVENT
BEGIN:VEVENT
DTSTART;TZID=America/Los_Angeles:20300414T123000
DTEND;TZID=America/Los_Angeles:20300414T133000
DTSTAMP:20260425T062159
CREATED:20251120T162222Z
LAST-MODIFIED:20251120T162222Z
UID:10002802-1902400200-1902403800@uuspokane.org
SUMMARY:Poetry Sharing Circle
DESCRIPTION:Have you ever stumbled upon a poem — whether found in a book\, heard in passing\, or written yourself — that felt too meaningful to keep to yourself? Our Poetry Sharing Circle is a gentle\, welcoming hour created just for that. \nThis is not a workshop\, class\, or writers’ critique group. Instead\, it’s a simple in-person gathering where we come together to share poems that move us\, comfort us\, surprise us\, or make us think. Bring a poem you love and a few words about why it speaks to you — or simply come to listen and enjoy the company of others who appreciate the magic of poetry. \nNo pressure … no preparation … no expectations. \nJust people\, poems\, and a peaceful moment in community.
URL:https://uuspokane.org/event/poetry-sharing-circle-2/2030-04-14/
LOCATION:Chapel
CATEGORIES:Adult Enrichment
ORGANIZER;CN="Lynn Jinishian":MAILTO:jinishian@comcast.net
END:VEVENT
BEGIN:VEVENT
DTSTART;TZID=America/Los_Angeles:20300418T130000
DTEND;TZID=America/Los_Angeles:20300418T150000
DTSTAMP:20260425T062159
CREATED:20250925T231947Z
LAST-MODIFIED:20250925T231947Z
UID:10003295-1902747600-1902754800@uuspokane.org
SUMMARY:Third Thursday Book Group
DESCRIPTION:
URL:https://uuspokane.org/event/third-thursday-book-group/2030-04-18/
LOCATION:Offsite
CATEGORIES:Adult Enrichment
END:VEVENT
BEGIN:VEVENT
DTSTART;TZID=America/Los_Angeles:20300512T123000
DTEND;TZID=America/Los_Angeles:20300512T133000
DTSTAMP:20260425T062159
CREATED:20251120T162222Z
LAST-MODIFIED:20251120T162222Z
UID:10002803-1904819400-1904823000@uuspokane.org
SUMMARY:Poetry Sharing Circle
DESCRIPTION:Have you ever stumbled upon a poem — whether found in a book\, heard in passing\, or written yourself — that felt too meaningful to keep to yourself? Our Poetry Sharing Circle is a gentle\, welcoming hour created just for that. \nThis is not a workshop\, class\, or writers’ critique group. Instead\, it’s a simple in-person gathering where we come together to share poems that move us\, comfort us\, surprise us\, or make us think. Bring a poem you love and a few words about why it speaks to you — or simply come to listen and enjoy the company of others who appreciate the magic of poetry. \nNo pressure … no preparation … no expectations. \nJust people\, poems\, and a peaceful moment in community.
URL:https://uuspokane.org/event/poetry-sharing-circle-2/2030-05-12/
LOCATION:Chapel
CATEGORIES:Adult Enrichment
ORGANIZER;CN="Lynn Jinishian":MAILTO:jinishian@comcast.net
END:VEVENT
BEGIN:VEVENT
DTSTART;TZID=America/Los_Angeles:20300516T130000
DTEND;TZID=America/Los_Angeles:20300516T150000
DTSTAMP:20260425T062159
CREATED:20250925T231947Z
LAST-MODIFIED:20250925T231947Z
UID:10003296-1905166800-1905174000@uuspokane.org
SUMMARY:Third Thursday Book Group
DESCRIPTION:
URL:https://uuspokane.org/event/third-thursday-book-group/2030-05-16/
LOCATION:Offsite
CATEGORIES:Adult Enrichment
END:VEVENT
BEGIN:VEVENT
DTSTART;TZID=America/Los_Angeles:20300609T123000
DTEND;TZID=America/Los_Angeles:20300609T133000
DTSTAMP:20260425T062159
CREATED:20251120T162222Z
LAST-MODIFIED:20251120T162222Z
UID:10002804-1907238600-1907242200@uuspokane.org
SUMMARY:Poetry Sharing Circle
DESCRIPTION:Have you ever stumbled upon a poem — whether found in a book\, heard in passing\, or written yourself — that felt too meaningful to keep to yourself? Our Poetry Sharing Circle is a gentle\, welcoming hour created just for that. \nThis is not a workshop\, class\, or writers’ critique group. Instead\, it’s a simple in-person gathering where we come together to share poems that move us\, comfort us\, surprise us\, or make us think. Bring a poem you love and a few words about why it speaks to you — or simply come to listen and enjoy the company of others who appreciate the magic of poetry. \nNo pressure … no preparation … no expectations. \nJust people\, poems\, and a peaceful moment in community.
URL:https://uuspokane.org/event/poetry-sharing-circle-2/2030-06-09/
LOCATION:Chapel
CATEGORIES:Adult Enrichment
ORGANIZER;CN="Lynn Jinishian":MAILTO:jinishian@comcast.net
END:VEVENT
BEGIN:VEVENT
DTSTART;TZID=America/Los_Angeles:20300620T130000
DTEND;TZID=America/Los_Angeles:20300620T150000
DTSTAMP:20260425T062159
CREATED:20250925T231947Z
LAST-MODIFIED:20250925T231947Z
UID:10003297-1908190800-1908198000@uuspokane.org
SUMMARY:Third Thursday Book Group
DESCRIPTION:
URL:https://uuspokane.org/event/third-thursday-book-group/2030-06-20/
LOCATION:Offsite
CATEGORIES:Adult Enrichment
END:VEVENT
BEGIN:VEVENT
DTSTART;TZID=America/Los_Angeles:20300714T123000
DTEND;TZID=America/Los_Angeles:20300714T133000
DTSTAMP:20260425T062159
CREATED:20251120T162222Z
LAST-MODIFIED:20251120T162222Z
UID:10002805-1910262600-1910266200@uuspokane.org
SUMMARY:Poetry Sharing Circle
DESCRIPTION:Have you ever stumbled upon a poem — whether found in a book\, heard in passing\, or written yourself — that felt too meaningful to keep to yourself? Our Poetry Sharing Circle is a gentle\, welcoming hour created just for that. \nThis is not a workshop\, class\, or writers’ critique group. Instead\, it’s a simple in-person gathering where we come together to share poems that move us\, comfort us\, surprise us\, or make us think. Bring a poem you love and a few words about why it speaks to you — or simply come to listen and enjoy the company of others who appreciate the magic of poetry. \nNo pressure … no preparation … no expectations. \nJust people\, poems\, and a peaceful moment in community.
URL:https://uuspokane.org/event/poetry-sharing-circle-2/2030-07-14/
LOCATION:Chapel
CATEGORIES:Adult Enrichment
ORGANIZER;CN="Lynn Jinishian":MAILTO:jinishian@comcast.net
END:VEVENT
BEGIN:VEVENT
DTSTART;TZID=America/Los_Angeles:20300718T130000
DTEND;TZID=America/Los_Angeles:20300718T150000
DTSTAMP:20260425T062159
CREATED:20250925T231947Z
LAST-MODIFIED:20250925T231947Z
UID:10003298-1910610000-1910617200@uuspokane.org
SUMMARY:Third Thursday Book Group
DESCRIPTION:
URL:https://uuspokane.org/event/third-thursday-book-group/2030-07-18/
LOCATION:Offsite
CATEGORIES:Adult Enrichment
END:VEVENT
BEGIN:VEVENT
DTSTART;TZID=America/Los_Angeles:20300811T123000
DTEND;TZID=America/Los_Angeles:20300811T133000
DTSTAMP:20260425T062159
CREATED:20251120T162222Z
LAST-MODIFIED:20251120T162222Z
UID:10002806-1912681800-1912685400@uuspokane.org
SUMMARY:Poetry Sharing Circle
DESCRIPTION:Have you ever stumbled upon a poem — whether found in a book\, heard in passing\, or written yourself — that felt too meaningful to keep to yourself? Our Poetry Sharing Circle is a gentle\, welcoming hour created just for that. \nThis is not a workshop\, class\, or writers’ critique group. Instead\, it’s a simple in-person gathering where we come together to share poems that move us\, comfort us\, surprise us\, or make us think. Bring a poem you love and a few words about why it speaks to you — or simply come to listen and enjoy the company of others who appreciate the magic of poetry. \nNo pressure … no preparation … no expectations. \nJust people\, poems\, and a peaceful moment in community.
URL:https://uuspokane.org/event/poetry-sharing-circle-2/2030-08-11/
LOCATION:Chapel
CATEGORIES:Adult Enrichment
ORGANIZER;CN="Lynn Jinishian":MAILTO:jinishian@comcast.net
END:VEVENT
BEGIN:VEVENT
DTSTART;TZID=America/Los_Angeles:20300815T130000
DTEND;TZID=America/Los_Angeles:20300815T150000
DTSTAMP:20260425T062159
CREATED:20250925T231947Z
LAST-MODIFIED:20250925T231947Z
UID:10003299-1913029200-1913036400@uuspokane.org
SUMMARY:Third Thursday Book Group
DESCRIPTION:
URL:https://uuspokane.org/event/third-thursday-book-group/2030-08-15/
LOCATION:Offsite
CATEGORIES:Adult Enrichment
END:VEVENT
BEGIN:VEVENT
DTSTART;TZID=America/Los_Angeles:20300908T123000
DTEND;TZID=America/Los_Angeles:20300908T133000
DTSTAMP:20260425T062159
CREATED:20251120T162222Z
LAST-MODIFIED:20251120T162222Z
UID:10002807-1915101000-1915104600@uuspokane.org
SUMMARY:Poetry Sharing Circle
DESCRIPTION:Have you ever stumbled upon a poem — whether found in a book\, heard in passing\, or written yourself — that felt too meaningful to keep to yourself? Our Poetry Sharing Circle is a gentle\, welcoming hour created just for that. \nThis is not a workshop\, class\, or writers’ critique group. Instead\, it’s a simple in-person gathering where we come together to share poems that move us\, comfort us\, surprise us\, or make us think. Bring a poem you love and a few words about why it speaks to you — or simply come to listen and enjoy the company of others who appreciate the magic of poetry. \nNo pressure … no preparation … no expectations. \nJust people\, poems\, and a peaceful moment in community.
URL:https://uuspokane.org/event/poetry-sharing-circle-2/2030-09-08/
LOCATION:Chapel
CATEGORIES:Adult Enrichment
ORGANIZER;CN="Lynn Jinishian":MAILTO:jinishian@comcast.net
END:VEVENT
BEGIN:VEVENT
DTSTART;TZID=America/Los_Angeles:20300919T130000
DTEND;TZID=America/Los_Angeles:20300919T150000
DTSTAMP:20260425T062159
CREATED:20250925T231947Z
LAST-MODIFIED:20250925T231947Z
UID:10003300-1916053200-1916060400@uuspokane.org
SUMMARY:Third Thursday Book Group
DESCRIPTION:
URL:https://uuspokane.org/event/third-thursday-book-group/2030-09-19/
LOCATION:Offsite
CATEGORIES:Adult Enrichment
END:VEVENT
BEGIN:VEVENT
DTSTART;TZID=America/Los_Angeles:20301013T123000
DTEND;TZID=America/Los_Angeles:20301013T133000
DTSTAMP:20260425T062159
CREATED:20251120T162222Z
LAST-MODIFIED:20251120T162222Z
UID:10003519-1918125000-1918128600@uuspokane.org
SUMMARY:Poetry Sharing Circle
DESCRIPTION:Have you ever stumbled upon a poem — whether found in a book\, heard in passing\, or written yourself — that felt too meaningful to keep to yourself? Our Poetry Sharing Circle is a gentle\, welcoming hour created just for that. \nThis is not a workshop\, class\, or writers’ critique group. Instead\, it’s a simple in-person gathering where we come together to share poems that move us\, comfort us\, surprise us\, or make us think. Bring a poem you love and a few words about why it speaks to you — or simply come to listen and enjoy the company of others who appreciate the magic of poetry. \nNo pressure … no preparation … no expectations. \nJust people\, poems\, and a peaceful moment in community.
URL:https://uuspokane.org/event/poetry-sharing-circle-2/2030-10-13/
LOCATION:Chapel
CATEGORIES:Adult Enrichment
ORGANIZER;CN="Lynn Jinishian":MAILTO:jinishian@comcast.net
END:VEVENT
BEGIN:VEVENT
DTSTART;TZID=America/Los_Angeles:20301017T130000
DTEND;TZID=America/Los_Angeles:20301017T150000
DTSTAMP:20260425T062159
CREATED:20250925T231947Z
LAST-MODIFIED:20250925T231947Z
UID:10003631-1918472400-1918479600@uuspokane.org
SUMMARY:Third Thursday Book Group
DESCRIPTION:
URL:https://uuspokane.org/event/third-thursday-book-group/2030-10-17/
LOCATION:Offsite
CATEGORIES:Adult Enrichment
END:VEVENT
BEGIN:VEVENT
DTSTART;TZID=America/Los_Angeles:20301110T123000
DTEND;TZID=America/Los_Angeles:20301110T133000
DTSTAMP:20260425T062159
CREATED:20251120T162222Z
LAST-MODIFIED:20251120T162222Z
UID:10003640-1920544200-1920547800@uuspokane.org
SUMMARY:Poetry Sharing Circle
DESCRIPTION:Have you ever stumbled upon a poem — whether found in a book\, heard in passing\, or written yourself — that felt too meaningful to keep to yourself? Our Poetry Sharing Circle is a gentle\, welcoming hour created just for that. \nThis is not a workshop\, class\, or writers’ critique group. Instead\, it’s a simple in-person gathering where we come together to share poems that move us\, comfort us\, surprise us\, or make us think. Bring a poem you love and a few words about why it speaks to you — or simply come to listen and enjoy the company of others who appreciate the magic of poetry. \nNo pressure … no preparation … no expectations. \nJust people\, poems\, and a peaceful moment in community.
URL:https://uuspokane.org/event/poetry-sharing-circle-2/2030-11-10/
LOCATION:Chapel
CATEGORIES:Adult Enrichment
ORGANIZER;CN="Lynn Jinishian":MAILTO:jinishian@comcast.net
END:VEVENT
BEGIN:VEVENT
DTSTART;TZID=America/Los_Angeles:20301121T130000
DTEND;TZID=America/Los_Angeles:20301121T150000
DTSTAMP:20260425T062159
CREATED:20250925T231947Z
LAST-MODIFIED:20250925T231947Z
UID:10003660-1921496400-1921503600@uuspokane.org
SUMMARY:Third Thursday Book Group
DESCRIPTION:
URL:https://uuspokane.org/event/third-thursday-book-group/2030-11-21/
LOCATION:Offsite
CATEGORIES:Adult Enrichment
END:VEVENT
BEGIN:VEVENT
DTSTART;TZID=America/Los_Angeles:20301219T130000
DTEND;TZID=America/Los_Angeles:20301219T150000
DTSTAMP:20260425T062159
CREATED:20250925T231947Z
LAST-MODIFIED:20250925T231947Z
UID:10003891-1923915600-1923922800@uuspokane.org
SUMMARY:Third Thursday Book Group
DESCRIPTION:
URL:https://uuspokane.org/event/third-thursday-book-group/2030-12-19/
LOCATION:Offsite
CATEGORIES:Adult Enrichment
END:VEVENT
BEGIN:VEVENT
DTSTART;TZID=America/Los_Angeles:20310116T130000
DTEND;TZID=America/Los_Angeles:20310116T150000
DTSTAMP:20260425T062159
CREATED:20250925T231947Z
LAST-MODIFIED:20250925T231947Z
UID:10003995-1926334800-1926342000@uuspokane.org
SUMMARY:Third Thursday Book Group
DESCRIPTION:
URL:https://uuspokane.org/event/third-thursday-book-group/2031-01-16/
LOCATION:Offsite
CATEGORIES:Adult Enrichment
END:VEVENT
BEGIN:VEVENT
DTSTART;TZID=America/Los_Angeles:20310220T130000
DTEND;TZID=America/Los_Angeles:20310220T150000
DTSTAMP:20260425T062159
CREATED:20250925T231947Z
LAST-MODIFIED:20250925T231947Z
UID:10004048-1929358800-1929366000@uuspokane.org
SUMMARY:Third Thursday Book Group
DESCRIPTION:
URL:https://uuspokane.org/event/third-thursday-book-group/2031-02-20/
LOCATION:Offsite
CATEGORIES:Adult Enrichment
END:VEVENT
BEGIN:VEVENT
DTSTART;TZID=America/Los_Angeles:20310320T130000
DTEND;TZID=America/Los_Angeles:20310320T150000
DTSTAMP:20260425T062159
CREATED:20250925T231947Z
LAST-MODIFIED:20250925T231947Z
UID:10004333-1931778000-1931785200@uuspokane.org
SUMMARY:Third Thursday Book Group
DESCRIPTION:
URL:https://uuspokane.org/event/third-thursday-book-group/2031-03-20/
LOCATION:Offsite
CATEGORIES:Adult Enrichment
END:VEVENT
END:VCALENDAR