BEGIN:VCALENDAR
VERSION:2.0
PRODID:-//Unitarian Universalist Church of Spokane - ECPv6.15.20//NONSGML v1.0//EN
CALSCALE:GREGORIAN
METHOD:PUBLISH
X-ORIGINAL-URL:https://uuspokane.org
X-WR-CALDESC:Events for Unitarian Universalist Church of Spokane
REFRESH-INTERVAL;VALUE=DURATION:PT1H
X-Robots-Tag:noindex
X-PUBLISHED-TTL:PT1H
BEGIN:VTIMEZONE
TZID:America/Los_Angeles
BEGIN:DAYLIGHT
TZOFFSETFROM:-0800
TZOFFSETTO:-0700
TZNAME:PDT
DTSTART:20270314T100000
END:DAYLIGHT
BEGIN:STANDARD
TZOFFSETFROM:-0700
TZOFFSETTO:-0800
TZNAME:PST
DTSTART:20271107T090000
END:STANDARD
BEGIN:DAYLIGHT
TZOFFSETFROM:-0800
TZOFFSETTO:-0700
TZNAME:PDT
DTSTART:20280312T100000
END:DAYLIGHT
BEGIN:STANDARD
TZOFFSETFROM:-0700
TZOFFSETTO:-0800
TZNAME:PST
DTSTART:20281105T090000
END:STANDARD
BEGIN:DAYLIGHT
TZOFFSETFROM:-0800
TZOFFSETTO:-0700
TZNAME:PDT
DTSTART:20290311T100000
END:DAYLIGHT
BEGIN:STANDARD
TZOFFSETFROM:-0700
TZOFFSETTO:-0800
TZNAME:PST
DTSTART:20291104T090000
END:STANDARD
BEGIN:DAYLIGHT
TZOFFSETFROM:-0800
TZOFFSETTO:-0700
TZNAME:PDT
DTSTART:20300310T100000
END:DAYLIGHT
BEGIN:STANDARD
TZOFFSETFROM:-0700
TZOFFSETTO:-0800
TZNAME:PST
DTSTART:20301103T090000
END:STANDARD
END:VTIMEZONE
BEGIN:VEVENT
DTSTART;TZID=America/Los_Angeles:20280820T110000
DTEND;TZID=America/Los_Angeles:20280820T121500
DTSTAMP:20260425T094053
CREATED:20250924T194449Z
LAST-MODIFIED:20250925T235502Z
UID:10001440-1850382000-1850386500@uuspokane.org
SUMMARY:Childcare for Sunday Services
DESCRIPTION:
URL:https://uuspokane.org/event/childcare-for-sunday-services/2028-08-20/
LOCATION:Channing Room (Nursery)
CATEGORIES:Childcare
END:VEVENT
BEGIN:VEVENT
DTSTART;TZID=America/Los_Angeles:20280827T110000
DTEND;TZID=America/Los_Angeles:20280827T121500
DTSTAMP:20260425T094053
CREATED:20250924T194449Z
LAST-MODIFIED:20250925T235502Z
UID:10001441-1850986800-1850991300@uuspokane.org
SUMMARY:Childcare for Sunday Services
DESCRIPTION:
URL:https://uuspokane.org/event/childcare-for-sunday-services/2028-08-27/
LOCATION:Channing Room (Nursery)
CATEGORIES:Childcare
END:VEVENT
BEGIN:VEVENT
DTSTART;TZID=America/Los_Angeles:20280903T110000
DTEND;TZID=America/Los_Angeles:20280903T121500
DTSTAMP:20260425T094053
CREATED:20250924T194449Z
LAST-MODIFIED:20250925T235502Z
UID:10001442-1851591600-1851596100@uuspokane.org
SUMMARY:Childcare for Sunday Services
DESCRIPTION:
URL:https://uuspokane.org/event/childcare-for-sunday-services/2028-09-03/
LOCATION:Channing Room (Nursery)
CATEGORIES:Childcare
END:VEVENT
BEGIN:VEVENT
DTSTART;TZID=America/Los_Angeles:20280910T110000
DTEND;TZID=America/Los_Angeles:20280910T121500
DTSTAMP:20260425T094053
CREATED:20250924T194449Z
LAST-MODIFIED:20250925T235502Z
UID:10001443-1852196400-1852200900@uuspokane.org
SUMMARY:Childcare for Sunday Services
DESCRIPTION:
URL:https://uuspokane.org/event/childcare-for-sunday-services/2028-09-10/
LOCATION:Channing Room (Nursery)
CATEGORIES:Childcare
END:VEVENT
BEGIN:VEVENT
DTSTART;TZID=America/Los_Angeles:20280917T110000
DTEND;TZID=America/Los_Angeles:20280917T121500
DTSTAMP:20260425T094053
CREATED:20250924T194449Z
LAST-MODIFIED:20250925T235502Z
UID:10001444-1852801200-1852805700@uuspokane.org
SUMMARY:Childcare for Sunday Services
DESCRIPTION:
URL:https://uuspokane.org/event/childcare-for-sunday-services/2028-09-17/
LOCATION:Channing Room (Nursery)
CATEGORIES:Childcare
END:VEVENT
BEGIN:VEVENT
DTSTART;TZID=America/Los_Angeles:20280924T110000
DTEND;TZID=America/Los_Angeles:20280924T121500
DTSTAMP:20260425T094053
CREATED:20250924T194449Z
LAST-MODIFIED:20250925T235502Z
UID:10001445-1853406000-1853410500@uuspokane.org
SUMMARY:Childcare for Sunday Services
DESCRIPTION:
URL:https://uuspokane.org/event/childcare-for-sunday-services/2028-09-24/
LOCATION:Channing Room (Nursery)
CATEGORIES:Childcare
END:VEVENT
BEGIN:VEVENT
DTSTART;TZID=America/Los_Angeles:20281001T110000
DTEND;TZID=America/Los_Angeles:20281001T121500
DTSTAMP:20260425T094053
CREATED:20250924T194449Z
LAST-MODIFIED:20250925T235502Z
UID:10001446-1854010800-1854015300@uuspokane.org
SUMMARY:Childcare for Sunday Services
DESCRIPTION:
URL:https://uuspokane.org/event/childcare-for-sunday-services/2028-10-01/
LOCATION:Channing Room (Nursery)
CATEGORIES:Childcare
END:VEVENT
BEGIN:VEVENT
DTSTART;TZID=America/Los_Angeles:20281008T110000
DTEND;TZID=America/Los_Angeles:20281008T121500
DTSTAMP:20260425T094053
CREATED:20250924T194449Z
LAST-MODIFIED:20250925T235502Z
UID:10001447-1854615600-1854620100@uuspokane.org
SUMMARY:Childcare for Sunday Services
DESCRIPTION:
URL:https://uuspokane.org/event/childcare-for-sunday-services/2028-10-08/
LOCATION:Channing Room (Nursery)
CATEGORIES:Childcare
END:VEVENT
BEGIN:VEVENT
DTSTART;TZID=America/Los_Angeles:20281015T110000
DTEND;TZID=America/Los_Angeles:20281015T121500
DTSTAMP:20260425T094053
CREATED:20250924T194449Z
LAST-MODIFIED:20250925T235502Z
UID:10001448-1855220400-1855224900@uuspokane.org
SUMMARY:Childcare for Sunday Services
DESCRIPTION:
URL:https://uuspokane.org/event/childcare-for-sunday-services/2028-10-15/
LOCATION:Channing Room (Nursery)
CATEGORIES:Childcare
END:VEVENT
BEGIN:VEVENT
DTSTART;TZID=America/Los_Angeles:20281022T110000
DTEND;TZID=America/Los_Angeles:20281022T121500
DTSTAMP:20260425T094053
CREATED:20250924T194449Z
LAST-MODIFIED:20250925T235502Z
UID:10001449-1855825200-1855829700@uuspokane.org
SUMMARY:Childcare for Sunday Services
DESCRIPTION:
URL:https://uuspokane.org/event/childcare-for-sunday-services/2028-10-22/
LOCATION:Channing Room (Nursery)
CATEGORIES:Childcare
END:VEVENT
BEGIN:VEVENT
DTSTART;TZID=America/Los_Angeles:20281029T110000
DTEND;TZID=America/Los_Angeles:20281029T121500
DTSTAMP:20260425T094053
CREATED:20250924T194449Z
LAST-MODIFIED:20250925T235502Z
UID:10001450-1856430000-1856434500@uuspokane.org
SUMMARY:Childcare for Sunday Services
DESCRIPTION:
URL:https://uuspokane.org/event/childcare-for-sunday-services/2028-10-29/
LOCATION:Channing Room (Nursery)
CATEGORIES:Childcare
END:VEVENT
BEGIN:VEVENT
DTSTART;TZID=America/Los_Angeles:20281105T110000
DTEND;TZID=America/Los_Angeles:20281105T121500
DTSTAMP:20260425T094053
CREATED:20250924T194449Z
LAST-MODIFIED:20250925T235502Z
UID:10001451-1857034800-1857039300@uuspokane.org
SUMMARY:Childcare for Sunday Services
DESCRIPTION:
URL:https://uuspokane.org/event/childcare-for-sunday-services/2028-11-05/
LOCATION:Channing Room (Nursery)
CATEGORIES:Childcare
END:VEVENT
BEGIN:VEVENT
DTSTART;TZID=America/Los_Angeles:20281112T110000
DTEND;TZID=America/Los_Angeles:20281112T121500
DTSTAMP:20260425T094053
CREATED:20250924T194449Z
LAST-MODIFIED:20250925T235502Z
UID:10001452-1857639600-1857644100@uuspokane.org
SUMMARY:Childcare for Sunday Services
DESCRIPTION:
URL:https://uuspokane.org/event/childcare-for-sunday-services/2028-11-12/
LOCATION:Channing Room (Nursery)
CATEGORIES:Childcare
END:VEVENT
BEGIN:VEVENT
DTSTART;TZID=America/Los_Angeles:20281119T110000
DTEND;TZID=America/Los_Angeles:20281119T121500
DTSTAMP:20260425T094053
CREATED:20250924T194449Z
LAST-MODIFIED:20250925T235502Z
UID:10001453-1858244400-1858248900@uuspokane.org
SUMMARY:Childcare for Sunday Services
DESCRIPTION:
URL:https://uuspokane.org/event/childcare-for-sunday-services/2028-11-19/
LOCATION:Channing Room (Nursery)
CATEGORIES:Childcare
END:VEVENT
BEGIN:VEVENT
DTSTART;TZID=America/Los_Angeles:20281126T110000
DTEND;TZID=America/Los_Angeles:20281126T121500
DTSTAMP:20260425T094053
CREATED:20250924T194449Z
LAST-MODIFIED:20250925T235502Z
UID:10001454-1858849200-1858853700@uuspokane.org
SUMMARY:Childcare for Sunday Services
DESCRIPTION:
URL:https://uuspokane.org/event/childcare-for-sunday-services/2028-11-26/
LOCATION:Channing Room (Nursery)
CATEGORIES:Childcare
END:VEVENT
BEGIN:VEVENT
DTSTART;TZID=America/Los_Angeles:20281203T110000
DTEND;TZID=America/Los_Angeles:20281203T121500
DTSTAMP:20260425T094053
CREATED:20250924T194449Z
LAST-MODIFIED:20250925T235502Z
UID:10001455-1859454000-1859458500@uuspokane.org
SUMMARY:Childcare for Sunday Services
DESCRIPTION:
URL:https://uuspokane.org/event/childcare-for-sunday-services/2028-12-03/
LOCATION:Channing Room (Nursery)
CATEGORIES:Childcare
END:VEVENT
BEGIN:VEVENT
DTSTART;TZID=America/Los_Angeles:20281210T110000
DTEND;TZID=America/Los_Angeles:20281210T121500
DTSTAMP:20260425T094053
CREATED:20250924T194449Z
LAST-MODIFIED:20250925T235502Z
UID:10001456-1860058800-1860063300@uuspokane.org
SUMMARY:Childcare for Sunday Services
DESCRIPTION:
URL:https://uuspokane.org/event/childcare-for-sunday-services/2028-12-10/
LOCATION:Channing Room (Nursery)
CATEGORIES:Childcare
END:VEVENT
BEGIN:VEVENT
DTSTART;TZID=America/Los_Angeles:20281217T110000
DTEND;TZID=America/Los_Angeles:20281217T121500
DTSTAMP:20260425T094053
CREATED:20250924T194449Z
LAST-MODIFIED:20250925T235502Z
UID:10001457-1860663600-1860668100@uuspokane.org
SUMMARY:Childcare for Sunday Services
DESCRIPTION:
URL:https://uuspokane.org/event/childcare-for-sunday-services/2028-12-17/
LOCATION:Channing Room (Nursery)
CATEGORIES:Childcare
END:VEVENT
BEGIN:VEVENT
DTSTART;TZID=America/Los_Angeles:20281224T110000
DTEND;TZID=America/Los_Angeles:20281224T121500
DTSTAMP:20260425T094053
CREATED:20250924T194449Z
LAST-MODIFIED:20250925T235502Z
UID:10001458-1861268400-1861272900@uuspokane.org
SUMMARY:Childcare for Sunday Services
DESCRIPTION:
URL:https://uuspokane.org/event/childcare-for-sunday-services/2028-12-24/
LOCATION:Channing Room (Nursery)
CATEGORIES:Childcare
END:VEVENT
BEGIN:VEVENT
DTSTART;TZID=America/Los_Angeles:20281231T110000
DTEND;TZID=America/Los_Angeles:20281231T121500
DTSTAMP:20260425T094053
CREATED:20250924T194449Z
LAST-MODIFIED:20250925T235502Z
UID:10001459-1861873200-1861877700@uuspokane.org
SUMMARY:Childcare for Sunday Services
DESCRIPTION:
URL:https://uuspokane.org/event/childcare-for-sunday-services/2028-12-31/
LOCATION:Channing Room (Nursery)
CATEGORIES:Childcare
END:VEVENT
BEGIN:VEVENT
DTSTART;TZID=America/Los_Angeles:20290107T110000
DTEND;TZID=America/Los_Angeles:20290107T121500
DTSTAMP:20260425T094053
CREATED:20250924T194449Z
LAST-MODIFIED:20250925T235502Z
UID:10001460-1862478000-1862482500@uuspokane.org
SUMMARY:Childcare for Sunday Services
DESCRIPTION:
URL:https://uuspokane.org/event/childcare-for-sunday-services/2029-01-07/
LOCATION:Channing Room (Nursery)
CATEGORIES:Childcare
END:VEVENT
BEGIN:VEVENT
DTSTART;TZID=America/Los_Angeles:20290114T110000
DTEND;TZID=America/Los_Angeles:20290114T121500
DTSTAMP:20260425T094053
CREATED:20250924T194449Z
LAST-MODIFIED:20250925T235502Z
UID:10001461-1863082800-1863087300@uuspokane.org
SUMMARY:Childcare for Sunday Services
DESCRIPTION:
URL:https://uuspokane.org/event/childcare-for-sunday-services/2029-01-14/
LOCATION:Channing Room (Nursery)
CATEGORIES:Childcare
END:VEVENT
BEGIN:VEVENT
DTSTART;TZID=America/Los_Angeles:20290121T110000
DTEND;TZID=America/Los_Angeles:20290121T121500
DTSTAMP:20260425T094053
CREATED:20250924T194449Z
LAST-MODIFIED:20250925T235502Z
UID:10001462-1863687600-1863692100@uuspokane.org
SUMMARY:Childcare for Sunday Services
DESCRIPTION:
URL:https://uuspokane.org/event/childcare-for-sunday-services/2029-01-21/
LOCATION:Channing Room (Nursery)
CATEGORIES:Childcare
END:VEVENT
BEGIN:VEVENT
DTSTART;TZID=America/Los_Angeles:20290128T110000
DTEND;TZID=America/Los_Angeles:20290128T121500
DTSTAMP:20260425T094053
CREATED:20250924T194449Z
LAST-MODIFIED:20250925T235502Z
UID:10001463-1864292400-1864296900@uuspokane.org
SUMMARY:Childcare for Sunday Services
DESCRIPTION:
URL:https://uuspokane.org/event/childcare-for-sunday-services/2029-01-28/
LOCATION:Channing Room (Nursery)
CATEGORIES:Childcare
END:VEVENT
BEGIN:VEVENT
DTSTART;TZID=America/Los_Angeles:20290204T110000
DTEND;TZID=America/Los_Angeles:20290204T121500
DTSTAMP:20260425T094053
CREATED:20250924T194449Z
LAST-MODIFIED:20250925T235502Z
UID:10001464-1864897200-1864901700@uuspokane.org
SUMMARY:Childcare for Sunday Services
DESCRIPTION:
URL:https://uuspokane.org/event/childcare-for-sunday-services/2029-02-04/
LOCATION:Channing Room (Nursery)
CATEGORIES:Childcare
END:VEVENT
BEGIN:VEVENT
DTSTART;TZID=America/Los_Angeles:20290211T110000
DTEND;TZID=America/Los_Angeles:20290211T121500
DTSTAMP:20260425T094053
CREATED:20250924T194449Z
LAST-MODIFIED:20250925T235502Z
UID:10001465-1865502000-1865506500@uuspokane.org
SUMMARY:Childcare for Sunday Services
DESCRIPTION:
URL:https://uuspokane.org/event/childcare-for-sunday-services/2029-02-11/
LOCATION:Channing Room (Nursery)
CATEGORIES:Childcare
END:VEVENT
BEGIN:VEVENT
DTSTART;TZID=America/Los_Angeles:20290218T110000
DTEND;TZID=America/Los_Angeles:20290218T121500
DTSTAMP:20260425T094053
CREATED:20250924T194449Z
LAST-MODIFIED:20250925T235502Z
UID:10001466-1866106800-1866111300@uuspokane.org
SUMMARY:Childcare for Sunday Services
DESCRIPTION:
URL:https://uuspokane.org/event/childcare-for-sunday-services/2029-02-18/
LOCATION:Channing Room (Nursery)
CATEGORIES:Childcare
END:VEVENT
BEGIN:VEVENT
DTSTART;TZID=America/Los_Angeles:20290225T110000
DTEND;TZID=America/Los_Angeles:20290225T121500
DTSTAMP:20260425T094053
CREATED:20250924T194449Z
LAST-MODIFIED:20250925T235502Z
UID:10001467-1866711600-1866716100@uuspokane.org
SUMMARY:Childcare for Sunday Services
DESCRIPTION:
URL:https://uuspokane.org/event/childcare-for-sunday-services/2029-02-25/
LOCATION:Channing Room (Nursery)
CATEGORIES:Childcare
END:VEVENT
BEGIN:VEVENT
DTSTART;TZID=America/Los_Angeles:20290304T110000
DTEND;TZID=America/Los_Angeles:20290304T121500
DTSTAMP:20260425T094053
CREATED:20250924T194449Z
LAST-MODIFIED:20250925T235502Z
UID:10001468-1867316400-1867320900@uuspokane.org
SUMMARY:Childcare for Sunday Services
DESCRIPTION:
URL:https://uuspokane.org/event/childcare-for-sunday-services/2029-03-04/
LOCATION:Channing Room (Nursery)
CATEGORIES:Childcare
END:VEVENT
BEGIN:VEVENT
DTSTART;TZID=America/Los_Angeles:20290311T110000
DTEND;TZID=America/Los_Angeles:20290311T121500
DTSTAMP:20260425T094053
CREATED:20250924T194449Z
LAST-MODIFIED:20250925T235502Z
UID:10001469-1867921200-1867925700@uuspokane.org
SUMMARY:Childcare for Sunday Services
DESCRIPTION:
URL:https://uuspokane.org/event/childcare-for-sunday-services/2029-03-11/
LOCATION:Channing Room (Nursery)
CATEGORIES:Childcare
END:VEVENT
END:VCALENDAR