BEGIN:VCALENDAR
VERSION:2.0
PRODID:-//Unitarian Universalist Church of Spokane - ECPv6.15.20//NONSGML v1.0//EN
CALSCALE:GREGORIAN
METHOD:PUBLISH
X-ORIGINAL-URL:https://uuspokane.org
X-WR-CALDESC:Events for Unitarian Universalist Church of Spokane
REFRESH-INTERVAL;VALUE=DURATION:PT1H
X-Robots-Tag:noindex
X-PUBLISHED-TTL:PT1H
BEGIN:VTIMEZONE
TZID:America/Los_Angeles
BEGIN:DAYLIGHT
TZOFFSETFROM:-0800
TZOFFSETTO:-0700
TZNAME:PDT
DTSTART:20290311T100000
END:DAYLIGHT
BEGIN:STANDARD
TZOFFSETFROM:-0700
TZOFFSETTO:-0800
TZNAME:PST
DTSTART:20291104T090000
END:STANDARD
BEGIN:DAYLIGHT
TZOFFSETFROM:-0800
TZOFFSETTO:-0700
TZNAME:PDT
DTSTART:20300310T100000
END:DAYLIGHT
BEGIN:STANDARD
TZOFFSETFROM:-0700
TZOFFSETTO:-0800
TZNAME:PST
DTSTART:20301103T090000
END:STANDARD
BEGIN:DAYLIGHT
TZOFFSETFROM:-0800
TZOFFSETTO:-0700
TZNAME:PDT
DTSTART:20310309T100000
END:DAYLIGHT
BEGIN:STANDARD
TZOFFSETFROM:-0700
TZOFFSETTO:-0800
TZNAME:PST
DTSTART:20311102T090000
END:STANDARD
END:VTIMEZONE
BEGIN:VEVENT
DTSTART;TZID=America/Los_Angeles:20300303T110000
DTEND;TZID=America/Los_Angeles:20300303T121500
DTSTAMP:20260425T041708
CREATED:20250924T194449Z
LAST-MODIFIED:20250925T235502Z
UID:10001520-1898766000-1898770500@uuspokane.org
SUMMARY:Childcare for Sunday Services
DESCRIPTION:
URL:https://uuspokane.org/event/childcare-for-sunday-services/2030-03-03/
LOCATION:Channing Room (Nursery)
CATEGORIES:Childcare
END:VEVENT
BEGIN:VEVENT
DTSTART;TZID=America/Los_Angeles:20300310T110000
DTEND;TZID=America/Los_Angeles:20300310T121500
DTSTAMP:20260425T041708
CREATED:20250924T194449Z
LAST-MODIFIED:20250925T235502Z
UID:10001521-1899370800-1899375300@uuspokane.org
SUMMARY:Childcare for Sunday Services
DESCRIPTION:
URL:https://uuspokane.org/event/childcare-for-sunday-services/2030-03-10/
LOCATION:Channing Room (Nursery)
CATEGORIES:Childcare
END:VEVENT
BEGIN:VEVENT
DTSTART;TZID=America/Los_Angeles:20300317T110000
DTEND;TZID=America/Los_Angeles:20300317T121500
DTSTAMP:20260425T041708
CREATED:20250924T194449Z
LAST-MODIFIED:20250925T235502Z
UID:10001522-1899975600-1899980100@uuspokane.org
SUMMARY:Childcare for Sunday Services
DESCRIPTION:
URL:https://uuspokane.org/event/childcare-for-sunday-services/2030-03-17/
LOCATION:Channing Room (Nursery)
CATEGORIES:Childcare
END:VEVENT
BEGIN:VEVENT
DTSTART;TZID=America/Los_Angeles:20300324T110000
DTEND;TZID=America/Los_Angeles:20300324T121500
DTSTAMP:20260425T041708
CREATED:20250924T194449Z
LAST-MODIFIED:20250925T235502Z
UID:10001523-1900580400-1900584900@uuspokane.org
SUMMARY:Childcare for Sunday Services
DESCRIPTION:
URL:https://uuspokane.org/event/childcare-for-sunday-services/2030-03-24/
LOCATION:Channing Room (Nursery)
CATEGORIES:Childcare
END:VEVENT
BEGIN:VEVENT
DTSTART;TZID=America/Los_Angeles:20300331T110000
DTEND;TZID=America/Los_Angeles:20300331T121500
DTSTAMP:20260425T041708
CREATED:20250924T194449Z
LAST-MODIFIED:20250925T235502Z
UID:10001524-1901185200-1901189700@uuspokane.org
SUMMARY:Childcare for Sunday Services
DESCRIPTION:
URL:https://uuspokane.org/event/childcare-for-sunday-services/2030-03-31/
LOCATION:Channing Room (Nursery)
CATEGORIES:Childcare
END:VEVENT
BEGIN:VEVENT
DTSTART;TZID=America/Los_Angeles:20300407T110000
DTEND;TZID=America/Los_Angeles:20300407T121500
DTSTAMP:20260425T041708
CREATED:20250924T194449Z
LAST-MODIFIED:20250925T235502Z
UID:10001525-1901790000-1901794500@uuspokane.org
SUMMARY:Childcare for Sunday Services
DESCRIPTION:
URL:https://uuspokane.org/event/childcare-for-sunday-services/2030-04-07/
LOCATION:Channing Room (Nursery)
CATEGORIES:Childcare
END:VEVENT
BEGIN:VEVENT
DTSTART;TZID=America/Los_Angeles:20300414T110000
DTEND;TZID=America/Los_Angeles:20300414T121500
DTSTAMP:20260425T041708
CREATED:20250924T194449Z
LAST-MODIFIED:20250925T235502Z
UID:10001526-1902394800-1902399300@uuspokane.org
SUMMARY:Childcare for Sunday Services
DESCRIPTION:
URL:https://uuspokane.org/event/childcare-for-sunday-services/2030-04-14/
LOCATION:Channing Room (Nursery)
CATEGORIES:Childcare
END:VEVENT
BEGIN:VEVENT
DTSTART;TZID=America/Los_Angeles:20300421T110000
DTEND;TZID=America/Los_Angeles:20300421T121500
DTSTAMP:20260425T041708
CREATED:20250924T194449Z
LAST-MODIFIED:20250925T235502Z
UID:10001527-1902999600-1903004100@uuspokane.org
SUMMARY:Childcare for Sunday Services
DESCRIPTION:
URL:https://uuspokane.org/event/childcare-for-sunday-services/2030-04-21/
LOCATION:Channing Room (Nursery)
CATEGORIES:Childcare
END:VEVENT
BEGIN:VEVENT
DTSTART;TZID=America/Los_Angeles:20300428T110000
DTEND;TZID=America/Los_Angeles:20300428T121500
DTSTAMP:20260425T041708
CREATED:20250924T194449Z
LAST-MODIFIED:20250925T235502Z
UID:10001528-1903604400-1903608900@uuspokane.org
SUMMARY:Childcare for Sunday Services
DESCRIPTION:
URL:https://uuspokane.org/event/childcare-for-sunday-services/2030-04-28/
LOCATION:Channing Room (Nursery)
CATEGORIES:Childcare
END:VEVENT
BEGIN:VEVENT
DTSTART;TZID=America/Los_Angeles:20300505T110000
DTEND;TZID=America/Los_Angeles:20300505T121500
DTSTAMP:20260425T041708
CREATED:20250924T194449Z
LAST-MODIFIED:20250925T235502Z
UID:10001529-1904209200-1904213700@uuspokane.org
SUMMARY:Childcare for Sunday Services
DESCRIPTION:
URL:https://uuspokane.org/event/childcare-for-sunday-services/2030-05-05/
LOCATION:Channing Room (Nursery)
CATEGORIES:Childcare
END:VEVENT
BEGIN:VEVENT
DTSTART;TZID=America/Los_Angeles:20300512T110000
DTEND;TZID=America/Los_Angeles:20300512T121500
DTSTAMP:20260425T041708
CREATED:20250924T194449Z
LAST-MODIFIED:20250925T235502Z
UID:10001530-1904814000-1904818500@uuspokane.org
SUMMARY:Childcare for Sunday Services
DESCRIPTION:
URL:https://uuspokane.org/event/childcare-for-sunday-services/2030-05-12/
LOCATION:Channing Room (Nursery)
CATEGORIES:Childcare
END:VEVENT
BEGIN:VEVENT
DTSTART;TZID=America/Los_Angeles:20300519T110000
DTEND;TZID=America/Los_Angeles:20300519T121500
DTSTAMP:20260425T041708
CREATED:20250924T194449Z
LAST-MODIFIED:20250925T235502Z
UID:10001531-1905418800-1905423300@uuspokane.org
SUMMARY:Childcare for Sunday Services
DESCRIPTION:
URL:https://uuspokane.org/event/childcare-for-sunday-services/2030-05-19/
LOCATION:Channing Room (Nursery)
CATEGORIES:Childcare
END:VEVENT
BEGIN:VEVENT
DTSTART;TZID=America/Los_Angeles:20300526T110000
DTEND;TZID=America/Los_Angeles:20300526T121500
DTSTAMP:20260425T041708
CREATED:20250924T194449Z
LAST-MODIFIED:20250925T235502Z
UID:10001532-1906023600-1906028100@uuspokane.org
SUMMARY:Childcare for Sunday Services
DESCRIPTION:
URL:https://uuspokane.org/event/childcare-for-sunday-services/2030-05-26/
LOCATION:Channing Room (Nursery)
CATEGORIES:Childcare
END:VEVENT
BEGIN:VEVENT
DTSTART;TZID=America/Los_Angeles:20300602T110000
DTEND;TZID=America/Los_Angeles:20300602T121500
DTSTAMP:20260425T041708
CREATED:20250924T194449Z
LAST-MODIFIED:20250925T235502Z
UID:10001533-1906628400-1906632900@uuspokane.org
SUMMARY:Childcare for Sunday Services
DESCRIPTION:
URL:https://uuspokane.org/event/childcare-for-sunday-services/2030-06-02/
LOCATION:Channing Room (Nursery)
CATEGORIES:Childcare
END:VEVENT
BEGIN:VEVENT
DTSTART;TZID=America/Los_Angeles:20300609T110000
DTEND;TZID=America/Los_Angeles:20300609T121500
DTSTAMP:20260425T041708
CREATED:20250924T194449Z
LAST-MODIFIED:20250925T235502Z
UID:10001534-1907233200-1907237700@uuspokane.org
SUMMARY:Childcare for Sunday Services
DESCRIPTION:
URL:https://uuspokane.org/event/childcare-for-sunday-services/2030-06-09/
LOCATION:Channing Room (Nursery)
CATEGORIES:Childcare
END:VEVENT
BEGIN:VEVENT
DTSTART;TZID=America/Los_Angeles:20300616T110000
DTEND;TZID=America/Los_Angeles:20300616T121500
DTSTAMP:20260425T041708
CREATED:20250924T194449Z
LAST-MODIFIED:20250925T235502Z
UID:10001535-1907838000-1907842500@uuspokane.org
SUMMARY:Childcare for Sunday Services
DESCRIPTION:
URL:https://uuspokane.org/event/childcare-for-sunday-services/2030-06-16/
LOCATION:Channing Room (Nursery)
CATEGORIES:Childcare
END:VEVENT
BEGIN:VEVENT
DTSTART;TZID=America/Los_Angeles:20300623T110000
DTEND;TZID=America/Los_Angeles:20300623T121500
DTSTAMP:20260425T041708
CREATED:20250924T194449Z
LAST-MODIFIED:20250925T235502Z
UID:10001536-1908442800-1908447300@uuspokane.org
SUMMARY:Childcare for Sunday Services
DESCRIPTION:
URL:https://uuspokane.org/event/childcare-for-sunday-services/2030-06-23/
LOCATION:Channing Room (Nursery)
CATEGORIES:Childcare
END:VEVENT
BEGIN:VEVENT
DTSTART;TZID=America/Los_Angeles:20300630T110000
DTEND;TZID=America/Los_Angeles:20300630T121500
DTSTAMP:20260425T041708
CREATED:20250924T194449Z
LAST-MODIFIED:20250925T235502Z
UID:10001537-1909047600-1909052100@uuspokane.org
SUMMARY:Childcare for Sunday Services
DESCRIPTION:
URL:https://uuspokane.org/event/childcare-for-sunday-services/2030-06-30/
LOCATION:Channing Room (Nursery)
CATEGORIES:Childcare
END:VEVENT
BEGIN:VEVENT
DTSTART;TZID=America/Los_Angeles:20300707T110000
DTEND;TZID=America/Los_Angeles:20300707T121500
DTSTAMP:20260425T041708
CREATED:20250924T194449Z
LAST-MODIFIED:20250925T235502Z
UID:10001538-1909652400-1909656900@uuspokane.org
SUMMARY:Childcare for Sunday Services
DESCRIPTION:
URL:https://uuspokane.org/event/childcare-for-sunday-services/2030-07-07/
LOCATION:Channing Room (Nursery)
CATEGORIES:Childcare
END:VEVENT
BEGIN:VEVENT
DTSTART;TZID=America/Los_Angeles:20300714T110000
DTEND;TZID=America/Los_Angeles:20300714T121500
DTSTAMP:20260425T041708
CREATED:20250924T194449Z
LAST-MODIFIED:20250925T235502Z
UID:10001539-1910257200-1910261700@uuspokane.org
SUMMARY:Childcare for Sunday Services
DESCRIPTION:
URL:https://uuspokane.org/event/childcare-for-sunday-services/2030-07-14/
LOCATION:Channing Room (Nursery)
CATEGORIES:Childcare
END:VEVENT
BEGIN:VEVENT
DTSTART;TZID=America/Los_Angeles:20300721T110000
DTEND;TZID=America/Los_Angeles:20300721T121500
DTSTAMP:20260425T041708
CREATED:20250924T194449Z
LAST-MODIFIED:20250925T235502Z
UID:10001540-1910862000-1910866500@uuspokane.org
SUMMARY:Childcare for Sunday Services
DESCRIPTION:
URL:https://uuspokane.org/event/childcare-for-sunday-services/2030-07-21/
LOCATION:Channing Room (Nursery)
CATEGORIES:Childcare
END:VEVENT
BEGIN:VEVENT
DTSTART;TZID=America/Los_Angeles:20300728T110000
DTEND;TZID=America/Los_Angeles:20300728T121500
DTSTAMP:20260425T041708
CREATED:20250924T194449Z
LAST-MODIFIED:20250925T235502Z
UID:10001541-1911466800-1911471300@uuspokane.org
SUMMARY:Childcare for Sunday Services
DESCRIPTION:
URL:https://uuspokane.org/event/childcare-for-sunday-services/2030-07-28/
LOCATION:Channing Room (Nursery)
CATEGORIES:Childcare
END:VEVENT
BEGIN:VEVENT
DTSTART;TZID=America/Los_Angeles:20300804T110000
DTEND;TZID=America/Los_Angeles:20300804T121500
DTSTAMP:20260425T041708
CREATED:20250924T194449Z
LAST-MODIFIED:20250925T235502Z
UID:10001542-1912071600-1912076100@uuspokane.org
SUMMARY:Childcare for Sunday Services
DESCRIPTION:
URL:https://uuspokane.org/event/childcare-for-sunday-services/2030-08-04/
LOCATION:Channing Room (Nursery)
CATEGORIES:Childcare
END:VEVENT
BEGIN:VEVENT
DTSTART;TZID=America/Los_Angeles:20300811T110000
DTEND;TZID=America/Los_Angeles:20300811T121500
DTSTAMP:20260425T041708
CREATED:20250924T194449Z
LAST-MODIFIED:20250925T235502Z
UID:10001543-1912676400-1912680900@uuspokane.org
SUMMARY:Childcare for Sunday Services
DESCRIPTION:
URL:https://uuspokane.org/event/childcare-for-sunday-services/2030-08-11/
LOCATION:Channing Room (Nursery)
CATEGORIES:Childcare
END:VEVENT
BEGIN:VEVENT
DTSTART;TZID=America/Los_Angeles:20300818T110000
DTEND;TZID=America/Los_Angeles:20300818T121500
DTSTAMP:20260425T041708
CREATED:20250924T194449Z
LAST-MODIFIED:20250925T235502Z
UID:10001544-1913281200-1913285700@uuspokane.org
SUMMARY:Childcare for Sunday Services
DESCRIPTION:
URL:https://uuspokane.org/event/childcare-for-sunday-services/2030-08-18/
LOCATION:Channing Room (Nursery)
CATEGORIES:Childcare
END:VEVENT
BEGIN:VEVENT
DTSTART;TZID=America/Los_Angeles:20300825T110000
DTEND;TZID=America/Los_Angeles:20300825T121500
DTSTAMP:20260425T041708
CREATED:20250924T194449Z
LAST-MODIFIED:20250925T235502Z
UID:10001545-1913886000-1913890500@uuspokane.org
SUMMARY:Childcare for Sunday Services
DESCRIPTION:
URL:https://uuspokane.org/event/childcare-for-sunday-services/2030-08-25/
LOCATION:Channing Room (Nursery)
CATEGORIES:Childcare
END:VEVENT
BEGIN:VEVENT
DTSTART;TZID=America/Los_Angeles:20300901T110000
DTEND;TZID=America/Los_Angeles:20300901T121500
DTSTAMP:20260425T041708
CREATED:20250924T194449Z
LAST-MODIFIED:20250925T235502Z
UID:10001546-1914490800-1914495300@uuspokane.org
SUMMARY:Childcare for Sunday Services
DESCRIPTION:
URL:https://uuspokane.org/event/childcare-for-sunday-services/2030-09-01/
LOCATION:Channing Room (Nursery)
CATEGORIES:Childcare
END:VEVENT
BEGIN:VEVENT
DTSTART;TZID=America/Los_Angeles:20300908T110000
DTEND;TZID=America/Los_Angeles:20300908T121500
DTSTAMP:20260425T041708
CREATED:20250924T194449Z
LAST-MODIFIED:20250925T235502Z
UID:10001547-1915095600-1915100100@uuspokane.org
SUMMARY:Childcare for Sunday Services
DESCRIPTION:
URL:https://uuspokane.org/event/childcare-for-sunday-services/2030-09-08/
LOCATION:Channing Room (Nursery)
CATEGORIES:Childcare
END:VEVENT
BEGIN:VEVENT
DTSTART;TZID=America/Los_Angeles:20300915T110000
DTEND;TZID=America/Los_Angeles:20300915T121500
DTSTAMP:20260425T041708
CREATED:20250924T194449Z
LAST-MODIFIED:20250925T235502Z
UID:10001548-1915700400-1915704900@uuspokane.org
SUMMARY:Childcare for Sunday Services
DESCRIPTION:
URL:https://uuspokane.org/event/childcare-for-sunday-services/2030-09-15/
LOCATION:Channing Room (Nursery)
CATEGORIES:Childcare
END:VEVENT
BEGIN:VEVENT
DTSTART;TZID=America/Los_Angeles:20300922T110000
DTEND;TZID=America/Los_Angeles:20300922T121500
DTSTAMP:20260425T041708
CREATED:20250924T194449Z
LAST-MODIFIED:20250925T235502Z
UID:10001549-1916305200-1916309700@uuspokane.org
SUMMARY:Childcare for Sunday Services
DESCRIPTION:
URL:https://uuspokane.org/event/childcare-for-sunday-services/2030-09-22/
LOCATION:Channing Room (Nursery)
CATEGORIES:Childcare
END:VEVENT
END:VCALENDAR