BEGIN:VCALENDAR
VERSION:2.0
PRODID:-//Unitarian Universalist Church of Spokane - ECPv6.15.20//NONSGML v1.0//EN
CALSCALE:GREGORIAN
METHOD:PUBLISH
X-ORIGINAL-URL:https://uuspokane.org
X-WR-CALDESC:Events for Unitarian Universalist Church of Spokane
REFRESH-INTERVAL;VALUE=DURATION:PT1H
X-Robots-Tag:noindex
X-PUBLISHED-TTL:PT1H
BEGIN:VTIMEZONE
TZID:America/Los_Angeles
BEGIN:DAYLIGHT
TZOFFSETFROM:-0800
TZOFFSETTO:-0700
TZNAME:PDT
DTSTART:20290311T100000
END:DAYLIGHT
BEGIN:STANDARD
TZOFFSETFROM:-0700
TZOFFSETTO:-0800
TZNAME:PST
DTSTART:20291104T090000
END:STANDARD
BEGIN:DAYLIGHT
TZOFFSETFROM:-0800
TZOFFSETTO:-0700
TZNAME:PDT
DTSTART:20300310T100000
END:DAYLIGHT
BEGIN:STANDARD
TZOFFSETFROM:-0700
TZOFFSETTO:-0800
TZNAME:PST
DTSTART:20301103T090000
END:STANDARD
BEGIN:DAYLIGHT
TZOFFSETFROM:-0800
TZOFFSETTO:-0700
TZNAME:PDT
DTSTART:20310309T100000
END:DAYLIGHT
BEGIN:STANDARD
TZOFFSETFROM:-0700
TZOFFSETTO:-0800
TZNAME:PST
DTSTART:20311102T090000
END:STANDARD
BEGIN:DAYLIGHT
TZOFFSETFROM:-0800
TZOFFSETTO:-0700
TZNAME:PDT
DTSTART:20320314T100000
END:DAYLIGHT
BEGIN:STANDARD
TZOFFSETFROM:-0700
TZOFFSETTO:-0800
TZNAME:PST
DTSTART:20321107T090000
END:STANDARD
END:VTIMEZONE
BEGIN:VEVENT
DTSTART;TZID=America/Los_Angeles:20300728T110000
DTEND;TZID=America/Los_Angeles:20300728T121500
DTSTAMP:20260425T090235
CREATED:20250924T194449Z
LAST-MODIFIED:20250925T235502Z
UID:10001541-1911466800-1911471300@uuspokane.org
SUMMARY:Childcare for Sunday Services
DESCRIPTION:
URL:https://uuspokane.org/event/childcare-for-sunday-services/2030-07-28/
LOCATION:Channing Room (Nursery)
CATEGORIES:Childcare
END:VEVENT
BEGIN:VEVENT
DTSTART;TZID=America/Los_Angeles:20300804T110000
DTEND;TZID=America/Los_Angeles:20300804T121500
DTSTAMP:20260425T090235
CREATED:20250924T194449Z
LAST-MODIFIED:20250925T235502Z
UID:10001542-1912071600-1912076100@uuspokane.org
SUMMARY:Childcare for Sunday Services
DESCRIPTION:
URL:https://uuspokane.org/event/childcare-for-sunday-services/2030-08-04/
LOCATION:Channing Room (Nursery)
CATEGORIES:Childcare
END:VEVENT
BEGIN:VEVENT
DTSTART;TZID=America/Los_Angeles:20300811T110000
DTEND;TZID=America/Los_Angeles:20300811T121500
DTSTAMP:20260425T090235
CREATED:20250924T194449Z
LAST-MODIFIED:20250925T235502Z
UID:10001543-1912676400-1912680900@uuspokane.org
SUMMARY:Childcare for Sunday Services
DESCRIPTION:
URL:https://uuspokane.org/event/childcare-for-sunday-services/2030-08-11/
LOCATION:Channing Room (Nursery)
CATEGORIES:Childcare
END:VEVENT
BEGIN:VEVENT
DTSTART;TZID=America/Los_Angeles:20300818T110000
DTEND;TZID=America/Los_Angeles:20300818T121500
DTSTAMP:20260425T090235
CREATED:20250924T194449Z
LAST-MODIFIED:20250925T235502Z
UID:10001544-1913281200-1913285700@uuspokane.org
SUMMARY:Childcare for Sunday Services
DESCRIPTION:
URL:https://uuspokane.org/event/childcare-for-sunday-services/2030-08-18/
LOCATION:Channing Room (Nursery)
CATEGORIES:Childcare
END:VEVENT
BEGIN:VEVENT
DTSTART;TZID=America/Los_Angeles:20300825T110000
DTEND;TZID=America/Los_Angeles:20300825T121500
DTSTAMP:20260425T090235
CREATED:20250924T194449Z
LAST-MODIFIED:20250925T235502Z
UID:10001545-1913886000-1913890500@uuspokane.org
SUMMARY:Childcare for Sunday Services
DESCRIPTION:
URL:https://uuspokane.org/event/childcare-for-sunday-services/2030-08-25/
LOCATION:Channing Room (Nursery)
CATEGORIES:Childcare
END:VEVENT
BEGIN:VEVENT
DTSTART;TZID=America/Los_Angeles:20300901T110000
DTEND;TZID=America/Los_Angeles:20300901T121500
DTSTAMP:20260425T090235
CREATED:20250924T194449Z
LAST-MODIFIED:20250925T235502Z
UID:10001546-1914490800-1914495300@uuspokane.org
SUMMARY:Childcare for Sunday Services
DESCRIPTION:
URL:https://uuspokane.org/event/childcare-for-sunday-services/2030-09-01/
LOCATION:Channing Room (Nursery)
CATEGORIES:Childcare
END:VEVENT
BEGIN:VEVENT
DTSTART;TZID=America/Los_Angeles:20300908T110000
DTEND;TZID=America/Los_Angeles:20300908T121500
DTSTAMP:20260425T090235
CREATED:20250924T194449Z
LAST-MODIFIED:20250925T235502Z
UID:10001547-1915095600-1915100100@uuspokane.org
SUMMARY:Childcare for Sunday Services
DESCRIPTION:
URL:https://uuspokane.org/event/childcare-for-sunday-services/2030-09-08/
LOCATION:Channing Room (Nursery)
CATEGORIES:Childcare
END:VEVENT
BEGIN:VEVENT
DTSTART;TZID=America/Los_Angeles:20300915T110000
DTEND;TZID=America/Los_Angeles:20300915T121500
DTSTAMP:20260425T090235
CREATED:20250924T194449Z
LAST-MODIFIED:20250925T235502Z
UID:10001548-1915700400-1915704900@uuspokane.org
SUMMARY:Childcare for Sunday Services
DESCRIPTION:
URL:https://uuspokane.org/event/childcare-for-sunday-services/2030-09-15/
LOCATION:Channing Room (Nursery)
CATEGORIES:Childcare
END:VEVENT
BEGIN:VEVENT
DTSTART;TZID=America/Los_Angeles:20300922T110000
DTEND;TZID=America/Los_Angeles:20300922T121500
DTSTAMP:20260425T090235
CREATED:20250924T194449Z
LAST-MODIFIED:20250925T235502Z
UID:10001549-1916305200-1916309700@uuspokane.org
SUMMARY:Childcare for Sunday Services
DESCRIPTION:
URL:https://uuspokane.org/event/childcare-for-sunday-services/2030-09-22/
LOCATION:Channing Room (Nursery)
CATEGORIES:Childcare
END:VEVENT
BEGIN:VEVENT
DTSTART;TZID=America/Los_Angeles:20300929T110000
DTEND;TZID=America/Los_Angeles:20300929T121500
DTSTAMP:20260425T090235
CREATED:20250924T194449Z
LAST-MODIFIED:20250925T235502Z
UID:10003650-1916910000-1916914500@uuspokane.org
SUMMARY:Childcare for Sunday Services
DESCRIPTION:
URL:https://uuspokane.org/event/childcare-for-sunday-services/2030-09-29/
LOCATION:Channing Room (Nursery)
CATEGORIES:Childcare
END:VEVENT
BEGIN:VEVENT
DTSTART;TZID=America/Los_Angeles:20301006T110000
DTEND;TZID=America/Los_Angeles:20301006T121500
DTSTAMP:20260425T090235
CREATED:20250924T194449Z
LAST-MODIFIED:20250925T235502Z
UID:10003651-1917514800-1917519300@uuspokane.org
SUMMARY:Childcare for Sunday Services
DESCRIPTION:
URL:https://uuspokane.org/event/childcare-for-sunday-services/2030-10-06/
LOCATION:Channing Room (Nursery)
CATEGORIES:Childcare
END:VEVENT
BEGIN:VEVENT
DTSTART;TZID=America/Los_Angeles:20301013T110000
DTEND;TZID=America/Los_Angeles:20301013T121500
DTSTAMP:20260425T090235
CREATED:20250924T194449Z
LAST-MODIFIED:20250925T235502Z
UID:10003652-1918119600-1918124100@uuspokane.org
SUMMARY:Childcare for Sunday Services
DESCRIPTION:
URL:https://uuspokane.org/event/childcare-for-sunday-services/2030-10-13/
LOCATION:Channing Room (Nursery)
CATEGORIES:Childcare
END:VEVENT
BEGIN:VEVENT
DTSTART;TZID=America/Los_Angeles:20301020T110000
DTEND;TZID=America/Los_Angeles:20301020T121500
DTSTAMP:20260425T090235
CREATED:20250924T194449Z
LAST-MODIFIED:20250925T235502Z
UID:10003653-1918724400-1918728900@uuspokane.org
SUMMARY:Childcare for Sunday Services
DESCRIPTION:
URL:https://uuspokane.org/event/childcare-for-sunday-services/2030-10-20/
LOCATION:Channing Room (Nursery)
CATEGORIES:Childcare
END:VEVENT
BEGIN:VEVENT
DTSTART;TZID=America/Los_Angeles:20301027T110000
DTEND;TZID=America/Los_Angeles:20301027T121500
DTSTAMP:20260425T090235
CREATED:20250924T194449Z
LAST-MODIFIED:20250925T235502Z
UID:10003654-1919329200-1919333700@uuspokane.org
SUMMARY:Childcare for Sunday Services
DESCRIPTION:
URL:https://uuspokane.org/event/childcare-for-sunday-services/2030-10-27/
LOCATION:Channing Room (Nursery)
CATEGORIES:Childcare
END:VEVENT
BEGIN:VEVENT
DTSTART;TZID=America/Los_Angeles:20301103T110000
DTEND;TZID=America/Los_Angeles:20301103T121500
DTSTAMP:20260425T090235
CREATED:20250924T194449Z
LAST-MODIFIED:20250925T235502Z
UID:10003655-1919934000-1919938500@uuspokane.org
SUMMARY:Childcare for Sunday Services
DESCRIPTION:
URL:https://uuspokane.org/event/childcare-for-sunday-services/2030-11-03/
LOCATION:Channing Room (Nursery)
CATEGORIES:Childcare
END:VEVENT
BEGIN:VEVENT
DTSTART;TZID=America/Los_Angeles:20301110T110000
DTEND;TZID=America/Los_Angeles:20301110T121500
DTSTAMP:20260425T090235
CREATED:20250924T194449Z
LAST-MODIFIED:20250925T235502Z
UID:10003656-1920538800-1920543300@uuspokane.org
SUMMARY:Childcare for Sunday Services
DESCRIPTION:
URL:https://uuspokane.org/event/childcare-for-sunday-services/2030-11-10/
LOCATION:Channing Room (Nursery)
CATEGORIES:Childcare
END:VEVENT
BEGIN:VEVENT
DTSTART;TZID=America/Los_Angeles:20301117T110000
DTEND;TZID=America/Los_Angeles:20301117T121500
DTSTAMP:20260425T090235
CREATED:20250924T194449Z
LAST-MODIFIED:20250925T235502Z
UID:10003657-1921143600-1921148100@uuspokane.org
SUMMARY:Childcare for Sunday Services
DESCRIPTION:
URL:https://uuspokane.org/event/childcare-for-sunday-services/2030-11-17/
LOCATION:Channing Room (Nursery)
CATEGORIES:Childcare
END:VEVENT
BEGIN:VEVENT
DTSTART;TZID=America/Los_Angeles:20301124T110000
DTEND;TZID=America/Los_Angeles:20301124T121500
DTSTAMP:20260425T090235
CREATED:20250924T194449Z
LAST-MODIFIED:20250925T235502Z
UID:10003658-1921748400-1921752900@uuspokane.org
SUMMARY:Childcare for Sunday Services
DESCRIPTION:
URL:https://uuspokane.org/event/childcare-for-sunday-services/2030-11-24/
LOCATION:Channing Room (Nursery)
CATEGORIES:Childcare
END:VEVENT
BEGIN:VEVENT
DTSTART;TZID=America/Los_Angeles:20301201T110000
DTEND;TZID=America/Los_Angeles:20301201T121500
DTSTAMP:20260425T090235
CREATED:20250924T194449Z
LAST-MODIFIED:20250925T235502Z
UID:10004364-1922353200-1922357700@uuspokane.org
SUMMARY:Childcare for Sunday Services
DESCRIPTION:
URL:https://uuspokane.org/event/childcare-for-sunday-services/2030-12-01/
LOCATION:Channing Room (Nursery)
CATEGORIES:Childcare
END:VEVENT
BEGIN:VEVENT
DTSTART;TZID=America/Los_Angeles:20301208T110000
DTEND;TZID=America/Los_Angeles:20301208T121500
DTSTAMP:20260425T090235
CREATED:20250924T194449Z
LAST-MODIFIED:20250925T235502Z
UID:10004365-1922958000-1922962500@uuspokane.org
SUMMARY:Childcare for Sunday Services
DESCRIPTION:
URL:https://uuspokane.org/event/childcare-for-sunday-services/2030-12-08/
LOCATION:Channing Room (Nursery)
CATEGORIES:Childcare
END:VEVENT
BEGIN:VEVENT
DTSTART;TZID=America/Los_Angeles:20301215T110000
DTEND;TZID=America/Los_Angeles:20301215T121500
DTSTAMP:20260425T090235
CREATED:20250924T194449Z
LAST-MODIFIED:20250925T235502Z
UID:10004366-1923562800-1923567300@uuspokane.org
SUMMARY:Childcare for Sunday Services
DESCRIPTION:
URL:https://uuspokane.org/event/childcare-for-sunday-services/2030-12-15/
LOCATION:Channing Room (Nursery)
CATEGORIES:Childcare
END:VEVENT
BEGIN:VEVENT
DTSTART;TZID=America/Los_Angeles:20301222T110000
DTEND;TZID=America/Los_Angeles:20301222T121500
DTSTAMP:20260425T090235
CREATED:20250924T194449Z
LAST-MODIFIED:20250925T235502Z
UID:10004367-1924167600-1924172100@uuspokane.org
SUMMARY:Childcare for Sunday Services
DESCRIPTION:
URL:https://uuspokane.org/event/childcare-for-sunday-services/2030-12-22/
LOCATION:Channing Room (Nursery)
CATEGORIES:Childcare
END:VEVENT
BEGIN:VEVENT
DTSTART;TZID=America/Los_Angeles:20301229T110000
DTEND;TZID=America/Los_Angeles:20301229T121500
DTSTAMP:20260425T090235
CREATED:20250924T194449Z
LAST-MODIFIED:20250925T235502Z
UID:10004368-1924772400-1924776900@uuspokane.org
SUMMARY:Childcare for Sunday Services
DESCRIPTION:
URL:https://uuspokane.org/event/childcare-for-sunday-services/2030-12-29/
LOCATION:Channing Room (Nursery)
CATEGORIES:Childcare
END:VEVENT
BEGIN:VEVENT
DTSTART;TZID=America/Los_Angeles:20310105T110000
DTEND;TZID=America/Los_Angeles:20310105T121500
DTSTAMP:20260425T090235
CREATED:20250924T194449Z
LAST-MODIFIED:20250925T235502Z
UID:10004369-1925377200-1925381700@uuspokane.org
SUMMARY:Childcare for Sunday Services
DESCRIPTION:
URL:https://uuspokane.org/event/childcare-for-sunday-services/2031-01-05/
LOCATION:Channing Room (Nursery)
CATEGORIES:Childcare
END:VEVENT
BEGIN:VEVENT
DTSTART;TZID=America/Los_Angeles:20310112T110000
DTEND;TZID=America/Los_Angeles:20310112T121500
DTSTAMP:20260425T090235
CREATED:20250924T194449Z
LAST-MODIFIED:20250925T235502Z
UID:10004370-1925982000-1925986500@uuspokane.org
SUMMARY:Childcare for Sunday Services
DESCRIPTION:
URL:https://uuspokane.org/event/childcare-for-sunday-services/2031-01-12/
LOCATION:Channing Room (Nursery)
CATEGORIES:Childcare
END:VEVENT
BEGIN:VEVENT
DTSTART;TZID=America/Los_Angeles:20310119T110000
DTEND;TZID=America/Los_Angeles:20310119T121500
DTSTAMP:20260425T090235
CREATED:20250924T194449Z
LAST-MODIFIED:20250925T235502Z
UID:10004371-1926586800-1926591300@uuspokane.org
SUMMARY:Childcare for Sunday Services
DESCRIPTION:
URL:https://uuspokane.org/event/childcare-for-sunday-services/2031-01-19/
LOCATION:Channing Room (Nursery)
CATEGORIES:Childcare
END:VEVENT
BEGIN:VEVENT
DTSTART;TZID=America/Los_Angeles:20310126T110000
DTEND;TZID=America/Los_Angeles:20310126T121500
DTSTAMP:20260425T090235
CREATED:20250924T194449Z
LAST-MODIFIED:20250925T235502Z
UID:10004372-1927191600-1927196100@uuspokane.org
SUMMARY:Childcare for Sunday Services
DESCRIPTION:
URL:https://uuspokane.org/event/childcare-for-sunday-services/2031-01-26/
LOCATION:Channing Room (Nursery)
CATEGORIES:Childcare
END:VEVENT
BEGIN:VEVENT
DTSTART;TZID=America/Los_Angeles:20310202T110000
DTEND;TZID=America/Los_Angeles:20310202T121500
DTSTAMP:20260425T090235
CREATED:20250924T194449Z
LAST-MODIFIED:20250925T235502Z
UID:10004373-1927796400-1927800900@uuspokane.org
SUMMARY:Childcare for Sunday Services
DESCRIPTION:
URL:https://uuspokane.org/event/childcare-for-sunday-services/2031-02-02/
LOCATION:Channing Room (Nursery)
CATEGORIES:Childcare
END:VEVENT
BEGIN:VEVENT
DTSTART;TZID=America/Los_Angeles:20310209T110000
DTEND;TZID=America/Los_Angeles:20310209T121500
DTSTAMP:20260425T090235
CREATED:20250924T194449Z
LAST-MODIFIED:20250925T235502Z
UID:10004374-1928401200-1928405700@uuspokane.org
SUMMARY:Childcare for Sunday Services
DESCRIPTION:
URL:https://uuspokane.org/event/childcare-for-sunday-services/2031-02-09/
LOCATION:Channing Room (Nursery)
CATEGORIES:Childcare
END:VEVENT
BEGIN:VEVENT
DTSTART;TZID=America/Los_Angeles:20310216T110000
DTEND;TZID=America/Los_Angeles:20310216T121500
DTSTAMP:20260425T090235
CREATED:20250924T194449Z
LAST-MODIFIED:20250925T235502Z
UID:10004375-1929006000-1929010500@uuspokane.org
SUMMARY:Childcare for Sunday Services
DESCRIPTION:
URL:https://uuspokane.org/event/childcare-for-sunday-services/2031-02-16/
LOCATION:Channing Room (Nursery)
CATEGORIES:Childcare
END:VEVENT
END:VCALENDAR