BEGIN:VCALENDAR
VERSION:2.0
PRODID:-//Unitarian Universalist Church of Spokane - ECPv6.15.20//NONSGML v1.0//EN
CALSCALE:GREGORIAN
METHOD:PUBLISH
X-ORIGINAL-URL:https://uuspokane.org
X-WR-CALDESC:Events for Unitarian Universalist Church of Spokane
REFRESH-INTERVAL;VALUE=DURATION:PT1H
X-Robots-Tag:noindex
X-PUBLISHED-TTL:PT1H
BEGIN:VTIMEZONE
TZID:America/Los_Angeles
BEGIN:DAYLIGHT
TZOFFSETFROM:-0800
TZOFFSETTO:-0700
TZNAME:PDT
DTSTART:20300310T100000
END:DAYLIGHT
BEGIN:STANDARD
TZOFFSETFROM:-0700
TZOFFSETTO:-0800
TZNAME:PST
DTSTART:20301103T090000
END:STANDARD
BEGIN:DAYLIGHT
TZOFFSETFROM:-0800
TZOFFSETTO:-0700
TZNAME:PDT
DTSTART:20310309T100000
END:DAYLIGHT
BEGIN:STANDARD
TZOFFSETFROM:-0700
TZOFFSETTO:-0800
TZNAME:PST
DTSTART:20311102T090000
END:STANDARD
BEGIN:DAYLIGHT
TZOFFSETFROM:-0800
TZOFFSETTO:-0700
TZNAME:PDT
DTSTART:20320314T100000
END:DAYLIGHT
BEGIN:STANDARD
TZOFFSETFROM:-0700
TZOFFSETTO:-0800
TZNAME:PST
DTSTART:20321107T090000
END:STANDARD
END:VTIMEZONE
BEGIN:VEVENT
DTSTART;TZID=America/Los_Angeles:20310223T110000
DTEND;TZID=America/Los_Angeles:20310223T121500
DTSTAMP:20260425T045002
CREATED:20250924T194449Z
LAST-MODIFIED:20250925T235502Z
UID:10004376-1929610800-1929615300@uuspokane.org
SUMMARY:Childcare for Sunday Services
DESCRIPTION:
URL:https://uuspokane.org/event/childcare-for-sunday-services/2031-02-23/
LOCATION:Channing Room (Nursery)
CATEGORIES:Childcare
END:VEVENT
BEGIN:VEVENT
DTSTART;TZID=America/Los_Angeles:20310302T110000
DTEND;TZID=America/Los_Angeles:20310302T121500
DTSTAMP:20260425T045002
CREATED:20250924T194449Z
LAST-MODIFIED:20250925T235502Z
UID:10004377-1930215600-1930220100@uuspokane.org
SUMMARY:Childcare for Sunday Services
DESCRIPTION:
URL:https://uuspokane.org/event/childcare-for-sunday-services/2031-03-02/
LOCATION:Channing Room (Nursery)
CATEGORIES:Childcare
END:VEVENT
BEGIN:VEVENT
DTSTART;TZID=America/Los_Angeles:20310309T110000
DTEND;TZID=America/Los_Angeles:20310309T121500
DTSTAMP:20260425T045002
CREATED:20250924T194449Z
LAST-MODIFIED:20250925T235502Z
UID:10004378-1930820400-1930824900@uuspokane.org
SUMMARY:Childcare for Sunday Services
DESCRIPTION:
URL:https://uuspokane.org/event/childcare-for-sunday-services/2031-03-09/
LOCATION:Channing Room (Nursery)
CATEGORIES:Childcare
END:VEVENT
BEGIN:VEVENT
DTSTART;TZID=America/Los_Angeles:20310316T110000
DTEND;TZID=America/Los_Angeles:20310316T121500
DTSTAMP:20260425T045002
CREATED:20250924T194449Z
LAST-MODIFIED:20250925T235502Z
UID:10004379-1931425200-1931429700@uuspokane.org
SUMMARY:Childcare for Sunday Services
DESCRIPTION:
URL:https://uuspokane.org/event/childcare-for-sunday-services/2031-03-16/
LOCATION:Channing Room (Nursery)
CATEGORIES:Childcare
END:VEVENT
BEGIN:VEVENT
DTSTART;TZID=America/Los_Angeles:20310323T110000
DTEND;TZID=America/Los_Angeles:20310323T121500
DTSTAMP:20260425T045002
CREATED:20250924T194449Z
LAST-MODIFIED:20250925T235502Z
UID:10004380-1932030000-1932034500@uuspokane.org
SUMMARY:Childcare for Sunday Services
DESCRIPTION:
URL:https://uuspokane.org/event/childcare-for-sunday-services/2031-03-23/
LOCATION:Channing Room (Nursery)
CATEGORIES:Childcare
END:VEVENT
BEGIN:VEVENT
DTSTART;TZID=America/Los_Angeles:20310330T110000
DTEND;TZID=America/Los_Angeles:20310330T121500
DTSTAMP:20260425T045002
CREATED:20250924T194449Z
LAST-MODIFIED:20250925T235502Z
UID:10004381-1932634800-1932639300@uuspokane.org
SUMMARY:Childcare for Sunday Services
DESCRIPTION:
URL:https://uuspokane.org/event/childcare-for-sunday-services/2031-03-30/
LOCATION:Channing Room (Nursery)
CATEGORIES:Childcare
END:VEVENT
BEGIN:VEVENT
DTSTART;TZID=America/Los_Angeles:20310406T110000
DTEND;TZID=America/Los_Angeles:20310406T121500
DTSTAMP:20260425T045002
CREATED:20250924T194449Z
LAST-MODIFIED:20250925T235502Z
UID:10004382-1933239600-1933244100@uuspokane.org
SUMMARY:Childcare for Sunday Services
DESCRIPTION:
URL:https://uuspokane.org/event/childcare-for-sunday-services/2031-04-06/
LOCATION:Channing Room (Nursery)
CATEGORIES:Childcare
END:VEVENT
BEGIN:VEVENT
DTSTART;TZID=America/Los_Angeles:20310413T110000
DTEND;TZID=America/Los_Angeles:20310413T121500
DTSTAMP:20260425T045002
CREATED:20250924T194449Z
LAST-MODIFIED:20250925T235502Z
UID:10004383-1933844400-1933848900@uuspokane.org
SUMMARY:Childcare for Sunday Services
DESCRIPTION:
URL:https://uuspokane.org/event/childcare-for-sunday-services/2031-04-13/
LOCATION:Channing Room (Nursery)
CATEGORIES:Childcare
END:VEVENT
BEGIN:VEVENT
DTSTART;TZID=America/Los_Angeles:20310420T110000
DTEND;TZID=America/Los_Angeles:20310420T121500
DTSTAMP:20260425T045002
CREATED:20250924T194449Z
LAST-MODIFIED:20250925T235502Z
UID:10004384-1934449200-1934453700@uuspokane.org
SUMMARY:Childcare for Sunday Services
DESCRIPTION:
URL:https://uuspokane.org/event/childcare-for-sunday-services/2031-04-20/
LOCATION:Channing Room (Nursery)
CATEGORIES:Childcare
END:VEVENT
END:VCALENDAR