BEGIN:VCALENDAR
VERSION:2.0
PRODID:-//Unitarian Universalist Church of Spokane - ECPv6.15.20//NONSGML v1.0//EN
CALSCALE:GREGORIAN
METHOD:PUBLISH
X-ORIGINAL-URL:https://uuspokane.org
X-WR-CALDESC:Events for Unitarian Universalist Church of Spokane
REFRESH-INTERVAL;VALUE=DURATION:PT1H
X-Robots-Tag:noindex
X-PUBLISHED-TTL:PT1H
BEGIN:VTIMEZONE
TZID:America/Los_Angeles
BEGIN:DAYLIGHT
TZOFFSETFROM:-0800
TZOFFSETTO:-0700
TZNAME:PDT
DTSTART:20240310T100000
END:DAYLIGHT
BEGIN:STANDARD
TZOFFSETFROM:-0700
TZOFFSETTO:-0800
TZNAME:PST
DTSTART:20241103T090000
END:STANDARD
BEGIN:DAYLIGHT
TZOFFSETFROM:-0800
TZOFFSETTO:-0700
TZNAME:PDT
DTSTART:20250309T100000
END:DAYLIGHT
BEGIN:STANDARD
TZOFFSETFROM:-0700
TZOFFSETTO:-0800
TZNAME:PST
DTSTART:20251102T090000
END:STANDARD
BEGIN:DAYLIGHT
TZOFFSETFROM:-0800
TZOFFSETTO:-0700
TZNAME:PDT
DTSTART:20260308T100000
END:DAYLIGHT
BEGIN:STANDARD
TZOFFSETFROM:-0700
TZOFFSETTO:-0800
TZNAME:PST
DTSTART:20261101T090000
END:STANDARD
END:VTIMEZONE
BEGIN:VEVENT
DTSTART;TZID=America/Los_Angeles:20251207T110000
DTEND;TZID=America/Los_Angeles:20251207T121500
DTSTAMP:20260423T163756
CREATED:20250924T194449Z
LAST-MODIFIED:20250925T235502Z
UID:10001299-1765105200-1765109700@uuspokane.org
SUMMARY:Childcare for Sunday Services
DESCRIPTION:
URL:https://uuspokane.org/event/childcare-for-sunday-services/2025-12-07/
LOCATION:Channing Room (Nursery)
CATEGORIES:Childcare
END:VEVENT
BEGIN:VEVENT
DTSTART;TZID=America/Los_Angeles:20251130T110000
DTEND;TZID=America/Los_Angeles:20251130T121500
DTSTAMP:20260423T163756
CREATED:20250924T194449Z
LAST-MODIFIED:20250925T235502Z
UID:10001298-1764500400-1764504900@uuspokane.org
SUMMARY:Childcare for Sunday Services
DESCRIPTION:
URL:https://uuspokane.org/event/childcare-for-sunday-services/2025-11-30/
LOCATION:Channing Room (Nursery)
CATEGORIES:Childcare
END:VEVENT
BEGIN:VEVENT
DTSTART;TZID=America/Los_Angeles:20251123T110000
DTEND;TZID=America/Los_Angeles:20251123T121500
DTSTAMP:20260423T163756
CREATED:20250924T194449Z
LAST-MODIFIED:20250925T235502Z
UID:10001297-1763895600-1763900100@uuspokane.org
SUMMARY:Childcare for Sunday Services
DESCRIPTION:
URL:https://uuspokane.org/event/childcare-for-sunday-services/2025-11-23/
LOCATION:Channing Room (Nursery)
CATEGORIES:Childcare
END:VEVENT
BEGIN:VEVENT
DTSTART;TZID=America/Los_Angeles:20251116T110000
DTEND;TZID=America/Los_Angeles:20251116T121500
DTSTAMP:20260423T163756
CREATED:20250924T194449Z
LAST-MODIFIED:20250925T235502Z
UID:10001296-1763290800-1763295300@uuspokane.org
SUMMARY:Childcare for Sunday Services
DESCRIPTION:
URL:https://uuspokane.org/event/childcare-for-sunday-services/2025-11-16/
LOCATION:Channing Room (Nursery)
CATEGORIES:Childcare
END:VEVENT
BEGIN:VEVENT
DTSTART;TZID=America/Los_Angeles:20251109T110000
DTEND;TZID=America/Los_Angeles:20251109T121500
DTSTAMP:20260423T163756
CREATED:20250924T194449Z
LAST-MODIFIED:20250925T235502Z
UID:10001295-1762686000-1762690500@uuspokane.org
SUMMARY:Childcare for Sunday Services
DESCRIPTION:
URL:https://uuspokane.org/event/childcare-for-sunday-services/2025-11-09/
LOCATION:Channing Room (Nursery)
CATEGORIES:Childcare
END:VEVENT
BEGIN:VEVENT
DTSTART;TZID=America/Los_Angeles:20251102T110000
DTEND;TZID=America/Los_Angeles:20251102T121500
DTSTAMP:20260423T163756
CREATED:20250924T194449Z
LAST-MODIFIED:20250925T235502Z
UID:10001294-1762081200-1762085700@uuspokane.org
SUMMARY:Childcare for Sunday Services
DESCRIPTION:
URL:https://uuspokane.org/event/childcare-for-sunday-services/2025-11-02/
LOCATION:Channing Room (Nursery)
CATEGORIES:Childcare
END:VEVENT
BEGIN:VEVENT
DTSTART;TZID=America/Los_Angeles:20251026T110000
DTEND;TZID=America/Los_Angeles:20251026T121500
DTSTAMP:20260423T163756
CREATED:20250924T194449Z
LAST-MODIFIED:20250925T235502Z
UID:10001293-1761476400-1761480900@uuspokane.org
SUMMARY:Childcare for Sunday Services
DESCRIPTION:
URL:https://uuspokane.org/event/childcare-for-sunday-services/2025-10-26/
LOCATION:Channing Room (Nursery)
CATEGORIES:Childcare
END:VEVENT
BEGIN:VEVENT
DTSTART;TZID=America/Los_Angeles:20251024T173000
DTEND;TZID=America/Los_Angeles:20251024T200000
DTSTAMP:20260423T163756
CREATED:20250925T180459Z
LAST-MODIFIED:20250925T180459Z
UID:10002929-1761327000-1761336000@uuspokane.org
SUMMARY:Parent's Night Out
DESCRIPTION:
URL:https://uuspokane.org/event/parents-night-out/
LOCATION:Thoreau Room
CATEGORIES:Childcare
ORGANIZER;CN="Stephanie Gronholz":MAILTO:re@uuspokane.org
END:VEVENT
BEGIN:VEVENT
DTSTART;TZID=America/Los_Angeles:20251019T110000
DTEND;TZID=America/Los_Angeles:20251019T121500
DTSTAMP:20260423T163756
CREATED:20250924T194449Z
LAST-MODIFIED:20250925T235502Z
UID:10001292-1760871600-1760876100@uuspokane.org
SUMMARY:Childcare for Sunday Services
DESCRIPTION:
URL:https://uuspokane.org/event/childcare-for-sunday-services/2025-10-19/
LOCATION:Channing Room (Nursery)
CATEGORIES:Childcare
END:VEVENT
BEGIN:VEVENT
DTSTART;TZID=America/Los_Angeles:20251012T110000
DTEND;TZID=America/Los_Angeles:20251012T121500
DTSTAMP:20260423T163756
CREATED:20250924T194449Z
LAST-MODIFIED:20250925T235502Z
UID:10001291-1760266800-1760271300@uuspokane.org
SUMMARY:Childcare for Sunday Services
DESCRIPTION:
URL:https://uuspokane.org/event/childcare-for-sunday-services/2025-10-12/
LOCATION:Channing Room (Nursery)
CATEGORIES:Childcare
END:VEVENT
BEGIN:VEVENT
DTSTART;TZID=America/Los_Angeles:20251005T090000
DTEND;TZID=America/Los_Angeles:20251005T233000
DTSTAMP:20260423T163756
CREATED:20250925T235805Z
LAST-MODIFIED:20250925T235805Z
UID:10003372-1759654800-1759707000@uuspokane.org
SUMMARY:Childcare for Sunday Service
DESCRIPTION:
URL:https://uuspokane.org/event/childcare-for-sunday-service/
LOCATION:Channing Room (Nursery)
CATEGORIES:Childcare
END:VEVENT
BEGIN:VEVENT
DTSTART;TZID=America/Los_Angeles:20250928T110000
DTEND;TZID=America/Los_Angeles:20250928T121500
DTSTAMP:20260423T163756
CREATED:20250924T194449Z
LAST-MODIFIED:20250925T235502Z
UID:10001289-1759057200-1759061700@uuspokane.org
SUMMARY:Childcare for Sunday Services
DESCRIPTION:
URL:https://uuspokane.org/event/childcare-for-sunday-services/2025-09-28/
LOCATION:Channing Room (Nursery)
CATEGORIES:Childcare
END:VEVENT
END:VCALENDAR