BEGIN:VCALENDAR
VERSION:2.0
PRODID:-//Unitarian Universalist Church of Spokane - ECPv6.15.20//NONSGML v1.0//EN
CALSCALE:GREGORIAN
METHOD:PUBLISH
X-ORIGINAL-URL:https://uuspokane.org
X-WR-CALDESC:Events for Unitarian Universalist Church of Spokane
REFRESH-INTERVAL;VALUE=DURATION:PT1H
X-Robots-Tag:noindex
X-PUBLISHED-TTL:PT1H
BEGIN:VTIMEZONE
TZID:America/Los_Angeles
BEGIN:DAYLIGHT
TZOFFSETFROM:-0800
TZOFFSETTO:-0700
TZNAME:PDT
DTSTART:20240310T100000
END:DAYLIGHT
BEGIN:STANDARD
TZOFFSETFROM:-0700
TZOFFSETTO:-0800
TZNAME:PST
DTSTART:20241103T090000
END:STANDARD
BEGIN:DAYLIGHT
TZOFFSETFROM:-0800
TZOFFSETTO:-0700
TZNAME:PDT
DTSTART:20250309T100000
END:DAYLIGHT
BEGIN:STANDARD
TZOFFSETFROM:-0700
TZOFFSETTO:-0800
TZNAME:PST
DTSTART:20251102T090000
END:STANDARD
BEGIN:DAYLIGHT
TZOFFSETFROM:-0800
TZOFFSETTO:-0700
TZNAME:PDT
DTSTART:20260308T100000
END:DAYLIGHT
BEGIN:STANDARD
TZOFFSETFROM:-0700
TZOFFSETTO:-0800
TZNAME:PST
DTSTART:20261101T090000
END:STANDARD
BEGIN:DAYLIGHT
TZOFFSETFROM:-0800
TZOFFSETTO:-0700
TZNAME:PDT
DTSTART:20270314T100000
END:DAYLIGHT
BEGIN:STANDARD
TZOFFSETFROM:-0700
TZOFFSETTO:-0800
TZNAME:PST
DTSTART:20271107T090000
END:STANDARD
END:VTIMEZONE
BEGIN:VEVENT
DTSTART;TZID=America/Los_Angeles:20260320T200000
DTEND;TZID=America/Los_Angeles:20260320T210000
DTSTAMP:20260423T141249
CREATED:20260303T191052Z
LAST-MODIFIED:20260303T191052Z
UID:10004050-1774036800-1774040400@uuspokane.org
SUMMARY:Jackie Sandberg Recital - Cleanup
DESCRIPTION:
URL:https://uuspokane.org/event/jackie-sandberg-recital-cleanup/
LOCATION:Sanctuary
CATEGORIES:Concert
ORGANIZER;CN="Jackie Sandberg":MAILTO:jackiesandbergpiano@gmail.com
END:VEVENT
BEGIN:VEVENT
DTSTART;TZID=America/Los_Angeles:20260320T180000
DTEND;TZID=America/Los_Angeles:20260320T200000
DTSTAMP:20260423T141249
CREATED:20260105T210849Z
LAST-MODIFIED:20260303T191117Z
UID:10003858-1774029600-1774036800@uuspokane.org
SUMMARY:Jackie Sandberg Recital
DESCRIPTION:UUCS pianist Jackie Sandberg will present a program of Bach\, Beethoven\, and original works. The recital will take place in the sanctuary and will begin at 6:00 p.m. There is a suggested donation of $20 for adults and free entry for those 18 years of age and younger. There will be both alcoholic and non-alcoholic refreshments available by donation\, which will support the church.
URL:https://uuspokane.org/event/jackie-sandberg-recital/
LOCATION:Sanctuary
CATEGORIES:Concert
ORGANIZER;CN="Jackie Sandberg":MAILTO:jackiesandbergpiano@gmail.com
END:VEVENT
BEGIN:VEVENT
DTSTART;TZID=America/Los_Angeles:20260320T170000
DTEND;TZID=America/Los_Angeles:20260320T180000
DTSTAMP:20260423T141249
CREATED:20260303T190934Z
LAST-MODIFIED:20260303T190934Z
UID:10004049-1774026000-1774029600@uuspokane.org
SUMMARY:Jackie Sandberg Recital - Set Up
DESCRIPTION:
URL:https://uuspokane.org/event/jackie-sandberg-recital-set-up/
LOCATION:Sanctuary
CATEGORIES:Concert
ORGANIZER;CN="Jackie Sandberg":MAILTO:jackiesandbergpiano@gmail.com
END:VEVENT
BEGIN:VEVENT
DTSTART;TZID=America/Los_Angeles:20251030T183000
DTEND;TZID=America/Los_Angeles:20251030T200000
DTSTAMP:20260423T141249
CREATED:20251001T182552Z
LAST-MODIFIED:20251120T173805Z
UID:10003443-1761849000-1761854400@uuspokane.org
SUMMARY:A Grateful\, but Slightly Belated Thank You!
DESCRIPTION:Before the memories of our Howl-O-Ween Concert and Dance drift too far into the autumn mist\, we want to extend our heartfelt thanks to the many people who helped make the evening such a spirited success. Our accompanist\, Jackie Sandberg\, along with Rachae Thomas and the rest of the band\, filled the sanctuary with wonderful music that kept the energy high and the dancers delighted. \nWe are also deeply grateful to the Hernandez family\, Tom Mosher\, and Dale and Jenny Avery\, Rebecca Adams and Michelle Caldwell for their invaluable help behind the scenes. Whether it was setting up\, cleaning up\, hauling\, organizing\, or simply stepping in wherever needed\, your efforts made the magic possible. \nBetter late than never — thank you all for bringing such joy\, talent\, and support to our community event. \nNancy Avery \n \nOur sanctuary was transformed into a lively lair of laughter\, music\, and mischief on October 30 for our Howl-O-Ween Concert and Dance. Nearly everyone arrived in costume—vampires\, witches\, pirates\, and all manner of ghoulish and glittering creatures filled the room. The atmosphere was warm and festive\, with the glow of candlelight and the sound of good music setting the tone for the evening. \nGuests enjoyed wine\, beer\, cider\, and plenty of snacks\, while conversations and laughter flowed as freely as the refreshments. The highlight of the night was the costume contest\, where creativity and humor were on full display. The top honor went to Jean Larson\, whose frightful hag costume earned her the title of Best in Show. \nIt was an evening of joy\, connection\, and community spirit—a true celebration of fun and fellowship. The enthusiasm from attendees was clear\, with many suggesting we make this an annual event. Judging by the smiles and dancing feet\, it seems we’ve started a new UU tradition! \n\n\n\n\n\n\n\n\n\n\n\n\n\n\n\n\n\n\n\n\n\n\n\n\n\n\n\n\n\n\n\n\n\n\n\n\n\n\n\n\n\n\n\n\n\n\n\n\n\n  \nGet ready for a Howl-O-Ween Jam Concert! \nDoors open at 6:00 \nJoin us for a frightfully fun evening featuring five fabulous musicians bringing their hauntingly good talents to the stage. Joining us from the beyond are UUs very own Rachae Thomas\, and Jackie Sandberg\, Olivia Brownlee\, Bob Marlowe\, and Dan Lane. \n🎟️ Tickets: $15 for one or $25 for two \nBeer and wine will be available for a cash purchase of a suggested donation of $5 each. \nNon-alcoholic drinks and light snacks will also be served. \nCostumes are strongly encouraged to create a wickedly festive ambiance—so come dressed to impress (or distress)! 👹 \nChildren are welcome\, so bring the whole family for a night of music\, laughter\, and Halloween magic!
URL:https://uuspokane.org/event/halloween-concert/
LOCATION:Friendship Hall
CATEGORIES:Concert
ORGANIZER;CN="Nancy Avery":MAILTO:NancyTavery@comcast.net
END:VEVENT
END:VCALENDAR