BEGIN:VCALENDAR
VERSION:2.0
PRODID:-//Unitarian Universalist Church of Spokane - ECPv6.15.20//NONSGML v1.0//EN
CALSCALE:GREGORIAN
METHOD:PUBLISH
X-ORIGINAL-URL:https://uuspokane.org
X-WR-CALDESC:Events for Unitarian Universalist Church of Spokane
REFRESH-INTERVAL;VALUE=DURATION:PT1H
X-Robots-Tag:noindex
X-PUBLISHED-TTL:PT1H
BEGIN:VTIMEZONE
TZID:America/Los_Angeles
BEGIN:DAYLIGHT
TZOFFSETFROM:-0800
TZOFFSETTO:-0700
TZNAME:PDT
DTSTART:20250309T100000
END:DAYLIGHT
BEGIN:STANDARD
TZOFFSETFROM:-0700
TZOFFSETTO:-0800
TZNAME:PST
DTSTART:20251102T090000
END:STANDARD
BEGIN:DAYLIGHT
TZOFFSETFROM:-0800
TZOFFSETTO:-0700
TZNAME:PDT
DTSTART:20260308T100000
END:DAYLIGHT
BEGIN:STANDARD
TZOFFSETFROM:-0700
TZOFFSETTO:-0800
TZNAME:PST
DTSTART:20261101T090000
END:STANDARD
BEGIN:DAYLIGHT
TZOFFSETFROM:-0800
TZOFFSETTO:-0700
TZNAME:PDT
DTSTART:20270314T100000
END:DAYLIGHT
BEGIN:STANDARD
TZOFFSETFROM:-0700
TZOFFSETTO:-0800
TZNAME:PST
DTSTART:20271107T090000
END:STANDARD
BEGIN:DAYLIGHT
TZOFFSETFROM:-0800
TZOFFSETTO:-0700
TZNAME:PDT
DTSTART:20280312T100000
END:DAYLIGHT
BEGIN:STANDARD
TZOFFSETFROM:-0700
TZOFFSETTO:-0800
TZNAME:PST
DTSTART:20281105T090000
END:STANDARD
BEGIN:DAYLIGHT
TZOFFSETFROM:-0800
TZOFFSETTO:-0700
TZNAME:PDT
DTSTART:20290311T100000
END:DAYLIGHT
BEGIN:STANDARD
TZOFFSETFROM:-0700
TZOFFSETTO:-0800
TZNAME:PST
DTSTART:20291104T090000
END:STANDARD
END:VTIMEZONE
BEGIN:VEVENT
DTSTART;TZID=America/Los_Angeles:20260508T170000
DTEND;TZID=America/Los_Angeles:20260508T183000
DTSTAMP:20260423T110340
CREATED:20260305T213814Z
LAST-MODIFIED:20260305T213814Z
UID:10004171-1778259600-1778265000@uuspokane.org
SUMMARY:Meaningful Movies - Set Up
DESCRIPTION:
URL:https://uuspokane.org/event/meaningful-movies-set-up-2/2026-05-08/
LOCATION:Friendship Hall
CATEGORIES:Event Set Up,Social Justice
ORGANIZER;CN="Barb Stuebing":MAILTO:barbstuebing@gmail.com
END:VEVENT
BEGIN:VEVENT
DTSTART;TZID=America/Los_Angeles:20260612T170000
DTEND;TZID=America/Los_Angeles:20260612T183000
DTSTAMP:20260423T110340
CREATED:20260305T213814Z
LAST-MODIFIED:20260305T213814Z
UID:10004172-1781283600-1781289000@uuspokane.org
SUMMARY:Meaningful Movies - Set Up
DESCRIPTION:
URL:https://uuspokane.org/event/meaningful-movies-set-up-2/2026-06-12/
LOCATION:Friendship Hall
CATEGORIES:Event Set Up,Social Justice
ORGANIZER;CN="Barb Stuebing":MAILTO:barbstuebing@gmail.com
END:VEVENT
BEGIN:VEVENT
DTSTART;TZID=America/Los_Angeles:20260710T170000
DTEND;TZID=America/Los_Angeles:20260710T183000
DTSTAMP:20260423T110340
CREATED:20260305T213814Z
LAST-MODIFIED:20260305T213814Z
UID:10004173-1783702800-1783708200@uuspokane.org
SUMMARY:Meaningful Movies - Set Up
DESCRIPTION:
URL:https://uuspokane.org/event/meaningful-movies-set-up-2/2026-07-10/
LOCATION:Friendship Hall
CATEGORIES:Event Set Up,Social Justice
ORGANIZER;CN="Barb Stuebing":MAILTO:barbstuebing@gmail.com
END:VEVENT
BEGIN:VEVENT
DTSTART;TZID=America/Los_Angeles:20260814T170000
DTEND;TZID=America/Los_Angeles:20260814T183000
DTSTAMP:20260423T110340
CREATED:20260305T213814Z
LAST-MODIFIED:20260305T213814Z
UID:10004174-1786726800-1786732200@uuspokane.org
SUMMARY:Meaningful Movies - Set Up
DESCRIPTION:
URL:https://uuspokane.org/event/meaningful-movies-set-up-2/2026-08-14/
LOCATION:Friendship Hall
CATEGORIES:Event Set Up,Social Justice
ORGANIZER;CN="Barb Stuebing":MAILTO:barbstuebing@gmail.com
END:VEVENT
BEGIN:VEVENT
DTSTART;TZID=America/Los_Angeles:20260911T170000
DTEND;TZID=America/Los_Angeles:20260911T183000
DTSTAMP:20260423T110340
CREATED:20260305T213814Z
LAST-MODIFIED:20260305T213814Z
UID:10004175-1789146000-1789151400@uuspokane.org
SUMMARY:Meaningful Movies - Set Up
DESCRIPTION:
URL:https://uuspokane.org/event/meaningful-movies-set-up-2/2026-09-11/
LOCATION:Friendship Hall
CATEGORIES:Event Set Up,Social Justice
ORGANIZER;CN="Barb Stuebing":MAILTO:barbstuebing@gmail.com
END:VEVENT
BEGIN:VEVENT
DTSTART;TZID=America/Los_Angeles:20261009T170000
DTEND;TZID=America/Los_Angeles:20261009T183000
DTSTAMP:20260423T110340
CREATED:20260305T213814Z
LAST-MODIFIED:20260305T213814Z
UID:10004176-1791565200-1791570600@uuspokane.org
SUMMARY:Meaningful Movies - Set Up
DESCRIPTION:
URL:https://uuspokane.org/event/meaningful-movies-set-up-2/2026-10-09/
LOCATION:Friendship Hall
CATEGORIES:Event Set Up,Social Justice
ORGANIZER;CN="Barb Stuebing":MAILTO:barbstuebing@gmail.com
END:VEVENT
BEGIN:VEVENT
DTSTART;TZID=America/Los_Angeles:20261113T170000
DTEND;TZID=America/Los_Angeles:20261113T183000
DTSTAMP:20260423T110340
CREATED:20260305T213814Z
LAST-MODIFIED:20260305T213814Z
UID:10004177-1794589200-1794594600@uuspokane.org
SUMMARY:Meaningful Movies - Set Up
DESCRIPTION:
URL:https://uuspokane.org/event/meaningful-movies-set-up-2/2026-11-13/
LOCATION:Friendship Hall
CATEGORIES:Event Set Up,Social Justice
ORGANIZER;CN="Barb Stuebing":MAILTO:barbstuebing@gmail.com
END:VEVENT
BEGIN:VEVENT
DTSTART;TZID=America/Los_Angeles:20261211T170000
DTEND;TZID=America/Los_Angeles:20261211T183000
DTSTAMP:20260423T110340
CREATED:20260305T213814Z
LAST-MODIFIED:20260305T213814Z
UID:10004178-1797008400-1797013800@uuspokane.org
SUMMARY:Meaningful Movies - Set Up
DESCRIPTION:
URL:https://uuspokane.org/event/meaningful-movies-set-up-2/2026-12-11/
LOCATION:Friendship Hall
CATEGORIES:Event Set Up,Social Justice
ORGANIZER;CN="Barb Stuebing":MAILTO:barbstuebing@gmail.com
END:VEVENT
BEGIN:VEVENT
DTSTART;TZID=America/Los_Angeles:20270108T170000
DTEND;TZID=America/Los_Angeles:20270108T183000
DTSTAMP:20260423T110340
CREATED:20260305T213814Z
LAST-MODIFIED:20260305T213814Z
UID:10004179-1799427600-1799433000@uuspokane.org
SUMMARY:Meaningful Movies - Set Up
DESCRIPTION:
URL:https://uuspokane.org/event/meaningful-movies-set-up-2/2027-01-08/
LOCATION:Friendship Hall
CATEGORIES:Event Set Up,Social Justice
ORGANIZER;CN="Barb Stuebing":MAILTO:barbstuebing@gmail.com
END:VEVENT
BEGIN:VEVENT
DTSTART;TZID=America/Los_Angeles:20270212T170000
DTEND;TZID=America/Los_Angeles:20270212T183000
DTSTAMP:20260423T110340
CREATED:20260305T213814Z
LAST-MODIFIED:20260305T213814Z
UID:10004180-1802451600-1802457000@uuspokane.org
SUMMARY:Meaningful Movies - Set Up
DESCRIPTION:
URL:https://uuspokane.org/event/meaningful-movies-set-up-2/2027-02-12/
LOCATION:Friendship Hall
CATEGORIES:Event Set Up,Social Justice
ORGANIZER;CN="Barb Stuebing":MAILTO:barbstuebing@gmail.com
END:VEVENT
BEGIN:VEVENT
DTSTART;TZID=America/Los_Angeles:20270312T170000
DTEND;TZID=America/Los_Angeles:20270312T183000
DTSTAMP:20260423T110340
CREATED:20260305T213814Z
LAST-MODIFIED:20260305T213814Z
UID:10004181-1804870800-1804876200@uuspokane.org
SUMMARY:Meaningful Movies - Set Up
DESCRIPTION:
URL:https://uuspokane.org/event/meaningful-movies-set-up-2/2027-03-12/
LOCATION:Friendship Hall
CATEGORIES:Event Set Up,Social Justice
ORGANIZER;CN="Barb Stuebing":MAILTO:barbstuebing@gmail.com
END:VEVENT
BEGIN:VEVENT
DTSTART;TZID=America/Los_Angeles:20270409T170000
DTEND;TZID=America/Los_Angeles:20270409T183000
DTSTAMP:20260423T110340
CREATED:20260305T213814Z
LAST-MODIFIED:20260305T213814Z
UID:10004182-1807290000-1807295400@uuspokane.org
SUMMARY:Meaningful Movies - Set Up
DESCRIPTION:
URL:https://uuspokane.org/event/meaningful-movies-set-up-2/2027-04-09/
LOCATION:Friendship Hall
CATEGORIES:Event Set Up,Social Justice
ORGANIZER;CN="Barb Stuebing":MAILTO:barbstuebing@gmail.com
END:VEVENT
BEGIN:VEVENT
DTSTART;TZID=America/Los_Angeles:20270514T170000
DTEND;TZID=America/Los_Angeles:20270514T183000
DTSTAMP:20260423T110340
CREATED:20260305T213814Z
LAST-MODIFIED:20260305T213814Z
UID:10004183-1810314000-1810319400@uuspokane.org
SUMMARY:Meaningful Movies - Set Up
DESCRIPTION:
URL:https://uuspokane.org/event/meaningful-movies-set-up-2/2027-05-14/
LOCATION:Friendship Hall
CATEGORIES:Event Set Up,Social Justice
ORGANIZER;CN="Barb Stuebing":MAILTO:barbstuebing@gmail.com
END:VEVENT
BEGIN:VEVENT
DTSTART;TZID=America/Los_Angeles:20270611T170000
DTEND;TZID=America/Los_Angeles:20270611T183000
DTSTAMP:20260423T110340
CREATED:20260305T213814Z
LAST-MODIFIED:20260305T213814Z
UID:10004184-1812733200-1812738600@uuspokane.org
SUMMARY:Meaningful Movies - Set Up
DESCRIPTION:
URL:https://uuspokane.org/event/meaningful-movies-set-up-2/2027-06-11/
LOCATION:Friendship Hall
CATEGORIES:Event Set Up,Social Justice
ORGANIZER;CN="Barb Stuebing":MAILTO:barbstuebing@gmail.com
END:VEVENT
BEGIN:VEVENT
DTSTART;TZID=America/Los_Angeles:20270709T170000
DTEND;TZID=America/Los_Angeles:20270709T183000
DTSTAMP:20260423T110340
CREATED:20260305T213814Z
LAST-MODIFIED:20260305T213814Z
UID:10004185-1815152400-1815157800@uuspokane.org
SUMMARY:Meaningful Movies - Set Up
DESCRIPTION:
URL:https://uuspokane.org/event/meaningful-movies-set-up-2/2027-07-09/
LOCATION:Friendship Hall
CATEGORIES:Event Set Up,Social Justice
ORGANIZER;CN="Barb Stuebing":MAILTO:barbstuebing@gmail.com
END:VEVENT
BEGIN:VEVENT
DTSTART;TZID=America/Los_Angeles:20270813T170000
DTEND;TZID=America/Los_Angeles:20270813T183000
DTSTAMP:20260423T110340
CREATED:20260305T213814Z
LAST-MODIFIED:20260305T213814Z
UID:10004186-1818176400-1818181800@uuspokane.org
SUMMARY:Meaningful Movies - Set Up
DESCRIPTION:
URL:https://uuspokane.org/event/meaningful-movies-set-up-2/2027-08-13/
LOCATION:Friendship Hall
CATEGORIES:Event Set Up,Social Justice
ORGANIZER;CN="Barb Stuebing":MAILTO:barbstuebing@gmail.com
END:VEVENT
BEGIN:VEVENT
DTSTART;TZID=America/Los_Angeles:20270910T170000
DTEND;TZID=America/Los_Angeles:20270910T183000
DTSTAMP:20260423T110340
CREATED:20260305T213814Z
LAST-MODIFIED:20260305T213814Z
UID:10004187-1820595600-1820601000@uuspokane.org
SUMMARY:Meaningful Movies - Set Up
DESCRIPTION:
URL:https://uuspokane.org/event/meaningful-movies-set-up-2/2027-09-10/
LOCATION:Friendship Hall
CATEGORIES:Event Set Up,Social Justice
ORGANIZER;CN="Barb Stuebing":MAILTO:barbstuebing@gmail.com
END:VEVENT
BEGIN:VEVENT
DTSTART;TZID=America/Los_Angeles:20271008T170000
DTEND;TZID=America/Los_Angeles:20271008T183000
DTSTAMP:20260423T110340
CREATED:20260305T213814Z
LAST-MODIFIED:20260305T213814Z
UID:10004188-1823014800-1823020200@uuspokane.org
SUMMARY:Meaningful Movies - Set Up
DESCRIPTION:
URL:https://uuspokane.org/event/meaningful-movies-set-up-2/2027-10-08/
LOCATION:Friendship Hall
CATEGORIES:Event Set Up,Social Justice
ORGANIZER;CN="Barb Stuebing":MAILTO:barbstuebing@gmail.com
END:VEVENT
BEGIN:VEVENT
DTSTART;TZID=America/Los_Angeles:20271112T170000
DTEND;TZID=America/Los_Angeles:20271112T183000
DTSTAMP:20260423T110340
CREATED:20260305T213814Z
LAST-MODIFIED:20260305T213814Z
UID:10004189-1826038800-1826044200@uuspokane.org
SUMMARY:Meaningful Movies - Set Up
DESCRIPTION:
URL:https://uuspokane.org/event/meaningful-movies-set-up-2/2027-11-12/
LOCATION:Friendship Hall
CATEGORIES:Event Set Up,Social Justice
ORGANIZER;CN="Barb Stuebing":MAILTO:barbstuebing@gmail.com
END:VEVENT
BEGIN:VEVENT
DTSTART;TZID=America/Los_Angeles:20271210T170000
DTEND;TZID=America/Los_Angeles:20271210T183000
DTSTAMP:20260423T110340
CREATED:20260305T213814Z
LAST-MODIFIED:20260305T213814Z
UID:10004190-1828458000-1828463400@uuspokane.org
SUMMARY:Meaningful Movies - Set Up
DESCRIPTION:
URL:https://uuspokane.org/event/meaningful-movies-set-up-2/2027-12-10/
LOCATION:Friendship Hall
CATEGORIES:Event Set Up,Social Justice
ORGANIZER;CN="Barb Stuebing":MAILTO:barbstuebing@gmail.com
END:VEVENT
BEGIN:VEVENT
DTSTART;TZID=America/Los_Angeles:20280114T170000
DTEND;TZID=America/Los_Angeles:20280114T183000
DTSTAMP:20260423T110340
CREATED:20260305T213814Z
LAST-MODIFIED:20260305T213814Z
UID:10004191-1831482000-1831487400@uuspokane.org
SUMMARY:Meaningful Movies - Set Up
DESCRIPTION:
URL:https://uuspokane.org/event/meaningful-movies-set-up-2/2028-01-14/
LOCATION:Friendship Hall
CATEGORIES:Event Set Up,Social Justice
ORGANIZER;CN="Barb Stuebing":MAILTO:barbstuebing@gmail.com
END:VEVENT
BEGIN:VEVENT
DTSTART;TZID=America/Los_Angeles:20280211T170000
DTEND;TZID=America/Los_Angeles:20280211T183000
DTSTAMP:20260423T110340
CREATED:20260305T213814Z
LAST-MODIFIED:20260305T213814Z
UID:10004192-1833901200-1833906600@uuspokane.org
SUMMARY:Meaningful Movies - Set Up
DESCRIPTION:
URL:https://uuspokane.org/event/meaningful-movies-set-up-2/2028-02-11/
LOCATION:Friendship Hall
CATEGORIES:Event Set Up,Social Justice
ORGANIZER;CN="Barb Stuebing":MAILTO:barbstuebing@gmail.com
END:VEVENT
BEGIN:VEVENT
DTSTART;TZID=America/Los_Angeles:20280310T170000
DTEND;TZID=America/Los_Angeles:20280310T183000
DTSTAMP:20260423T110340
CREATED:20260305T213814Z
LAST-MODIFIED:20260305T213814Z
UID:10004193-1836320400-1836325800@uuspokane.org
SUMMARY:Meaningful Movies - Set Up
DESCRIPTION:
URL:https://uuspokane.org/event/meaningful-movies-set-up-2/2028-03-10/
LOCATION:Friendship Hall
CATEGORIES:Event Set Up,Social Justice
ORGANIZER;CN="Barb Stuebing":MAILTO:barbstuebing@gmail.com
END:VEVENT
BEGIN:VEVENT
DTSTART;TZID=America/Los_Angeles:20280414T170000
DTEND;TZID=America/Los_Angeles:20280414T183000
DTSTAMP:20260423T110340
CREATED:20260305T213814Z
LAST-MODIFIED:20260305T213814Z
UID:10004194-1839344400-1839349800@uuspokane.org
SUMMARY:Meaningful Movies - Set Up
DESCRIPTION:
URL:https://uuspokane.org/event/meaningful-movies-set-up-2/2028-04-14/
LOCATION:Friendship Hall
CATEGORIES:Event Set Up,Social Justice
ORGANIZER;CN="Barb Stuebing":MAILTO:barbstuebing@gmail.com
END:VEVENT
BEGIN:VEVENT
DTSTART;TZID=America/Los_Angeles:20280512T170000
DTEND;TZID=America/Los_Angeles:20280512T183000
DTSTAMP:20260423T110340
CREATED:20260305T213814Z
LAST-MODIFIED:20260305T213814Z
UID:10004195-1841763600-1841769000@uuspokane.org
SUMMARY:Meaningful Movies - Set Up
DESCRIPTION:
URL:https://uuspokane.org/event/meaningful-movies-set-up-2/2028-05-12/
LOCATION:Friendship Hall
CATEGORIES:Event Set Up,Social Justice
ORGANIZER;CN="Barb Stuebing":MAILTO:barbstuebing@gmail.com
END:VEVENT
BEGIN:VEVENT
DTSTART;TZID=America/Los_Angeles:20280609T170000
DTEND;TZID=America/Los_Angeles:20280609T183000
DTSTAMP:20260423T110340
CREATED:20260305T213814Z
LAST-MODIFIED:20260305T213814Z
UID:10004196-1844182800-1844188200@uuspokane.org
SUMMARY:Meaningful Movies - Set Up
DESCRIPTION:
URL:https://uuspokane.org/event/meaningful-movies-set-up-2/2028-06-09/
LOCATION:Friendship Hall
CATEGORIES:Event Set Up,Social Justice
ORGANIZER;CN="Barb Stuebing":MAILTO:barbstuebing@gmail.com
END:VEVENT
BEGIN:VEVENT
DTSTART;TZID=America/Los_Angeles:20280714T170000
DTEND;TZID=America/Los_Angeles:20280714T183000
DTSTAMP:20260423T110340
CREATED:20260305T213814Z
LAST-MODIFIED:20260305T213814Z
UID:10004197-1847206800-1847212200@uuspokane.org
SUMMARY:Meaningful Movies - Set Up
DESCRIPTION:
URL:https://uuspokane.org/event/meaningful-movies-set-up-2/2028-07-14/
LOCATION:Friendship Hall
CATEGORIES:Event Set Up,Social Justice
ORGANIZER;CN="Barb Stuebing":MAILTO:barbstuebing@gmail.com
END:VEVENT
BEGIN:VEVENT
DTSTART;TZID=America/Los_Angeles:20280811T170000
DTEND;TZID=America/Los_Angeles:20280811T183000
DTSTAMP:20260423T110340
CREATED:20260305T213814Z
LAST-MODIFIED:20260305T213814Z
UID:10004198-1849626000-1849631400@uuspokane.org
SUMMARY:Meaningful Movies - Set Up
DESCRIPTION:
URL:https://uuspokane.org/event/meaningful-movies-set-up-2/2028-08-11/
LOCATION:Friendship Hall
CATEGORIES:Event Set Up,Social Justice
ORGANIZER;CN="Barb Stuebing":MAILTO:barbstuebing@gmail.com
END:VEVENT
BEGIN:VEVENT
DTSTART;TZID=America/Los_Angeles:20280908T170000
DTEND;TZID=America/Los_Angeles:20280908T183000
DTSTAMP:20260423T110340
CREATED:20260305T213814Z
LAST-MODIFIED:20260305T213814Z
UID:10004199-1852045200-1852050600@uuspokane.org
SUMMARY:Meaningful Movies - Set Up
DESCRIPTION:
URL:https://uuspokane.org/event/meaningful-movies-set-up-2/2028-09-08/
LOCATION:Friendship Hall
CATEGORIES:Event Set Up,Social Justice
ORGANIZER;CN="Barb Stuebing":MAILTO:barbstuebing@gmail.com
END:VEVENT
BEGIN:VEVENT
DTSTART;TZID=America/Los_Angeles:20281013T170000
DTEND;TZID=America/Los_Angeles:20281013T183000
DTSTAMP:20260423T110340
CREATED:20260305T213814Z
LAST-MODIFIED:20260305T213814Z
UID:10004200-1855069200-1855074600@uuspokane.org
SUMMARY:Meaningful Movies - Set Up
DESCRIPTION:
URL:https://uuspokane.org/event/meaningful-movies-set-up-2/2028-10-13/
LOCATION:Friendship Hall
CATEGORIES:Event Set Up,Social Justice
ORGANIZER;CN="Barb Stuebing":MAILTO:barbstuebing@gmail.com
END:VEVENT
END:VCALENDAR