BEGIN:VCALENDAR
VERSION:2.0
PRODID:-//Unitarian Universalist Church of Spokane - ECPv6.15.20//NONSGML v1.0//EN
CALSCALE:GREGORIAN
METHOD:PUBLISH
X-ORIGINAL-URL:https://uuspokane.org
X-WR-CALDESC:Events for Unitarian Universalist Church of Spokane
REFRESH-INTERVAL;VALUE=DURATION:PT1H
X-Robots-Tag:noindex
X-PUBLISHED-TTL:PT1H
BEGIN:VTIMEZONE
TZID:America/Los_Angeles
BEGIN:DAYLIGHT
TZOFFSETFROM:-0800
TZOFFSETTO:-0700
TZNAME:PDT
DTSTART:20290311T100000
END:DAYLIGHT
BEGIN:STANDARD
TZOFFSETFROM:-0700
TZOFFSETTO:-0800
TZNAME:PST
DTSTART:20291104T090000
END:STANDARD
BEGIN:DAYLIGHT
TZOFFSETFROM:-0800
TZOFFSETTO:-0700
TZNAME:PDT
DTSTART:20300310T100000
END:DAYLIGHT
BEGIN:STANDARD
TZOFFSETFROM:-0700
TZOFFSETTO:-0800
TZNAME:PST
DTSTART:20301103T090000
END:STANDARD
BEGIN:DAYLIGHT
TZOFFSETFROM:-0800
TZOFFSETTO:-0700
TZNAME:PDT
DTSTART:20310309T100000
END:DAYLIGHT
BEGIN:STANDARD
TZOFFSETFROM:-0700
TZOFFSETTO:-0800
TZNAME:PST
DTSTART:20311102T090000
END:STANDARD
BEGIN:DAYLIGHT
TZOFFSETFROM:-0800
TZOFFSETTO:-0700
TZNAME:PDT
DTSTART:20320314T100000
END:DAYLIGHT
BEGIN:STANDARD
TZOFFSETFROM:-0700
TZOFFSETTO:-0800
TZNAME:PST
DTSTART:20321107T090000
END:STANDARD
END:VTIMEZONE
BEGIN:VEVENT
DTSTART;TZID=America/Los_Angeles:20300608T083000
DTEND;TZID=America/Los_Angeles:20300608T103000
DTSTAMP:20260425T055447
CREATED:20250925T172416Z
LAST-MODIFIED:20251001T030203Z
UID:10002503-1907137800-1907145000@uuspokane.org
SUMMARY:UU Men's Group at Rockwood Retirement
DESCRIPTION:Please join us for breakfast and conversation in the Livingston Dining Area of the Summit building at the Rockwood South Hill Retirement Community \n\nQuestions? Contact Tom Mosher at 509-220-1879. \nTake me to a map of the location.
URL:https://uuspokane.org/event/uu-mens-group-at-rockwood-retirement/2030-06-08/
LOCATION:Offsite
CATEGORIES:Fellowship
END:VEVENT
BEGIN:VEVENT
DTSTART;TZID=America/Los_Angeles:20300612T113000
DTEND;TZID=America/Los_Angeles:20300612T123000
DTSTAMP:20260425T055447
CREATED:20250925T172123Z
LAST-MODIFIED:20250930T175456Z
UID:10002442-1907494200-1907497800@uuspokane.org
SUMMARY:UU Women 2nd Wednesday Lunch
DESCRIPTION:Location varies
URL:https://uuspokane.org/event/uu-women-2nd-wednesday-lunch/2030-06-12/
LOCATION:Offsite
CATEGORIES:Fellowship
END:VEVENT
BEGIN:VEVENT
DTSTART;TZID=America/Los_Angeles:20300616T123000
DTEND;TZID=America/Los_Angeles:20300616T140000
DTSTAMP:20260425T055447
CREATED:20260204T193727Z
LAST-MODIFIED:20260204T193727Z
UID:10003175-1907843400-1907848800@uuspokane.org
SUMMARY:Church Potluck
DESCRIPTION:
URL:https://uuspokane.org/event/church-potluck-5/2030-06-16/
LOCATION:Friendship Hall
CATEGORIES:Fellowship
END:VEVENT
BEGIN:VEVENT
DTSTART;TZID=America/Los_Angeles:20300710T113000
DTEND;TZID=America/Los_Angeles:20300710T123000
DTSTAMP:20260425T055447
CREATED:20250925T172123Z
LAST-MODIFIED:20250930T175456Z
UID:10002443-1909913400-1909917000@uuspokane.org
SUMMARY:UU Women 2nd Wednesday Lunch
DESCRIPTION:Location varies
URL:https://uuspokane.org/event/uu-women-2nd-wednesday-lunch/2030-07-10/
LOCATION:Offsite
CATEGORIES:Fellowship
END:VEVENT
BEGIN:VEVENT
DTSTART;TZID=America/Los_Angeles:20300713T083000
DTEND;TZID=America/Los_Angeles:20300713T103000
DTSTAMP:20260425T055447
CREATED:20250925T172416Z
LAST-MODIFIED:20251001T030203Z
UID:10002504-1910161800-1910169000@uuspokane.org
SUMMARY:UU Men's Group at Rockwood Retirement
DESCRIPTION:Please join us for breakfast and conversation in the Livingston Dining Area of the Summit building at the Rockwood South Hill Retirement Community \n\nQuestions? Contact Tom Mosher at 509-220-1879. \nTake me to a map of the location.
URL:https://uuspokane.org/event/uu-mens-group-at-rockwood-retirement/2030-07-13/
LOCATION:Offsite
CATEGORIES:Fellowship
END:VEVENT
BEGIN:VEVENT
DTSTART;TZID=America/Los_Angeles:20300721T123000
DTEND;TZID=America/Los_Angeles:20300721T140000
DTSTAMP:20260425T055447
CREATED:20260204T193727Z
LAST-MODIFIED:20260204T193727Z
UID:10003176-1910867400-1910872800@uuspokane.org
SUMMARY:Church Potluck
DESCRIPTION:
URL:https://uuspokane.org/event/church-potluck-5/2030-07-21/
LOCATION:Friendship Hall
CATEGORIES:Fellowship
END:VEVENT
BEGIN:VEVENT
DTSTART;TZID=America/Los_Angeles:20300810T083000
DTEND;TZID=America/Los_Angeles:20300810T103000
DTSTAMP:20260425T055447
CREATED:20250925T172416Z
LAST-MODIFIED:20251001T030203Z
UID:10002505-1912581000-1912588200@uuspokane.org
SUMMARY:UU Men's Group at Rockwood Retirement
DESCRIPTION:Please join us for breakfast and conversation in the Livingston Dining Area of the Summit building at the Rockwood South Hill Retirement Community \n\nQuestions? Contact Tom Mosher at 509-220-1879. \nTake me to a map of the location.
URL:https://uuspokane.org/event/uu-mens-group-at-rockwood-retirement/2030-08-10/
LOCATION:Offsite
CATEGORIES:Fellowship
END:VEVENT
BEGIN:VEVENT
DTSTART;TZID=America/Los_Angeles:20300814T113000
DTEND;TZID=America/Los_Angeles:20300814T123000
DTSTAMP:20260425T055447
CREATED:20250925T172123Z
LAST-MODIFIED:20250930T175456Z
UID:10002444-1912937400-1912941000@uuspokane.org
SUMMARY:UU Women 2nd Wednesday Lunch
DESCRIPTION:Location varies
URL:https://uuspokane.org/event/uu-women-2nd-wednesday-lunch/2030-08-14/
LOCATION:Offsite
CATEGORIES:Fellowship
END:VEVENT
BEGIN:VEVENT
DTSTART;TZID=America/Los_Angeles:20300818T123000
DTEND;TZID=America/Los_Angeles:20300818T140000
DTSTAMP:20260425T055447
CREATED:20260204T193727Z
LAST-MODIFIED:20260204T193727Z
UID:10003177-1913286600-1913292000@uuspokane.org
SUMMARY:Church Potluck
DESCRIPTION:
URL:https://uuspokane.org/event/church-potluck-5/2030-08-18/
LOCATION:Friendship Hall
CATEGORIES:Fellowship
END:VEVENT
BEGIN:VEVENT
DTSTART;TZID=America/Los_Angeles:20300911T113000
DTEND;TZID=America/Los_Angeles:20300911T123000
DTSTAMP:20260425T055447
CREATED:20250925T172123Z
LAST-MODIFIED:20250930T175456Z
UID:10002445-1915356600-1915360200@uuspokane.org
SUMMARY:UU Women 2nd Wednesday Lunch
DESCRIPTION:Location varies
URL:https://uuspokane.org/event/uu-women-2nd-wednesday-lunch/2030-09-11/
LOCATION:Offsite
CATEGORIES:Fellowship
END:VEVENT
BEGIN:VEVENT
DTSTART;TZID=America/Los_Angeles:20300914T083000
DTEND;TZID=America/Los_Angeles:20300914T103000
DTSTAMP:20260425T055447
CREATED:20250925T172416Z
LAST-MODIFIED:20251001T030203Z
UID:10002506-1915605000-1915612200@uuspokane.org
SUMMARY:UU Men's Group at Rockwood Retirement
DESCRIPTION:Please join us for breakfast and conversation in the Livingston Dining Area of the Summit building at the Rockwood South Hill Retirement Community \n\nQuestions? Contact Tom Mosher at 509-220-1879. \nTake me to a map of the location.
URL:https://uuspokane.org/event/uu-mens-group-at-rockwood-retirement/2030-09-14/
LOCATION:Offsite
CATEGORIES:Fellowship
END:VEVENT
BEGIN:VEVENT
DTSTART;TZID=America/Los_Angeles:20300915T123000
DTEND;TZID=America/Los_Angeles:20300915T140000
DTSTAMP:20260425T055447
CREATED:20260204T193727Z
LAST-MODIFIED:20260204T193727Z
UID:10003178-1915705800-1915711200@uuspokane.org
SUMMARY:Church Potluck
DESCRIPTION:
URL:https://uuspokane.org/event/church-potluck-5/2030-09-15/
LOCATION:Friendship Hall
CATEGORIES:Fellowship
END:VEVENT
BEGIN:VEVENT
DTSTART;TZID=America/Los_Angeles:20301009T113000
DTEND;TZID=America/Los_Angeles:20301009T123000
DTSTAMP:20260425T055447
CREATED:20250925T172123Z
LAST-MODIFIED:20250930T175456Z
UID:10003527-1917775800-1917779400@uuspokane.org
SUMMARY:UU Women 2nd Wednesday Lunch
DESCRIPTION:Location varies
URL:https://uuspokane.org/event/uu-women-2nd-wednesday-lunch/2030-10-09/
LOCATION:Offsite
CATEGORIES:Fellowship
END:VEVENT
BEGIN:VEVENT
DTSTART;TZID=America/Los_Angeles:20301020T123000
DTEND;TZID=America/Los_Angeles:20301020T140000
DTSTAMP:20260425T055447
CREATED:20260204T193727Z
LAST-MODIFIED:20260204T193727Z
UID:10003520-1918729800-1918735200@uuspokane.org
SUMMARY:Church Potluck
DESCRIPTION:
URL:https://uuspokane.org/event/church-potluck-5/2030-10-20/
LOCATION:Friendship Hall
CATEGORIES:Fellowship
END:VEVENT
BEGIN:VEVENT
DTSTART;TZID=America/Los_Angeles:20301113T113000
DTEND;TZID=America/Los_Angeles:20301113T123000
DTSTAMP:20260425T055447
CREATED:20250925T172123Z
LAST-MODIFIED:20250930T175456Z
UID:10003649-1920799800-1920803400@uuspokane.org
SUMMARY:UU Women 2nd Wednesday Lunch
DESCRIPTION:Location varies
URL:https://uuspokane.org/event/uu-women-2nd-wednesday-lunch/2030-11-13/
LOCATION:Offsite
CATEGORIES:Fellowship
END:VEVENT
BEGIN:VEVENT
DTSTART;TZID=America/Los_Angeles:20301117T123000
DTEND;TZID=America/Los_Angeles:20301117T140000
DTSTAMP:20260425T055447
CREATED:20260204T193727Z
LAST-MODIFIED:20260204T193727Z
UID:10003853-1921149000-1921154400@uuspokane.org
SUMMARY:Church Potluck
DESCRIPTION:
URL:https://uuspokane.org/event/church-potluck-5/2030-11-17/
LOCATION:Friendship Hall
CATEGORIES:Fellowship
END:VEVENT
BEGIN:VEVENT
DTSTART;TZID=America/Los_Angeles:20301211T113000
DTEND;TZID=America/Los_Angeles:20301211T123000
DTSTAMP:20260425T055447
CREATED:20250925T172123Z
LAST-MODIFIED:20250930T175456Z
UID:10003857-1923219000-1923222600@uuspokane.org
SUMMARY:UU Women 2nd Wednesday Lunch
DESCRIPTION:Location varies
URL:https://uuspokane.org/event/uu-women-2nd-wednesday-lunch/2030-12-11/
LOCATION:Offsite
CATEGORIES:Fellowship
END:VEVENT
BEGIN:VEVENT
DTSTART;TZID=America/Los_Angeles:20301215T123000
DTEND;TZID=America/Los_Angeles:20301215T140000
DTSTAMP:20260425T055447
CREATED:20260204T193727Z
LAST-MODIFIED:20260204T193727Z
UID:10003854-1923568200-1923573600@uuspokane.org
SUMMARY:Church Potluck
DESCRIPTION:
URL:https://uuspokane.org/event/church-potluck-5/2030-12-15/
LOCATION:Friendship Hall
CATEGORIES:Fellowship
END:VEVENT
BEGIN:VEVENT
DTSTART;TZID=America/Los_Angeles:20310108T113000
DTEND;TZID=America/Los_Angeles:20310108T123000
DTSTAMP:20260425T055447
CREATED:20250925T172123Z
LAST-MODIFIED:20250930T175456Z
UID:10003989-1925638200-1925641800@uuspokane.org
SUMMARY:UU Women 2nd Wednesday Lunch
DESCRIPTION:Location varies
URL:https://uuspokane.org/event/uu-women-2nd-wednesday-lunch/2031-01-08/
LOCATION:Offsite
CATEGORIES:Fellowship
END:VEVENT
BEGIN:VEVENT
DTSTART;TZID=America/Los_Angeles:20310119T123000
DTEND;TZID=America/Los_Angeles:20310119T140000
DTSTAMP:20260425T055447
CREATED:20260204T193727Z
LAST-MODIFIED:20260204T193727Z
UID:10003990-1926592200-1926597600@uuspokane.org
SUMMARY:Church Potluck
DESCRIPTION:
URL:https://uuspokane.org/event/church-potluck-5/2031-01-19/
LOCATION:Friendship Hall
CATEGORIES:Fellowship
END:VEVENT
BEGIN:VEVENT
DTSTART;TZID=America/Los_Angeles:20310212T113000
DTEND;TZID=America/Los_Angeles:20310212T123000
DTSTAMP:20260425T055447
CREATED:20250925T172123Z
LAST-MODIFIED:20250930T175456Z
UID:10004047-1928662200-1928665800@uuspokane.org
SUMMARY:UU Women 2nd Wednesday Lunch
DESCRIPTION:Location varies
URL:https://uuspokane.org/event/uu-women-2nd-wednesday-lunch/2031-02-12/
LOCATION:Offsite
CATEGORIES:Fellowship
END:VEVENT
BEGIN:VEVENT
DTSTART;TZID=America/Los_Angeles:20310216T123000
DTEND;TZID=America/Los_Angeles:20310216T140000
DTSTAMP:20260425T055447
CREATED:20260204T193727Z
LAST-MODIFIED:20260204T193727Z
UID:10004334-1929011400-1929016800@uuspokane.org
SUMMARY:Church Potluck
DESCRIPTION:
URL:https://uuspokane.org/event/church-potluck-5/2031-02-16/
LOCATION:Friendship Hall
CATEGORIES:Fellowship
END:VEVENT
BEGIN:VEVENT
DTSTART;TZID=America/Los_Angeles:20310312T113000
DTEND;TZID=America/Los_Angeles:20310312T123000
DTSTAMP:20260425T055447
CREATED:20250925T172123Z
LAST-MODIFIED:20250930T175456Z
UID:10004304-1931081400-1931085000@uuspokane.org
SUMMARY:UU Women 2nd Wednesday Lunch
DESCRIPTION:Location varies
URL:https://uuspokane.org/event/uu-women-2nd-wednesday-lunch/2031-03-12/
LOCATION:Offsite
CATEGORIES:Fellowship
END:VEVENT
BEGIN:VEVENT
DTSTART;TZID=America/Los_Angeles:20310316T123000
DTEND;TZID=America/Los_Angeles:20310316T140000
DTSTAMP:20260425T055447
CREATED:20260204T193727Z
LAST-MODIFIED:20260204T193727Z
UID:10004335-1931430600-1931436000@uuspokane.org
SUMMARY:Church Potluck
DESCRIPTION:
URL:https://uuspokane.org/event/church-potluck-5/2031-03-16/
LOCATION:Friendship Hall
CATEGORIES:Fellowship
END:VEVENT
END:VCALENDAR