BEGIN:VCALENDAR
VERSION:2.0
PRODID:-//Unitarian Universalist Church of Spokane - ECPv6.15.20//NONSGML v1.0//EN
CALSCALE:GREGORIAN
METHOD:PUBLISH
X-ORIGINAL-URL:https://uuspokane.org
X-WR-CALDESC:Events for Unitarian Universalist Church of Spokane
REFRESH-INTERVAL;VALUE=DURATION:PT1H
X-Robots-Tag:noindex
X-PUBLISHED-TTL:PT1H
BEGIN:VTIMEZONE
TZID:America/Los_Angeles
BEGIN:DAYLIGHT
TZOFFSETFROM:-0800
TZOFFSETTO:-0700
TZNAME:PDT
DTSTART:20270314T100000
END:DAYLIGHT
BEGIN:STANDARD
TZOFFSETFROM:-0700
TZOFFSETTO:-0800
TZNAME:PST
DTSTART:20271107T090000
END:STANDARD
BEGIN:DAYLIGHT
TZOFFSETFROM:-0800
TZOFFSETTO:-0700
TZNAME:PDT
DTSTART:20280312T100000
END:DAYLIGHT
BEGIN:STANDARD
TZOFFSETFROM:-0700
TZOFFSETTO:-0800
TZNAME:PST
DTSTART:20281105T090000
END:STANDARD
BEGIN:DAYLIGHT
TZOFFSETFROM:-0800
TZOFFSETTO:-0700
TZNAME:PDT
DTSTART:20290311T100000
END:DAYLIGHT
BEGIN:STANDARD
TZOFFSETFROM:-0700
TZOFFSETTO:-0800
TZNAME:PST
DTSTART:20291104T090000
END:STANDARD
END:VTIMEZONE
BEGIN:VEVENT
DTSTART;TZID=America/Los_Angeles:20280212T083000
DTEND;TZID=America/Los_Angeles:20280212T103000
DTSTAMP:20260424T065217
CREATED:20250925T172416Z
LAST-MODIFIED:20251001T030203Z
UID:10002475-1833957000-1833964200@uuspokane.org
SUMMARY:UU Men's Group at Rockwood Retirement
DESCRIPTION:Please join us for breakfast and conversation in the Livingston Dining Area of the Summit building at the Rockwood South Hill Retirement Community \n\nQuestions? Contact Tom Mosher at 509-220-1879. \nTake me to a map of the location.
URL:https://uuspokane.org/event/uu-mens-group-at-rockwood-retirement/2028-02-12/
LOCATION:Offsite
CATEGORIES:Fellowship
END:VEVENT
BEGIN:VEVENT
DTSTART;TZID=America/Los_Angeles:20280220T123000
DTEND;TZID=America/Los_Angeles:20280220T140000
DTSTAMP:20260424T065217
CREATED:20260204T193727Z
LAST-MODIFIED:20260204T193727Z
UID:10003147-1834662600-1834668000@uuspokane.org
SUMMARY:Church Potluck
DESCRIPTION:
URL:https://uuspokane.org/event/church-potluck-5/2028-02-20/
LOCATION:Friendship Hall
CATEGORIES:Fellowship
END:VEVENT
BEGIN:VEVENT
DTSTART;TZID=America/Los_Angeles:20280308T113000
DTEND;TZID=America/Los_Angeles:20280308T123000
DTSTAMP:20260424T065217
CREATED:20250925T172123Z
LAST-MODIFIED:20250930T175456Z
UID:10002415-1836127800-1836131400@uuspokane.org
SUMMARY:UU Women 2nd Wednesday Lunch
DESCRIPTION:Location varies
URL:https://uuspokane.org/event/uu-women-2nd-wednesday-lunch/2028-03-08/
LOCATION:Offsite
CATEGORIES:Fellowship
END:VEVENT
BEGIN:VEVENT
DTSTART;TZID=America/Los_Angeles:20280311T083000
DTEND;TZID=America/Los_Angeles:20280311T103000
DTSTAMP:20260424T065217
CREATED:20250925T172416Z
LAST-MODIFIED:20251001T030203Z
UID:10002476-1836376200-1836383400@uuspokane.org
SUMMARY:UU Men's Group at Rockwood Retirement
DESCRIPTION:Please join us for breakfast and conversation in the Livingston Dining Area of the Summit building at the Rockwood South Hill Retirement Community \n\nQuestions? Contact Tom Mosher at 509-220-1879. \nTake me to a map of the location.
URL:https://uuspokane.org/event/uu-mens-group-at-rockwood-retirement/2028-03-11/
LOCATION:Offsite
CATEGORIES:Fellowship
END:VEVENT
BEGIN:VEVENT
DTSTART;TZID=America/Los_Angeles:20280319T123000
DTEND;TZID=America/Los_Angeles:20280319T140000
DTSTAMP:20260424T065217
CREATED:20260204T193727Z
LAST-MODIFIED:20260204T193727Z
UID:10003148-1837081800-1837087200@uuspokane.org
SUMMARY:Church Potluck
DESCRIPTION:
URL:https://uuspokane.org/event/church-potluck-5/2028-03-19/
LOCATION:Friendship Hall
CATEGORIES:Fellowship
END:VEVENT
BEGIN:VEVENT
DTSTART;TZID=America/Los_Angeles:20280408T083000
DTEND;TZID=America/Los_Angeles:20280408T103000
DTSTAMP:20260424T065217
CREATED:20250925T172416Z
LAST-MODIFIED:20251001T030203Z
UID:10002477-1838795400-1838802600@uuspokane.org
SUMMARY:UU Men's Group at Rockwood Retirement
DESCRIPTION:Please join us for breakfast and conversation in the Livingston Dining Area of the Summit building at the Rockwood South Hill Retirement Community \n\nQuestions? Contact Tom Mosher at 509-220-1879. \nTake me to a map of the location.
URL:https://uuspokane.org/event/uu-mens-group-at-rockwood-retirement/2028-04-08/
LOCATION:Offsite
CATEGORIES:Fellowship
END:VEVENT
BEGIN:VEVENT
DTSTART;TZID=America/Los_Angeles:20280412T113000
DTEND;TZID=America/Los_Angeles:20280412T123000
DTSTAMP:20260424T065217
CREATED:20250925T172123Z
LAST-MODIFIED:20250930T175456Z
UID:10002416-1839151800-1839155400@uuspokane.org
SUMMARY:UU Women 2nd Wednesday Lunch
DESCRIPTION:Location varies
URL:https://uuspokane.org/event/uu-women-2nd-wednesday-lunch/2028-04-12/
LOCATION:Offsite
CATEGORIES:Fellowship
END:VEVENT
BEGIN:VEVENT
DTSTART;TZID=America/Los_Angeles:20280416T123000
DTEND;TZID=America/Los_Angeles:20280416T140000
DTSTAMP:20260424T065217
CREATED:20260204T193727Z
LAST-MODIFIED:20260204T193727Z
UID:10003149-1839501000-1839506400@uuspokane.org
SUMMARY:Church Potluck
DESCRIPTION:
URL:https://uuspokane.org/event/church-potluck-5/2028-04-16/
LOCATION:Friendship Hall
CATEGORIES:Fellowship
END:VEVENT
BEGIN:VEVENT
DTSTART;TZID=America/Los_Angeles:20280510T113000
DTEND;TZID=America/Los_Angeles:20280510T123000
DTSTAMP:20260424T065217
CREATED:20250925T172123Z
LAST-MODIFIED:20250930T175456Z
UID:10002417-1841571000-1841574600@uuspokane.org
SUMMARY:UU Women 2nd Wednesday Lunch
DESCRIPTION:Location varies
URL:https://uuspokane.org/event/uu-women-2nd-wednesday-lunch/2028-05-10/
LOCATION:Offsite
CATEGORIES:Fellowship
END:VEVENT
BEGIN:VEVENT
DTSTART;TZID=America/Los_Angeles:20280513T083000
DTEND;TZID=America/Los_Angeles:20280513T103000
DTSTAMP:20260424T065217
CREATED:20250925T172416Z
LAST-MODIFIED:20251001T030203Z
UID:10002478-1841819400-1841826600@uuspokane.org
SUMMARY:UU Men's Group at Rockwood Retirement
DESCRIPTION:Please join us for breakfast and conversation in the Livingston Dining Area of the Summit building at the Rockwood South Hill Retirement Community \n\nQuestions? Contact Tom Mosher at 509-220-1879. \nTake me to a map of the location.
URL:https://uuspokane.org/event/uu-mens-group-at-rockwood-retirement/2028-05-13/
LOCATION:Offsite
CATEGORIES:Fellowship
END:VEVENT
BEGIN:VEVENT
DTSTART;TZID=America/Los_Angeles:20280521T123000
DTEND;TZID=America/Los_Angeles:20280521T140000
DTSTAMP:20260424T065217
CREATED:20260204T193727Z
LAST-MODIFIED:20260204T193727Z
UID:10003150-1842525000-1842530400@uuspokane.org
SUMMARY:Church Potluck
DESCRIPTION:
URL:https://uuspokane.org/event/church-potluck-5/2028-05-21/
LOCATION:Friendship Hall
CATEGORIES:Fellowship
END:VEVENT
BEGIN:VEVENT
DTSTART;TZID=America/Los_Angeles:20280610T083000
DTEND;TZID=America/Los_Angeles:20280610T103000
DTSTAMP:20260424T065217
CREATED:20250925T172416Z
LAST-MODIFIED:20251001T030203Z
UID:10002479-1844238600-1844245800@uuspokane.org
SUMMARY:UU Men's Group at Rockwood Retirement
DESCRIPTION:Please join us for breakfast and conversation in the Livingston Dining Area of the Summit building at the Rockwood South Hill Retirement Community \n\nQuestions? Contact Tom Mosher at 509-220-1879. \nTake me to a map of the location.
URL:https://uuspokane.org/event/uu-mens-group-at-rockwood-retirement/2028-06-10/
LOCATION:Offsite
CATEGORIES:Fellowship
END:VEVENT
BEGIN:VEVENT
DTSTART;TZID=America/Los_Angeles:20280614T113000
DTEND;TZID=America/Los_Angeles:20280614T123000
DTSTAMP:20260424T065217
CREATED:20250925T172123Z
LAST-MODIFIED:20250930T175456Z
UID:10002418-1844595000-1844598600@uuspokane.org
SUMMARY:UU Women 2nd Wednesday Lunch
DESCRIPTION:Location varies
URL:https://uuspokane.org/event/uu-women-2nd-wednesday-lunch/2028-06-14/
LOCATION:Offsite
CATEGORIES:Fellowship
END:VEVENT
BEGIN:VEVENT
DTSTART;TZID=America/Los_Angeles:20280618T123000
DTEND;TZID=America/Los_Angeles:20280618T140000
DTSTAMP:20260424T065217
CREATED:20260204T193727Z
LAST-MODIFIED:20260204T193727Z
UID:10003151-1844944200-1844949600@uuspokane.org
SUMMARY:Church Potluck
DESCRIPTION:
URL:https://uuspokane.org/event/church-potluck-5/2028-06-18/
LOCATION:Friendship Hall
CATEGORIES:Fellowship
END:VEVENT
BEGIN:VEVENT
DTSTART;TZID=America/Los_Angeles:20280708T083000
DTEND;TZID=America/Los_Angeles:20280708T103000
DTSTAMP:20260424T065217
CREATED:20250925T172416Z
LAST-MODIFIED:20251001T030203Z
UID:10002480-1846657800-1846665000@uuspokane.org
SUMMARY:UU Men's Group at Rockwood Retirement
DESCRIPTION:Please join us for breakfast and conversation in the Livingston Dining Area of the Summit building at the Rockwood South Hill Retirement Community \n\nQuestions? Contact Tom Mosher at 509-220-1879. \nTake me to a map of the location.
URL:https://uuspokane.org/event/uu-mens-group-at-rockwood-retirement/2028-07-08/
LOCATION:Offsite
CATEGORIES:Fellowship
END:VEVENT
BEGIN:VEVENT
DTSTART;TZID=America/Los_Angeles:20280712T113000
DTEND;TZID=America/Los_Angeles:20280712T123000
DTSTAMP:20260424T065217
CREATED:20250925T172123Z
LAST-MODIFIED:20250930T175456Z
UID:10002419-1847014200-1847017800@uuspokane.org
SUMMARY:UU Women 2nd Wednesday Lunch
DESCRIPTION:Location varies
URL:https://uuspokane.org/event/uu-women-2nd-wednesday-lunch/2028-07-12/
LOCATION:Offsite
CATEGORIES:Fellowship
END:VEVENT
BEGIN:VEVENT
DTSTART;TZID=America/Los_Angeles:20280716T123000
DTEND;TZID=America/Los_Angeles:20280716T140000
DTSTAMP:20260424T065217
CREATED:20260204T193727Z
LAST-MODIFIED:20260204T193727Z
UID:10003152-1847363400-1847368800@uuspokane.org
SUMMARY:Church Potluck
DESCRIPTION:
URL:https://uuspokane.org/event/church-potluck-5/2028-07-16/
LOCATION:Friendship Hall
CATEGORIES:Fellowship
END:VEVENT
BEGIN:VEVENT
DTSTART;TZID=America/Los_Angeles:20280809T113000
DTEND;TZID=America/Los_Angeles:20280809T123000
DTSTAMP:20260424T065217
CREATED:20250925T172123Z
LAST-MODIFIED:20250930T175456Z
UID:10002420-1849433400-1849437000@uuspokane.org
SUMMARY:UU Women 2nd Wednesday Lunch
DESCRIPTION:Location varies
URL:https://uuspokane.org/event/uu-women-2nd-wednesday-lunch/2028-08-09/
LOCATION:Offsite
CATEGORIES:Fellowship
END:VEVENT
BEGIN:VEVENT
DTSTART;TZID=America/Los_Angeles:20280812T083000
DTEND;TZID=America/Los_Angeles:20280812T103000
DTSTAMP:20260424T065217
CREATED:20250925T172416Z
LAST-MODIFIED:20251001T030203Z
UID:10002481-1849681800-1849689000@uuspokane.org
SUMMARY:UU Men's Group at Rockwood Retirement
DESCRIPTION:Please join us for breakfast and conversation in the Livingston Dining Area of the Summit building at the Rockwood South Hill Retirement Community \n\nQuestions? Contact Tom Mosher at 509-220-1879. \nTake me to a map of the location.
URL:https://uuspokane.org/event/uu-mens-group-at-rockwood-retirement/2028-08-12/
LOCATION:Offsite
CATEGORIES:Fellowship
END:VEVENT
BEGIN:VEVENT
DTSTART;TZID=America/Los_Angeles:20280820T123000
DTEND;TZID=America/Los_Angeles:20280820T140000
DTSTAMP:20260424T065217
CREATED:20260204T193727Z
LAST-MODIFIED:20260204T193727Z
UID:10003153-1850387400-1850392800@uuspokane.org
SUMMARY:Church Potluck
DESCRIPTION:
URL:https://uuspokane.org/event/church-potluck-5/2028-08-20/
LOCATION:Friendship Hall
CATEGORIES:Fellowship
END:VEVENT
BEGIN:VEVENT
DTSTART;TZID=America/Los_Angeles:20280909T083000
DTEND;TZID=America/Los_Angeles:20280909T103000
DTSTAMP:20260424T065217
CREATED:20250925T172416Z
LAST-MODIFIED:20251001T030203Z
UID:10002482-1852101000-1852108200@uuspokane.org
SUMMARY:UU Men's Group at Rockwood Retirement
DESCRIPTION:Please join us for breakfast and conversation in the Livingston Dining Area of the Summit building at the Rockwood South Hill Retirement Community \n\nQuestions? Contact Tom Mosher at 509-220-1879. \nTake me to a map of the location.
URL:https://uuspokane.org/event/uu-mens-group-at-rockwood-retirement/2028-09-09/
LOCATION:Offsite
CATEGORIES:Fellowship
END:VEVENT
BEGIN:VEVENT
DTSTART;TZID=America/Los_Angeles:20280913T113000
DTEND;TZID=America/Los_Angeles:20280913T123000
DTSTAMP:20260424T065217
CREATED:20250925T172123Z
LAST-MODIFIED:20250930T175456Z
UID:10002421-1852457400-1852461000@uuspokane.org
SUMMARY:UU Women 2nd Wednesday Lunch
DESCRIPTION:Location varies
URL:https://uuspokane.org/event/uu-women-2nd-wednesday-lunch/2028-09-13/
LOCATION:Offsite
CATEGORIES:Fellowship
END:VEVENT
BEGIN:VEVENT
DTSTART;TZID=America/Los_Angeles:20280917T123000
DTEND;TZID=America/Los_Angeles:20280917T140000
DTSTAMP:20260424T065217
CREATED:20260204T193727Z
LAST-MODIFIED:20260204T193727Z
UID:10003154-1852806600-1852812000@uuspokane.org
SUMMARY:Church Potluck
DESCRIPTION:
URL:https://uuspokane.org/event/church-potluck-5/2028-09-17/
LOCATION:Friendship Hall
CATEGORIES:Fellowship
END:VEVENT
BEGIN:VEVENT
DTSTART;TZID=America/Los_Angeles:20281011T113000
DTEND;TZID=America/Los_Angeles:20281011T123000
DTSTAMP:20260424T065217
CREATED:20250925T172123Z
LAST-MODIFIED:20250930T175456Z
UID:10002422-1854876600-1854880200@uuspokane.org
SUMMARY:UU Women 2nd Wednesday Lunch
DESCRIPTION:Location varies
URL:https://uuspokane.org/event/uu-women-2nd-wednesday-lunch/2028-10-11/
LOCATION:Offsite
CATEGORIES:Fellowship
END:VEVENT
BEGIN:VEVENT
DTSTART;TZID=America/Los_Angeles:20281014T083000
DTEND;TZID=America/Los_Angeles:20281014T103000
DTSTAMP:20260424T065217
CREATED:20250925T172416Z
LAST-MODIFIED:20251001T030203Z
UID:10002483-1855125000-1855132200@uuspokane.org
SUMMARY:UU Men's Group at Rockwood Retirement
DESCRIPTION:Please join us for breakfast and conversation in the Livingston Dining Area of the Summit building at the Rockwood South Hill Retirement Community \n\nQuestions? Contact Tom Mosher at 509-220-1879. \nTake me to a map of the location.
URL:https://uuspokane.org/event/uu-mens-group-at-rockwood-retirement/2028-10-14/
LOCATION:Offsite
CATEGORIES:Fellowship
END:VEVENT
BEGIN:VEVENT
DTSTART;TZID=America/Los_Angeles:20281015T123000
DTEND;TZID=America/Los_Angeles:20281015T140000
DTSTAMP:20260424T065217
CREATED:20260204T193727Z
LAST-MODIFIED:20260204T193727Z
UID:10003155-1855225800-1855231200@uuspokane.org
SUMMARY:Church Potluck
DESCRIPTION:
URL:https://uuspokane.org/event/church-potluck-5/2028-10-15/
LOCATION:Friendship Hall
CATEGORIES:Fellowship
END:VEVENT
BEGIN:VEVENT
DTSTART;TZID=America/Los_Angeles:20281108T113000
DTEND;TZID=America/Los_Angeles:20281108T123000
DTSTAMP:20260424T065217
CREATED:20250925T172123Z
LAST-MODIFIED:20250930T175456Z
UID:10002423-1857295800-1857299400@uuspokane.org
SUMMARY:UU Women 2nd Wednesday Lunch
DESCRIPTION:Location varies
URL:https://uuspokane.org/event/uu-women-2nd-wednesday-lunch/2028-11-08/
LOCATION:Offsite
CATEGORIES:Fellowship
END:VEVENT
BEGIN:VEVENT
DTSTART;TZID=America/Los_Angeles:20281111T083000
DTEND;TZID=America/Los_Angeles:20281111T103000
DTSTAMP:20260424T065217
CREATED:20250925T172416Z
LAST-MODIFIED:20251001T030203Z
UID:10002484-1857544200-1857551400@uuspokane.org
SUMMARY:UU Men's Group at Rockwood Retirement
DESCRIPTION:Please join us for breakfast and conversation in the Livingston Dining Area of the Summit building at the Rockwood South Hill Retirement Community \n\nQuestions? Contact Tom Mosher at 509-220-1879. \nTake me to a map of the location.
URL:https://uuspokane.org/event/uu-mens-group-at-rockwood-retirement/2028-11-11/
LOCATION:Offsite
CATEGORIES:Fellowship
END:VEVENT
BEGIN:VEVENT
DTSTART;TZID=America/Los_Angeles:20281119T123000
DTEND;TZID=America/Los_Angeles:20281119T140000
DTSTAMP:20260424T065217
CREATED:20260204T193727Z
LAST-MODIFIED:20260204T193727Z
UID:10003156-1858249800-1858255200@uuspokane.org
SUMMARY:Church Potluck
DESCRIPTION:
URL:https://uuspokane.org/event/church-potluck-5/2028-11-19/
LOCATION:Friendship Hall
CATEGORIES:Fellowship
END:VEVENT
BEGIN:VEVENT
DTSTART;TZID=America/Los_Angeles:20281209T083000
DTEND;TZID=America/Los_Angeles:20281209T103000
DTSTAMP:20260424T065217
CREATED:20250925T172416Z
LAST-MODIFIED:20251001T030203Z
UID:10002485-1859963400-1859970600@uuspokane.org
SUMMARY:UU Men's Group at Rockwood Retirement
DESCRIPTION:Please join us for breakfast and conversation in the Livingston Dining Area of the Summit building at the Rockwood South Hill Retirement Community \n\nQuestions? Contact Tom Mosher at 509-220-1879. \nTake me to a map of the location.
URL:https://uuspokane.org/event/uu-mens-group-at-rockwood-retirement/2028-12-09/
LOCATION:Offsite
CATEGORIES:Fellowship
END:VEVENT
END:VCALENDAR