BEGIN:VCALENDAR
VERSION:2.0
PRODID:-//Unitarian Universalist Church of Spokane - ECPv6.15.20//NONSGML v1.0//EN
CALSCALE:GREGORIAN
METHOD:PUBLISH
X-ORIGINAL-URL:https://uuspokane.org
X-WR-CALDESC:Events for Unitarian Universalist Church of Spokane
REFRESH-INTERVAL;VALUE=DURATION:PT1H
X-Robots-Tag:noindex
X-PUBLISHED-TTL:PT1H
BEGIN:VTIMEZONE
TZID:America/Los_Angeles
BEGIN:DAYLIGHT
TZOFFSETFROM:-0800
TZOFFSETTO:-0700
TZNAME:PDT
DTSTART:20240310T100000
END:DAYLIGHT
BEGIN:STANDARD
TZOFFSETFROM:-0700
TZOFFSETTO:-0800
TZNAME:PST
DTSTART:20241103T090000
END:STANDARD
BEGIN:DAYLIGHT
TZOFFSETFROM:-0800
TZOFFSETTO:-0700
TZNAME:PDT
DTSTART:20250309T100000
END:DAYLIGHT
BEGIN:STANDARD
TZOFFSETFROM:-0700
TZOFFSETTO:-0800
TZNAME:PST
DTSTART:20251102T090000
END:STANDARD
BEGIN:DAYLIGHT
TZOFFSETFROM:-0800
TZOFFSETTO:-0700
TZNAME:PDT
DTSTART:20260308T100000
END:DAYLIGHT
BEGIN:STANDARD
TZOFFSETFROM:-0700
TZOFFSETTO:-0800
TZNAME:PST
DTSTART:20261101T090000
END:STANDARD
BEGIN:DAYLIGHT
TZOFFSETFROM:-0800
TZOFFSETTO:-0700
TZNAME:PDT
DTSTART:20270314T100000
END:DAYLIGHT
BEGIN:STANDARD
TZOFFSETFROM:-0700
TZOFFSETTO:-0800
TZNAME:PST
DTSTART:20271107T090000
END:STANDARD
END:VTIMEZONE
BEGIN:VEVENT
DTSTART;TZID=America/Los_Angeles:20260101T080000
DTEND;TZID=America/Los_Angeles:20260101T170000
DTSTAMP:20260423T172634
CREATED:20250925T234212Z
LAST-MODIFIED:20250925T234212Z
UID:10003370-1767254400-1767286800@uuspokane.org
SUMMARY:New Year's Day - Office Closed
DESCRIPTION:
URL:https://uuspokane.org/event/new-years-day-office-closed/
CATEGORIES:Holiday
END:VEVENT
BEGIN:VEVENT
DTSTART;VALUE=DATE:20251231
DTEND;VALUE=DATE:20260101
DTSTAMP:20260423T172634
CREATED:20250925T234139Z
LAST-MODIFIED:20250925T234139Z
UID:10003369-1767139200-1767225599@uuspokane.org
SUMMARY:New Year's Eve - Office Closed
DESCRIPTION:
URL:https://uuspokane.org/event/new-years-eve-office-closed/
CATEGORIES:Holiday
END:VEVENT
BEGIN:VEVENT
DTSTART;VALUE=DATE:20251225
DTEND;VALUE=DATE:20251226
DTSTAMP:20260423T172634
CREATED:20250925T234020Z
LAST-MODIFIED:20250925T234020Z
UID:10003368-1766620800-1766707199@uuspokane.org
SUMMARY:Christmas Day - Office Closed
DESCRIPTION:
URL:https://uuspokane.org/event/christmas-day-office-closed/
CATEGORIES:Holiday
END:VEVENT
BEGIN:VEVENT
DTSTART;VALUE=DATE:20251224
DTEND;VALUE=DATE:20251225
DTSTAMP:20260423T172634
CREATED:20250925T233934Z
LAST-MODIFIED:20250925T233934Z
UID:10003367-1766534400-1766620799@uuspokane.org
SUMMARY:Christmas Eve - Office Closed
DESCRIPTION:
URL:https://uuspokane.org/event/christmas-eve-office-closed/
CATEGORIES:Holiday
END:VEVENT
BEGIN:VEVENT
DTSTART;VALUE=DATE:20251126
DTEND;VALUE=DATE:20251128
DTSTAMP:20260423T172634
CREATED:20250925T231755Z
LAST-MODIFIED:20251104T210737Z
UID:10003240-1764115200-1764287999@uuspokane.org
SUMMARY:Thanksgiving - Office Closed
DESCRIPTION:
URL:https://uuspokane.org/event/thanksgiving-office-closed/
CATEGORIES:Holiday
END:VEVENT
END:VCALENDAR