BEGIN:VCALENDAR
VERSION:2.0
PRODID:-//Unitarian Universalist Church of Spokane - ECPv6.15.20//NONSGML v1.0//EN
CALSCALE:GREGORIAN
METHOD:PUBLISH
X-ORIGINAL-URL:https://uuspokane.org
X-WR-CALDESC:Events for Unitarian Universalist Church of Spokane
REFRESH-INTERVAL;VALUE=DURATION:PT1H
X-Robots-Tag:noindex
X-PUBLISHED-TTL:PT1H
BEGIN:VTIMEZONE
TZID:America/Los_Angeles
BEGIN:DAYLIGHT
TZOFFSETFROM:-0800
TZOFFSETTO:-0700
TZNAME:PDT
DTSTART:20250309T100000
END:DAYLIGHT
BEGIN:STANDARD
TZOFFSETFROM:-0700
TZOFFSETTO:-0800
TZNAME:PST
DTSTART:20251102T090000
END:STANDARD
BEGIN:DAYLIGHT
TZOFFSETFROM:-0800
TZOFFSETTO:-0700
TZNAME:PDT
DTSTART:20260308T100000
END:DAYLIGHT
BEGIN:STANDARD
TZOFFSETFROM:-0700
TZOFFSETTO:-0800
TZNAME:PST
DTSTART:20261101T090000
END:STANDARD
BEGIN:DAYLIGHT
TZOFFSETFROM:-0800
TZOFFSETTO:-0700
TZNAME:PDT
DTSTART:20270314T100000
END:DAYLIGHT
BEGIN:STANDARD
TZOFFSETFROM:-0700
TZOFFSETTO:-0800
TZNAME:PST
DTSTART:20271107T090000
END:STANDARD
END:VTIMEZONE
BEGIN:VEVENT
DTSTART;TZID=America/Los_Angeles:20260318T120000
DTEND;TZID=America/Los_Angeles:20260318T130000
DTSTAMP:20260423T161118
CREATED:20260306T170033Z
LAST-MODIFIED:20260306T170053Z
UID:10002633-1773835200-1773838800@uuspokane.org
SUMMARY:Board Agenda Meeting
DESCRIPTION:
URL:https://uuspokane.org/event/board-agenda-meeting-3/
LOCATION:RE Zoom Account
CATEGORIES:Meeting
END:VEVENT
BEGIN:VEVENT
DTSTART;TZID=America/Los_Angeles:20260318T130000
DTEND;TZID=America/Los_Angeles:20260318T150000
DTSTAMP:20260423T161118
CREATED:20260223T185311Z
LAST-MODIFIED:20260223T185311Z
UID:10004041-1773838800-1773846000@uuspokane.org
SUMMARY:Budget Summit I
DESCRIPTION:
URL:https://uuspokane.org/event/budget-summit-i/
LOCATION:ZOOM
CATEGORIES:Meeting
END:VEVENT
BEGIN:VEVENT
DTSTART;TZID=America/Los_Angeles:20260318T180000
DTEND;TZID=America/Los_Angeles:20260318T220000
DTSTAMP:20260423T161118
CREATED:20250925T165407Z
LAST-MODIFIED:20250925T165407Z
UID:10002197-1773856800-1773871200@uuspokane.org
SUMMARY:Spokane Camera Club
DESCRIPTION:
URL:https://uuspokane.org/event/spokane-camera-club-2/2026-03-18/
LOCATION:Friendship Hall
CATEGORIES:Meeting
END:VEVENT
END:VCALENDAR