BEGIN:VCALENDAR
VERSION:2.0
PRODID:-//Unitarian Universalist Church of Spokane - ECPv6.15.20//NONSGML v1.0//EN
CALSCALE:GREGORIAN
METHOD:PUBLISH
X-ORIGINAL-URL:https://uuspokane.org
X-WR-CALDESC:Events for Unitarian Universalist Church of Spokane
REFRESH-INTERVAL;VALUE=DURATION:PT1H
X-Robots-Tag:noindex
X-PUBLISHED-TTL:PT1H
BEGIN:VTIMEZONE
TZID:America/Los_Angeles
BEGIN:DAYLIGHT
TZOFFSETFROM:-0800
TZOFFSETTO:-0700
TZNAME:PDT
DTSTART:20250309T100000
END:DAYLIGHT
BEGIN:STANDARD
TZOFFSETFROM:-0700
TZOFFSETTO:-0800
TZNAME:PST
DTSTART:20251102T090000
END:STANDARD
BEGIN:DAYLIGHT
TZOFFSETFROM:-0800
TZOFFSETTO:-0700
TZNAME:PDT
DTSTART:20260308T100000
END:DAYLIGHT
BEGIN:STANDARD
TZOFFSETFROM:-0700
TZOFFSETTO:-0800
TZNAME:PST
DTSTART:20261101T090000
END:STANDARD
BEGIN:DAYLIGHT
TZOFFSETFROM:-0800
TZOFFSETTO:-0700
TZNAME:PDT
DTSTART:20270314T100000
END:DAYLIGHT
BEGIN:STANDARD
TZOFFSETFROM:-0700
TZOFFSETTO:-0800
TZNAME:PST
DTSTART:20271107T090000
END:STANDARD
END:VTIMEZONE
BEGIN:VEVENT
DTSTART;TZID=America/Los_Angeles:20260515T160000
DTEND;TZID=America/Los_Angeles:20260515T173000
DTSTAMP:20260423T124255
CREATED:20260414T155358Z
LAST-MODIFIED:20260414T155358Z
UID:10000538-1778860800-1778866200@uuspokane.org
SUMMARY:LGBTQ+ Senior Group
DESCRIPTION:ZOOM
URL:https://uuspokane.org/event/lgbtq-senior-group-2-2/2026-05-15/
LOCATION:ZOOM
CATEGORIES:Meeting
ORGANIZER;CN="Nancy Avery":MAILTO:NancyTavery@comcast.net
END:VEVENT
BEGIN:VEVENT
DTSTART;TZID=America/Los_Angeles:20260518T183000
DTEND;TZID=America/Los_Angeles:20260518T200000
DTSTAMP:20260423T124255
CREATED:20250925T180231Z
LAST-MODIFIED:20250925T231548Z
UID:10003187-1779129000-1779134400@uuspokane.org
SUMMARY:Social Justice Coordinating Council
DESCRIPTION:
URL:https://uuspokane.org/event/social-justice-coordinating-council/2026-05-18/
LOCATION:RE Zoom Account
CATEGORIES:Meeting
END:VEVENT
BEGIN:VEVENT
DTSTART;TZID=America/Los_Angeles:20260520T160000
DTEND;TZID=America/Los_Angeles:20260520T170000
DTSTAMP:20260423T124255
CREATED:20250925T173505Z
LAST-MODIFIED:20250925T173505Z
UID:10002635-1779292800-1779296400@uuspokane.org
SUMMARY:Board Agenda Meeting
DESCRIPTION:
URL:https://uuspokane.org/event/board-agenda-meeting/2026-05-20/
LOCATION:RE Zoom Account
CATEGORIES:Meeting
END:VEVENT
BEGIN:VEVENT
DTSTART;TZID=America/Los_Angeles:20260522T160000
DTEND;TZID=America/Los_Angeles:20260522T173000
DTSTAMP:20260423T124255
CREATED:20260414T155358Z
LAST-MODIFIED:20260414T155358Z
UID:10000539-1779465600-1779471000@uuspokane.org
SUMMARY:LGBTQ+ Senior Group
DESCRIPTION:ZOOM
URL:https://uuspokane.org/event/lgbtq-senior-group-2-2/2026-05-22/
LOCATION:ZOOM
CATEGORIES:Meeting
ORGANIZER;CN="Nancy Avery":MAILTO:NancyTavery@comcast.net
END:VEVENT
BEGIN:VEVENT
DTSTART;TZID=America/Los_Angeles:20260527T160000
DTEND;TZID=America/Los_Angeles:20260527T173000
DTSTAMP:20260423T124255
CREATED:20251204T221746Z
LAST-MODIFIED:20251204T221844Z
UID:10003790-1779897600-1779903000@uuspokane.org
SUMMARY:Board of Trustees Meeting
DESCRIPTION:
URL:https://uuspokane.org/event/board-of-trustees-meeting-2/2026-05-27/
LOCATION:RE Zoom Account
CATEGORIES:Meeting
END:VEVENT
BEGIN:VEVENT
DTSTART;TZID=America/Los_Angeles:20260528T160000
DTEND;TZID=America/Los_Angeles:20260528T170000
DTSTAMP:20260423T124255
CREATED:20250924T192847Z
LAST-MODIFIED:20250924T192920Z
UID:10000393-1779984000-1779987600@uuspokane.org
SUMMARY:Endowment Team Meeting
DESCRIPTION:Zoom
URL:https://uuspokane.org/event/endowment-team-meeting/2026-05-28/
LOCATION:ZOOM
CATEGORIES:Meeting
END:VEVENT
BEGIN:VEVENT
DTSTART;TZID=America/Los_Angeles:20260528T160000
DTEND;TZID=America/Los_Angeles:20260528T180000
DTSTAMP:20260423T124255
CREATED:20250924T193145Z
LAST-MODIFIED:20250924T193145Z
UID:10000453-1779984000-1779991200@uuspokane.org
SUMMARY:LGBTQ+ Seniors Steering Committee Meeting
DESCRIPTION:ZOOM
URL:https://uuspokane.org/event/lgbtq-seniors-steering-committee-meeting/2026-05-28/
LOCATION:RE Zoom Account
CATEGORIES:Meeting
END:VEVENT
BEGIN:VEVENT
DTSTART;TZID=America/Los_Angeles:20260529T160000
DTEND;TZID=America/Los_Angeles:20260529T173000
DTSTAMP:20260423T124255
CREATED:20260414T155358Z
LAST-MODIFIED:20260414T155358Z
UID:10000540-1780070400-1780075800@uuspokane.org
SUMMARY:LGBTQ+ Senior Group
DESCRIPTION:ZOOM
URL:https://uuspokane.org/event/lgbtq-senior-group-2-2/2026-05-29/
LOCATION:ZOOM
CATEGORIES:Meeting
ORGANIZER;CN="Nancy Avery":MAILTO:NancyTavery@comcast.net
END:VEVENT
BEGIN:VEVENT
DTSTART;TZID=America/Los_Angeles:20260603T100000
DTEND;TZID=America/Los_Angeles:20260603T110000
DTSTAMP:20260423T124255
CREATED:20251203T172547Z
LAST-MODIFIED:20251203T172547Z
UID:10003669-1780480800-1780484400@uuspokane.org
SUMMARY:Staff Meeting
DESCRIPTION:
URL:https://uuspokane.org/event/staff-meeting/2026-06-03/
LOCATION:UUCS Office
CATEGORIES:Meeting
END:VEVENT
BEGIN:VEVENT
DTSTART;TZID=America/Los_Angeles:20260603T140000
DTEND;TZID=America/Los_Angeles:20260603T160000
DTSTAMP:20260423T124255
CREATED:20250925T232509Z
LAST-MODIFIED:20250925T232509Z
UID:10003310-1780495200-1780502400@uuspokane.org
SUMMARY:Pastoral Care Team Planning Meeting
DESCRIPTION:
URL:https://uuspokane.org/event/pastoral-care-team-planning-meeting/2026-06-03/
LOCATION:ZOOM
CATEGORIES:Meeting
END:VEVENT
BEGIN:VEVENT
DTSTART;TZID=America/Los_Angeles:20260604T140000
DTEND;TZID=America/Los_Angeles:20260604T160000
DTSTAMP:20260423T124255
CREATED:20260122T180054Z
LAST-MODIFIED:20260122T180054Z
UID:10003909-1780581600-1780588800@uuspokane.org
SUMMARY:Retirement Group (closed meeting)
DESCRIPTION:
URL:https://uuspokane.org/event/retirement-group-closed-meeting-2/2026-06-04/
LOCATION:ZOOM
CATEGORIES:Meeting
END:VEVENT
BEGIN:VEVENT
DTSTART;TZID=America/Los_Angeles:20260605T160000
DTEND;TZID=America/Los_Angeles:20260605T173000
DTSTAMP:20260423T124255
CREATED:20260414T155358Z
LAST-MODIFIED:20260414T155358Z
UID:10000541-1780675200-1780680600@uuspokane.org
SUMMARY:LGBTQ+ Senior Group
DESCRIPTION:ZOOM
URL:https://uuspokane.org/event/lgbtq-senior-group-2-2/2026-06-05/
LOCATION:ZOOM
CATEGORIES:Meeting
ORGANIZER;CN="Nancy Avery":MAILTO:NancyTavery@comcast.net
END:VEVENT
BEGIN:VEVENT
DTSTART;TZID=America/Los_Angeles:20260609T110000
DTEND;TZID=America/Los_Angeles:20260609T130000
DTSTAMP:20260423T124255
CREATED:20250925T173256Z
LAST-MODIFIED:20250925T173256Z
UID:10002576-1781002800-1781010000@uuspokane.org
SUMMARY:Ops Team Meeting
DESCRIPTION:
URL:https://uuspokane.org/event/ops-team-meeting/2026-06-09/
LOCATION:RE Zoom Account
CATEGORIES:Meeting
END:VEVENT
BEGIN:VEVENT
DTSTART;TZID=America/Los_Angeles:20260612T160000
DTEND;TZID=America/Los_Angeles:20260612T173000
DTSTAMP:20260423T124255
CREATED:20260414T155358Z
LAST-MODIFIED:20260414T155358Z
UID:10000542-1781280000-1781285400@uuspokane.org
SUMMARY:LGBTQ+ Senior Group
DESCRIPTION:ZOOM
URL:https://uuspokane.org/event/lgbtq-senior-group-2-2/2026-06-12/
LOCATION:ZOOM
CATEGORIES:Meeting
ORGANIZER;CN="Nancy Avery":MAILTO:NancyTavery@comcast.net
END:VEVENT
BEGIN:VEVENT
DTSTART;TZID=America/Los_Angeles:20260615T183000
DTEND;TZID=America/Los_Angeles:20260615T200000
DTSTAMP:20260423T124255
CREATED:20250925T180231Z
LAST-MODIFIED:20250925T231548Z
UID:10003188-1781548200-1781553600@uuspokane.org
SUMMARY:Social Justice Coordinating Council
DESCRIPTION:
URL:https://uuspokane.org/event/social-justice-coordinating-council/2026-06-15/
LOCATION:RE Zoom Account
CATEGORIES:Meeting
END:VEVENT
BEGIN:VEVENT
DTSTART;TZID=America/Los_Angeles:20260617T160000
DTEND;TZID=America/Los_Angeles:20260617T170000
DTSTAMP:20260423T124255
CREATED:20250925T173505Z
LAST-MODIFIED:20250925T173505Z
UID:10002636-1781712000-1781715600@uuspokane.org
SUMMARY:Board Agenda Meeting
DESCRIPTION:
URL:https://uuspokane.org/event/board-agenda-meeting/2026-06-17/
LOCATION:RE Zoom Account
CATEGORIES:Meeting
END:VEVENT
BEGIN:VEVENT
DTSTART;TZID=America/Los_Angeles:20260619T160000
DTEND;TZID=America/Los_Angeles:20260619T173000
DTSTAMP:20260423T124255
CREATED:20260414T155358Z
LAST-MODIFIED:20260414T155358Z
UID:10000543-1781884800-1781890200@uuspokane.org
SUMMARY:LGBTQ+ Senior Group
DESCRIPTION:ZOOM
URL:https://uuspokane.org/event/lgbtq-senior-group-2-2/2026-06-19/
LOCATION:ZOOM
CATEGORIES:Meeting
ORGANIZER;CN="Nancy Avery":MAILTO:NancyTavery@comcast.net
END:VEVENT
BEGIN:VEVENT
DTSTART;TZID=America/Los_Angeles:20260624T160000
DTEND;TZID=America/Los_Angeles:20260624T173000
DTSTAMP:20260423T124255
CREATED:20251204T221746Z
LAST-MODIFIED:20251204T221844Z
UID:10003791-1782316800-1782322200@uuspokane.org
SUMMARY:Board of Trustees Meeting
DESCRIPTION:
URL:https://uuspokane.org/event/board-of-trustees-meeting-2/2026-06-24/
LOCATION:RE Zoom Account
CATEGORIES:Meeting
END:VEVENT
BEGIN:VEVENT
DTSTART;TZID=America/Los_Angeles:20260625T160000
DTEND;TZID=America/Los_Angeles:20260625T170000
DTSTAMP:20260423T124255
CREATED:20250924T192847Z
LAST-MODIFIED:20250924T192920Z
UID:10000394-1782403200-1782406800@uuspokane.org
SUMMARY:Endowment Team Meeting
DESCRIPTION:Zoom
URL:https://uuspokane.org/event/endowment-team-meeting/2026-06-25/
LOCATION:ZOOM
CATEGORIES:Meeting
END:VEVENT
BEGIN:VEVENT
DTSTART;TZID=America/Los_Angeles:20260625T160000
DTEND;TZID=America/Los_Angeles:20260625T180000
DTSTAMP:20260423T124255
CREATED:20250924T193145Z
LAST-MODIFIED:20250924T193145Z
UID:10000454-1782403200-1782410400@uuspokane.org
SUMMARY:LGBTQ+ Seniors Steering Committee Meeting
DESCRIPTION:ZOOM
URL:https://uuspokane.org/event/lgbtq-seniors-steering-committee-meeting/2026-06-25/
LOCATION:RE Zoom Account
CATEGORIES:Meeting
END:VEVENT
BEGIN:VEVENT
DTSTART;TZID=America/Los_Angeles:20260626T160000
DTEND;TZID=America/Los_Angeles:20260626T173000
DTSTAMP:20260423T124255
CREATED:20260414T155358Z
LAST-MODIFIED:20260414T155358Z
UID:10000544-1782489600-1782495000@uuspokane.org
SUMMARY:LGBTQ+ Senior Group
DESCRIPTION:ZOOM
URL:https://uuspokane.org/event/lgbtq-senior-group-2-2/2026-06-26/
LOCATION:ZOOM
CATEGORIES:Meeting
ORGANIZER;CN="Nancy Avery":MAILTO:NancyTavery@comcast.net
END:VEVENT
BEGIN:VEVENT
DTSTART;TZID=America/Los_Angeles:20260701T100000
DTEND;TZID=America/Los_Angeles:20260701T110000
DTSTAMP:20260423T124255
CREATED:20251203T172547Z
LAST-MODIFIED:20251203T172547Z
UID:10003670-1782900000-1782903600@uuspokane.org
SUMMARY:Staff Meeting
DESCRIPTION:
URL:https://uuspokane.org/event/staff-meeting/2026-07-01/
LOCATION:UUCS Office
CATEGORIES:Meeting
END:VEVENT
BEGIN:VEVENT
DTSTART;TZID=America/Los_Angeles:20260701T140000
DTEND;TZID=America/Los_Angeles:20260701T160000
DTSTAMP:20260423T124255
CREATED:20250925T232509Z
LAST-MODIFIED:20250925T232509Z
UID:10003311-1782914400-1782921600@uuspokane.org
SUMMARY:Pastoral Care Team Planning Meeting
DESCRIPTION:
URL:https://uuspokane.org/event/pastoral-care-team-planning-meeting/2026-07-01/
LOCATION:ZOOM
CATEGORIES:Meeting
END:VEVENT
BEGIN:VEVENT
DTSTART;TZID=America/Los_Angeles:20260702T140000
DTEND;TZID=America/Los_Angeles:20260702T160000
DTSTAMP:20260423T124255
CREATED:20260122T180054Z
LAST-MODIFIED:20260122T180054Z
UID:10003910-1783000800-1783008000@uuspokane.org
SUMMARY:Retirement Group (closed meeting)
DESCRIPTION:
URL:https://uuspokane.org/event/retirement-group-closed-meeting-2/2026-07-02/
LOCATION:ZOOM
CATEGORIES:Meeting
END:VEVENT
BEGIN:VEVENT
DTSTART;TZID=America/Los_Angeles:20260703T160000
DTEND;TZID=America/Los_Angeles:20260703T173000
DTSTAMP:20260423T124255
CREATED:20260414T155358Z
LAST-MODIFIED:20260414T155358Z
UID:10000545-1783094400-1783099800@uuspokane.org
SUMMARY:LGBTQ+ Senior Group
DESCRIPTION:ZOOM
URL:https://uuspokane.org/event/lgbtq-senior-group-2-2/2026-07-03/
LOCATION:ZOOM
CATEGORIES:Meeting
ORGANIZER;CN="Nancy Avery":MAILTO:NancyTavery@comcast.net
END:VEVENT
BEGIN:VEVENT
DTSTART;TZID=America/Los_Angeles:20260710T160000
DTEND;TZID=America/Los_Angeles:20260710T173000
DTSTAMP:20260423T124255
CREATED:20260414T155358Z
LAST-MODIFIED:20260414T155358Z
UID:10000546-1783699200-1783704600@uuspokane.org
SUMMARY:LGBTQ+ Senior Group
DESCRIPTION:ZOOM
URL:https://uuspokane.org/event/lgbtq-senior-group-2-2/2026-07-10/
LOCATION:ZOOM
CATEGORIES:Meeting
ORGANIZER;CN="Nancy Avery":MAILTO:NancyTavery@comcast.net
END:VEVENT
BEGIN:VEVENT
DTSTART;TZID=America/Los_Angeles:20260714T110000
DTEND;TZID=America/Los_Angeles:20260714T130000
DTSTAMP:20260423T124255
CREATED:20250925T173256Z
LAST-MODIFIED:20250925T173256Z
UID:10002577-1784026800-1784034000@uuspokane.org
SUMMARY:Ops Team Meeting
DESCRIPTION:
URL:https://uuspokane.org/event/ops-team-meeting/2026-07-14/
LOCATION:RE Zoom Account
CATEGORIES:Meeting
END:VEVENT
BEGIN:VEVENT
DTSTART;TZID=America/Los_Angeles:20260715T160000
DTEND;TZID=America/Los_Angeles:20260715T170000
DTSTAMP:20260423T124255
CREATED:20250925T173505Z
LAST-MODIFIED:20250925T173505Z
UID:10002637-1784131200-1784134800@uuspokane.org
SUMMARY:Board Agenda Meeting
DESCRIPTION:
URL:https://uuspokane.org/event/board-agenda-meeting/2026-07-15/
LOCATION:RE Zoom Account
CATEGORIES:Meeting
END:VEVENT
BEGIN:VEVENT
DTSTART;TZID=America/Los_Angeles:20260717T160000
DTEND;TZID=America/Los_Angeles:20260717T173000
DTSTAMP:20260423T124255
CREATED:20260414T155358Z
LAST-MODIFIED:20260414T155358Z
UID:10000547-1784304000-1784309400@uuspokane.org
SUMMARY:LGBTQ+ Senior Group
DESCRIPTION:ZOOM
URL:https://uuspokane.org/event/lgbtq-senior-group-2-2/2026-07-17/
LOCATION:ZOOM
CATEGORIES:Meeting
ORGANIZER;CN="Nancy Avery":MAILTO:NancyTavery@comcast.net
END:VEVENT
BEGIN:VEVENT
DTSTART;TZID=America/Los_Angeles:20260720T183000
DTEND;TZID=America/Los_Angeles:20260720T200000
DTSTAMP:20260423T124255
CREATED:20250925T180231Z
LAST-MODIFIED:20250925T231548Z
UID:10003189-1784572200-1784577600@uuspokane.org
SUMMARY:Social Justice Coordinating Council
DESCRIPTION:
URL:https://uuspokane.org/event/social-justice-coordinating-council/2026-07-20/
LOCATION:RE Zoom Account
CATEGORIES:Meeting
END:VEVENT
END:VCALENDAR