BEGIN:VCALENDAR
VERSION:2.0
PRODID:-//Unitarian Universalist Church of Spokane - ECPv6.15.20//NONSGML v1.0//EN
CALSCALE:GREGORIAN
METHOD:PUBLISH
X-ORIGINAL-URL:https://uuspokane.org
X-WR-CALDESC:Events for Unitarian Universalist Church of Spokane
REFRESH-INTERVAL;VALUE=DURATION:PT1H
X-Robots-Tag:noindex
X-PUBLISHED-TTL:PT1H
BEGIN:VTIMEZONE
TZID:America/Los_Angeles
BEGIN:DAYLIGHT
TZOFFSETFROM:-0800
TZOFFSETTO:-0700
TZNAME:PDT
DTSTART:20240310T100000
END:DAYLIGHT
BEGIN:STANDARD
TZOFFSETFROM:-0700
TZOFFSETTO:-0800
TZNAME:PST
DTSTART:20241103T090000
END:STANDARD
BEGIN:DAYLIGHT
TZOFFSETFROM:-0800
TZOFFSETTO:-0700
TZNAME:PDT
DTSTART:20250309T100000
END:DAYLIGHT
BEGIN:STANDARD
TZOFFSETFROM:-0700
TZOFFSETTO:-0800
TZNAME:PST
DTSTART:20251102T090000
END:STANDARD
BEGIN:DAYLIGHT
TZOFFSETFROM:-0800
TZOFFSETTO:-0700
TZNAME:PDT
DTSTART:20260308T100000
END:DAYLIGHT
BEGIN:STANDARD
TZOFFSETFROM:-0700
TZOFFSETTO:-0800
TZNAME:PST
DTSTART:20261101T090000
END:STANDARD
END:VTIMEZONE
BEGIN:VEVENT
DTSTART;TZID=America/Los_Angeles:20251010T160000
DTEND;TZID=America/Los_Angeles:20251010T173000
DTSTAMP:20260424T044636
CREATED:20250924T193300Z
LAST-MODIFIED:20250924T193300Z
UID:10000507-1760112000-1760117400@uuspokane.org
SUMMARY:LGBTQ+ Senior Group
DESCRIPTION:ZOOM
URL:https://uuspokane.org/event/lgbtq-senior-group/2025-10-10/
LOCATION:RE Zoom Account
CATEGORIES:Meeting
END:VEVENT
BEGIN:VEVENT
DTSTART;TZID=America/Los_Angeles:20251014T110000
DTEND;TZID=America/Los_Angeles:20251014T130000
DTSTAMP:20260424T044636
CREATED:20250925T173256Z
LAST-MODIFIED:20250925T173256Z
UID:10002568-1760439600-1760446800@uuspokane.org
SUMMARY:Ops Team Meeting
DESCRIPTION:
URL:https://uuspokane.org/event/ops-team-meeting/2025-10-14/
LOCATION:RE Zoom Account
CATEGORIES:Meeting
END:VEVENT
BEGIN:VEVENT
DTSTART;TZID=America/Los_Angeles:20251015T160000
DTEND;TZID=America/Los_Angeles:20251015T170000
DTSTAMP:20260424T044636
CREATED:20250925T173505Z
LAST-MODIFIED:20250925T173505Z
UID:10002628-1760544000-1760547600@uuspokane.org
SUMMARY:Board Agenda Meeting
DESCRIPTION:
URL:https://uuspokane.org/event/board-agenda-meeting/2025-10-15/
LOCATION:RE Zoom Account
CATEGORIES:Meeting
END:VEVENT
BEGIN:VEVENT
DTSTART;TZID=America/Los_Angeles:20251015T180000
DTEND;TZID=America/Los_Angeles:20251015T220000
DTSTAMP:20260424T044636
CREATED:20250925T165407Z
LAST-MODIFIED:20250925T165407Z
UID:10002192-1760551200-1760565600@uuspokane.org
SUMMARY:Spokane Camera Club
DESCRIPTION:
URL:https://uuspokane.org/event/spokane-camera-club-2/2025-10-15/
LOCATION:Friendship Hall
CATEGORIES:Meeting
END:VEVENT
BEGIN:VEVENT
DTSTART;TZID=America/Los_Angeles:20251017T160000
DTEND;TZID=America/Los_Angeles:20251017T173000
DTSTAMP:20260424T044636
CREATED:20250924T193300Z
LAST-MODIFIED:20250924T193300Z
UID:10000508-1760716800-1760722200@uuspokane.org
SUMMARY:LGBTQ+ Senior Group
DESCRIPTION:ZOOM
URL:https://uuspokane.org/event/lgbtq-senior-group/2025-10-17/
LOCATION:RE Zoom Account
CATEGORIES:Meeting
END:VEVENT
BEGIN:VEVENT
DTSTART;TZID=America/Los_Angeles:20251020T183000
DTEND;TZID=America/Los_Angeles:20251020T200000
DTSTAMP:20260424T044636
CREATED:20250925T180231Z
LAST-MODIFIED:20250925T231548Z
UID:10003180-1760985000-1760990400@uuspokane.org
SUMMARY:Social Justice Coordinating Council
DESCRIPTION:
URL:https://uuspokane.org/event/social-justice-coordinating-council/2025-10-20/
LOCATION:RE Zoom Account
CATEGORIES:Meeting
END:VEVENT
BEGIN:VEVENT
DTSTART;TZID=America/Los_Angeles:20251022T160000
DTEND;TZID=America/Los_Angeles:20251022T173000
DTSTAMP:20260424T044636
CREATED:20250924T192006Z
LAST-MODIFIED:20250924T192006Z
UID:10000326-1761148800-1761154200@uuspokane.org
SUMMARY:Board of Trustees Meeting
DESCRIPTION:
URL:https://uuspokane.org/event/board-of-trustees-meeting/2025-10-22/
LOCATION:RE Zoom Account
CATEGORIES:Meeting
END:VEVENT
BEGIN:VEVENT
DTSTART;TZID=America/Los_Angeles:20251022T183000
DTEND;TZID=America/Los_Angeles:20251022T210000
DTSTAMP:20260424T044636
CREATED:20251006T205916Z
LAST-MODIFIED:20251006T205916Z
UID:10003445-1761157800-1761166800@uuspokane.org
SUMMARY:Spokane Camera Club Education Night
DESCRIPTION:
URL:https://uuspokane.org/event/spokane-camera-club-education-night/
LOCATION:Friendship Hall
CATEGORIES:Meeting
END:VEVENT
BEGIN:VEVENT
DTSTART;TZID=America/Los_Angeles:20251023T160000
DTEND;TZID=America/Los_Angeles:20251023T170000
DTSTAMP:20260424T044636
CREATED:20250924T192847Z
LAST-MODIFIED:20250924T192920Z
UID:10000386-1761235200-1761238800@uuspokane.org
SUMMARY:Endowment Team Meeting
DESCRIPTION:Zoom
URL:https://uuspokane.org/event/endowment-team-meeting/2025-10-23/
LOCATION:ZOOM
CATEGORIES:Meeting
END:VEVENT
BEGIN:VEVENT
DTSTART;TZID=America/Los_Angeles:20251023T180000
DTEND;TZID=America/Los_Angeles:20251023T200000
DTSTAMP:20260424T044636
CREATED:20251023T173853Z
LAST-MODIFIED:20251023T173853Z
UID:10003455-1761242400-1761249600@uuspokane.org
SUMMARY:Spokane Alliance Heart/Housing Meeting
DESCRIPTION:
URL:https://uuspokane.org/event/spokane-alliance-heart-housing-meeting/2025-10-23/
LOCATION:Potter Room
CATEGORIES:Meeting
END:VEVENT
BEGIN:VEVENT
DTSTART;TZID=America/Los_Angeles:20251024T160000
DTEND;TZID=America/Los_Angeles:20251024T173000
DTSTAMP:20260424T044636
CREATED:20250924T193300Z
LAST-MODIFIED:20250924T193300Z
UID:10000509-1761321600-1761327000@uuspokane.org
SUMMARY:LGBTQ+ Senior Group
DESCRIPTION:ZOOM
URL:https://uuspokane.org/event/lgbtq-senior-group/2025-10-24/
LOCATION:RE Zoom Account
CATEGORIES:Meeting
END:VEVENT
BEGIN:VEVENT
DTSTART;TZID=America/Los_Angeles:20251030T160000
DTEND;TZID=America/Los_Angeles:20251030T180000
DTSTAMP:20260424T044636
CREATED:20250924T193145Z
LAST-MODIFIED:20250924T193145Z
UID:10000446-1761840000-1761847200@uuspokane.org
SUMMARY:LGBTQ+ Seniors Steering Committee Meeting
DESCRIPTION:ZOOM
URL:https://uuspokane.org/event/lgbtq-seniors-steering-committee-meeting/2025-10-30/
LOCATION:RE Zoom Account
CATEGORIES:Meeting
END:VEVENT
BEGIN:VEVENT
DTSTART;TZID=America/Los_Angeles:20251031T160000
DTEND;TZID=America/Los_Angeles:20251031T173000
DTSTAMP:20260424T044636
CREATED:20250924T193300Z
LAST-MODIFIED:20250924T193300Z
UID:10000510-1761926400-1761931800@uuspokane.org
SUMMARY:LGBTQ+ Senior Group
DESCRIPTION:ZOOM
URL:https://uuspokane.org/event/lgbtq-senior-group/2025-10-31/
LOCATION:RE Zoom Account
CATEGORIES:Meeting
END:VEVENT
BEGIN:VEVENT
DTSTART;TZID=America/Los_Angeles:20251101T160000
DTEND;TZID=America/Los_Angeles:20251101T213000
DTSTAMP:20260424T044636
CREATED:20250925T165921Z
LAST-MODIFIED:20250925T165921Z
UID:10002319-1762012800-1762032600@uuspokane.org
SUMMARY:INWBMA Meeting
DESCRIPTION:
URL:https://uuspokane.org/event/inwbma-meeting/2025-11-01/
LOCATION:Sanctuary
CATEGORIES:Meeting
END:VEVENT
BEGIN:VEVENT
DTSTART;TZID=America/Los_Angeles:20251104T180000
DTEND;TZID=America/Los_Angeles:20251104T200000
DTSTAMP:20260424T044636
CREATED:20250925T171913Z
LAST-MODIFIED:20250930T214927Z
UID:10002327-1762279200-1762286400@uuspokane.org
SUMMARY:Secret Readers Society
DESCRIPTION:Shhh… there’s a new club at our church—and the secret is\, there is no secret. The Secret Readers Society is for anyone who loves books and wants to nurture reading as a joyful\, even religious/spiritual practice. READ MORE…
URL:https://uuspokane.org/event/secret-readers-society/2025-11-04/
LOCATION:Cummings Room
CATEGORIES:Meeting
ORGANIZER;CN="Lynn Jinishian":MAILTO:jinishian@comcast.net
END:VEVENT
BEGIN:VEVENT
DTSTART;TZID=America/Los_Angeles:20251105T140000
DTEND;TZID=America/Los_Angeles:20251105T160000
DTSTAMP:20260424T044636
CREATED:20250925T232509Z
LAST-MODIFIED:20250925T232509Z
UID:10003303-1762351200-1762358400@uuspokane.org
SUMMARY:Pastoral Care Team Planning Meeting
DESCRIPTION:
URL:https://uuspokane.org/event/pastoral-care-team-planning-meeting/2025-11-05/
LOCATION:ZOOM
CATEGORIES:Meeting
END:VEVENT
BEGIN:VEVENT
DTSTART;TZID=America/Los_Angeles:20251105T180000
DTEND;TZID=America/Los_Angeles:20251105T220000
DTSTAMP:20260424T044636
CREATED:20250925T165107Z
LAST-MODIFIED:20250925T165225Z
UID:10002133-1762365600-1762380000@uuspokane.org
SUMMARY:Spokane Camera Club
DESCRIPTION:
URL:https://uuspokane.org/event/spokane-camera-club/2025-11-05/
LOCATION:Friendship Hall
CATEGORIES:Meeting
END:VEVENT
BEGIN:VEVENT
DTSTART;TZID=America/Los_Angeles:20251106T143000
DTEND;TZID=America/Los_Angeles:20251106T163000
DTSTAMP:20260424T044636
CREATED:20250925T165550Z
LAST-MODIFIED:20250925T165550Z
UID:10002199-1762439400-1762446600@uuspokane.org
SUMMARY:Retirement Group (closed meeting)
DESCRIPTION:
URL:https://uuspokane.org/event/retirement-group-closed-meeting/2025-11-06/
LOCATION:ZOOM
CATEGORIES:Meeting
END:VEVENT
BEGIN:VEVENT
DTSTART;TZID=America/Los_Angeles:20251107T160000
DTEND;TZID=America/Los_Angeles:20251107T173000
DTSTAMP:20260424T044636
CREATED:20250924T193300Z
LAST-MODIFIED:20250924T193300Z
UID:10000511-1762531200-1762536600@uuspokane.org
SUMMARY:LGBTQ+ Senior Group
DESCRIPTION:ZOOM
URL:https://uuspokane.org/event/lgbtq-senior-group/2025-11-07/
LOCATION:RE Zoom Account
CATEGORIES:Meeting
END:VEVENT
BEGIN:VEVENT
DTSTART;TZID=America/Los_Angeles:20251111T110000
DTEND;TZID=America/Los_Angeles:20251111T130000
DTSTAMP:20260424T044636
CREATED:20250925T173256Z
LAST-MODIFIED:20250925T173256Z
UID:10002569-1762858800-1762866000@uuspokane.org
SUMMARY:Ops Team Meeting
DESCRIPTION:
URL:https://uuspokane.org/event/ops-team-meeting/2025-11-11/
LOCATION:RE Zoom Account
CATEGORIES:Meeting
END:VEVENT
BEGIN:VEVENT
DTSTART;TZID=America/Los_Angeles:20251111T180000
DTEND;TZID=America/Los_Angeles:20251111T200000
DTSTAMP:20260424T044636
CREATED:20251103T195340Z
LAST-MODIFIED:20251103T195340Z
UID:10003524-1762884000-1762891200@uuspokane.org
SUMMARY:Spokane Indivisible
DESCRIPTION:
URL:https://uuspokane.org/event/spokane-indivisible-2/
LOCATION:Thoreau Room
CATEGORIES:Meeting
END:VEVENT
BEGIN:VEVENT
DTSTART;TZID=America/Los_Angeles:20251114T160000
DTEND;TZID=America/Los_Angeles:20251114T173000
DTSTAMP:20260424T044636
CREATED:20250924T193300Z
LAST-MODIFIED:20250924T193300Z
UID:10000512-1763136000-1763141400@uuspokane.org
SUMMARY:LGBTQ+ Senior Group
DESCRIPTION:ZOOM
URL:https://uuspokane.org/event/lgbtq-senior-group/2025-11-14/
LOCATION:RE Zoom Account
CATEGORIES:Meeting
END:VEVENT
BEGIN:VEVENT
DTSTART;TZID=America/Los_Angeles:20251117T183000
DTEND;TZID=America/Los_Angeles:20251117T200000
DTSTAMP:20260424T044636
CREATED:20250925T180231Z
LAST-MODIFIED:20250925T231548Z
UID:10003181-1763404200-1763409600@uuspokane.org
SUMMARY:Social Justice Coordinating Council
DESCRIPTION:
URL:https://uuspokane.org/event/social-justice-coordinating-council/2025-11-17/
LOCATION:RE Zoom Account
CATEGORIES:Meeting
END:VEVENT
BEGIN:VEVENT
DTSTART;TZID=America/Los_Angeles:20251119T160000
DTEND;TZID=America/Los_Angeles:20251119T170000
DTSTAMP:20260424T044636
CREATED:20250925T173505Z
LAST-MODIFIED:20250925T173505Z
UID:10002629-1763568000-1763571600@uuspokane.org
SUMMARY:Board Agenda Meeting
DESCRIPTION:
URL:https://uuspokane.org/event/board-agenda-meeting/2025-11-19/
LOCATION:RE Zoom Account
CATEGORIES:Meeting
END:VEVENT
BEGIN:VEVENT
DTSTART;TZID=America/Los_Angeles:20251119T180000
DTEND;TZID=America/Los_Angeles:20251119T220000
DTSTAMP:20260424T044636
CREATED:20250925T165407Z
LAST-MODIFIED:20250925T165407Z
UID:10002193-1763575200-1763589600@uuspokane.org
SUMMARY:Spokane Camera Club
DESCRIPTION:
URL:https://uuspokane.org/event/spokane-camera-club-2/2025-11-19/
LOCATION:Friendship Hall
CATEGORIES:Meeting
END:VEVENT
BEGIN:VEVENT
DTSTART;TZID=America/Los_Angeles:20251121T160000
DTEND;TZID=America/Los_Angeles:20251121T173000
DTSTAMP:20260424T044636
CREATED:20250924T193300Z
LAST-MODIFIED:20250924T193300Z
UID:10000513-1763740800-1763746200@uuspokane.org
SUMMARY:LGBTQ+ Senior Group
DESCRIPTION:ZOOM
URL:https://uuspokane.org/event/lgbtq-senior-group/2025-11-21/
LOCATION:RE Zoom Account
CATEGORIES:Meeting
END:VEVENT
BEGIN:VEVENT
DTSTART;TZID=America/Los_Angeles:20251126T160000
DTEND;TZID=America/Los_Angeles:20251126T173000
DTSTAMP:20260424T044636
CREATED:20250924T192006Z
LAST-MODIFIED:20250924T192006Z
UID:10000327-1764172800-1764178200@uuspokane.org
SUMMARY:Board of Trustees Meeting
DESCRIPTION:
URL:https://uuspokane.org/event/board-of-trustees-meeting/2025-11-26/
LOCATION:RE Zoom Account
CATEGORIES:Meeting
END:VEVENT
BEGIN:VEVENT
DTSTART;TZID=America/Los_Angeles:20251127T160000
DTEND;TZID=America/Los_Angeles:20251127T170000
DTSTAMP:20260424T044636
CREATED:20250924T192847Z
LAST-MODIFIED:20250924T192920Z
UID:10000387-1764259200-1764262800@uuspokane.org
SUMMARY:Endowment Team Meeting
DESCRIPTION:Zoom
URL:https://uuspokane.org/event/endowment-team-meeting/2025-11-27/
LOCATION:ZOOM
CATEGORIES:Meeting
END:VEVENT
BEGIN:VEVENT
DTSTART;TZID=America/Los_Angeles:20251127T160000
DTEND;TZID=America/Los_Angeles:20251127T180000
DTSTAMP:20260424T044636
CREATED:20250924T193145Z
LAST-MODIFIED:20250924T193145Z
UID:10000447-1764259200-1764266400@uuspokane.org
SUMMARY:LGBTQ+ Seniors Steering Committee Meeting
DESCRIPTION:ZOOM
URL:https://uuspokane.org/event/lgbtq-seniors-steering-committee-meeting/2025-11-27/
LOCATION:RE Zoom Account
CATEGORIES:Meeting
END:VEVENT
BEGIN:VEVENT
DTSTART;TZID=America/Los_Angeles:20251127T180000
DTEND;TZID=America/Los_Angeles:20251127T200000
DTSTAMP:20260424T044636
CREATED:20251023T173853Z
LAST-MODIFIED:20251023T173853Z
UID:10003456-1764266400-1764273600@uuspokane.org
SUMMARY:Spokane Alliance Heart/Housing Meeting
DESCRIPTION:
URL:https://uuspokane.org/event/spokane-alliance-heart-housing-meeting/2025-11-27/
LOCATION:Potter Room
CATEGORIES:Meeting
END:VEVENT
END:VCALENDAR