BEGIN:VCALENDAR
VERSION:2.0
PRODID:-//Unitarian Universalist Church of Spokane - ECPv6.15.20//NONSGML v1.0//EN
CALSCALE:GREGORIAN
METHOD:PUBLISH
X-ORIGINAL-URL:https://uuspokane.org
X-WR-CALDESC:Events for Unitarian Universalist Church of Spokane
REFRESH-INTERVAL;VALUE=DURATION:PT1H
X-Robots-Tag:noindex
X-PUBLISHED-TTL:PT1H
BEGIN:VTIMEZONE
TZID:America/Los_Angeles
BEGIN:DAYLIGHT
TZOFFSETFROM:-0800
TZOFFSETTO:-0700
TZNAME:PDT
DTSTART:20240310T100000
END:DAYLIGHT
BEGIN:STANDARD
TZOFFSETFROM:-0700
TZOFFSETTO:-0800
TZNAME:PST
DTSTART:20241103T090000
END:STANDARD
BEGIN:DAYLIGHT
TZOFFSETFROM:-0800
TZOFFSETTO:-0700
TZNAME:PDT
DTSTART:20250309T100000
END:DAYLIGHT
BEGIN:STANDARD
TZOFFSETFROM:-0700
TZOFFSETTO:-0800
TZNAME:PST
DTSTART:20251102T090000
END:STANDARD
BEGIN:DAYLIGHT
TZOFFSETFROM:-0800
TZOFFSETTO:-0700
TZNAME:PDT
DTSTART:20260308T100000
END:DAYLIGHT
BEGIN:STANDARD
TZOFFSETFROM:-0700
TZOFFSETTO:-0800
TZNAME:PST
DTSTART:20261101T090000
END:STANDARD
BEGIN:DAYLIGHT
TZOFFSETFROM:-0800
TZOFFSETTO:-0700
TZNAME:PDT
DTSTART:20270314T100000
END:DAYLIGHT
BEGIN:STANDARD
TZOFFSETFROM:-0700
TZOFFSETTO:-0800
TZNAME:PST
DTSTART:20271107T090000
END:STANDARD
END:VTIMEZONE
BEGIN:VEVENT
DTSTART;TZID=America/Los_Angeles:20251217T160000
DTEND;TZID=America/Los_Angeles:20251217T170000
DTSTAMP:20260424T033621
CREATED:20250925T173505Z
LAST-MODIFIED:20250925T173505Z
UID:10004288-1765987200-1765990800@uuspokane.org
SUMMARY:Board Agenda Meeting
DESCRIPTION:
URL:https://uuspokane.org/event/board-agenda-meeting/2025-12-17/
LOCATION:RE Zoom Account
CATEGORIES:Meeting
END:VEVENT
BEGIN:VEVENT
DTSTART;TZID=America/Los_Angeles:20251217T160000
DTEND;TZID=America/Los_Angeles:20251217T173000
DTSTAMP:20260424T033621
CREATED:20251204T221935Z
LAST-MODIFIED:20251204T221948Z
UID:10003785-1765987200-1765992600@uuspokane.org
SUMMARY:Board of Trustees Meeting
DESCRIPTION:
URL:https://uuspokane.org/event/board-of-trustees-meeting-3/
LOCATION:RE Zoom Account
CATEGORIES:Meeting
END:VEVENT
BEGIN:VEVENT
DTSTART;TZID=America/Los_Angeles:20251217T180000
DTEND;TZID=America/Los_Angeles:20251217T220000
DTSTAMP:20260424T033621
CREATED:20250925T165407Z
LAST-MODIFIED:20250925T165407Z
UID:10002194-1765994400-1766008800@uuspokane.org
SUMMARY:Spokane Camera Club
DESCRIPTION:
URL:https://uuspokane.org/event/spokane-camera-club-2/2025-12-17/
LOCATION:Friendship Hall
CATEGORIES:Meeting
END:VEVENT
BEGIN:VEVENT
DTSTART;TZID=America/Los_Angeles:20251219T160000
DTEND;TZID=America/Los_Angeles:20251219T173000
DTSTAMP:20260424T033621
CREATED:20250924T193300Z
LAST-MODIFIED:20250924T193300Z
UID:10000517-1766160000-1766165400@uuspokane.org
SUMMARY:LGBTQ+ Senior Group
DESCRIPTION:ZOOM
URL:https://uuspokane.org/event/lgbtq-senior-group/2025-12-19/
LOCATION:RE Zoom Account
CATEGORIES:Meeting
END:VEVENT
BEGIN:VEVENT
DTSTART;TZID=America/Los_Angeles:20251225T160000
DTEND;TZID=America/Los_Angeles:20251225T170000
DTSTAMP:20260424T033621
CREATED:20250924T192847Z
LAST-MODIFIED:20250924T192920Z
UID:10000388-1766678400-1766682000@uuspokane.org
SUMMARY:Endowment Team Meeting
DESCRIPTION:Zoom
URL:https://uuspokane.org/event/endowment-team-meeting/2025-12-25/
LOCATION:ZOOM
CATEGORIES:Meeting
END:VEVENT
BEGIN:VEVENT
DTSTART;TZID=America/Los_Angeles:20251225T160000
DTEND;TZID=America/Los_Angeles:20251225T180000
DTSTAMP:20260424T033621
CREATED:20250924T193145Z
LAST-MODIFIED:20250924T193145Z
UID:10000448-1766678400-1766685600@uuspokane.org
SUMMARY:LGBTQ+ Seniors Steering Committee Meeting
DESCRIPTION:ZOOM
URL:https://uuspokane.org/event/lgbtq-seniors-steering-committee-meeting/2025-12-25/
LOCATION:RE Zoom Account
CATEGORIES:Meeting
END:VEVENT
BEGIN:VEVENT
DTSTART;TZID=America/Los_Angeles:20251226T160000
DTEND;TZID=America/Los_Angeles:20251226T173000
DTSTAMP:20260424T033621
CREATED:20250924T193300Z
LAST-MODIFIED:20250924T193300Z
UID:10000518-1766764800-1766770200@uuspokane.org
SUMMARY:LGBTQ+ Senior Group
DESCRIPTION:ZOOM
URL:https://uuspokane.org/event/lgbtq-senior-group/2025-12-26/
LOCATION:RE Zoom Account
CATEGORIES:Meeting
END:VEVENT
BEGIN:VEVENT
DTSTART;TZID=America/Los_Angeles:20260101T143000
DTEND;TZID=America/Los_Angeles:20260101T163000
DTSTAMP:20260424T033621
CREATED:20250925T165550Z
LAST-MODIFIED:20250925T165550Z
UID:10002201-1767277800-1767285000@uuspokane.org
SUMMARY:Retirement Group (closed meeting)
DESCRIPTION:
URL:https://uuspokane.org/event/retirement-group-closed-meeting/2026-01-01/
LOCATION:ZOOM
CATEGORIES:Meeting
END:VEVENT
BEGIN:VEVENT
DTSTART;TZID=America/Los_Angeles:20260101T183000
DTEND;TZID=America/Los_Angeles:20260101T203000
DTSTAMP:20260424T033621
CREATED:20250929T210333Z
LAST-MODIFIED:20250929T210333Z
UID:10003434-1767292200-1767299400@uuspokane.org
SUMMARY:Immigration Coalition
DESCRIPTION:
URL:https://uuspokane.org/event/immigration-coalition/
LOCATION:Thoreau Room
CATEGORIES:Meeting
END:VEVENT
BEGIN:VEVENT
DTSTART;TZID=America/Los_Angeles:20260102T160000
DTEND;TZID=America/Los_Angeles:20260102T173000
DTSTAMP:20260424T033621
CREATED:20250924T193300Z
LAST-MODIFIED:20250924T193300Z
UID:10000519-1767369600-1767375000@uuspokane.org
SUMMARY:LGBTQ+ Senior Group
DESCRIPTION:ZOOM
URL:https://uuspokane.org/event/lgbtq-senior-group/2026-01-02/
LOCATION:RE Zoom Account
CATEGORIES:Meeting
END:VEVENT
BEGIN:VEVENT
DTSTART;TZID=America/Los_Angeles:20260103T160000
DTEND;TZID=America/Los_Angeles:20260103T213000
DTSTAMP:20260424T033621
CREATED:20250925T165921Z
LAST-MODIFIED:20250925T165921Z
UID:10002321-1767456000-1767475800@uuspokane.org
SUMMARY:INWBMA Meeting
DESCRIPTION:
URL:https://uuspokane.org/event/inwbma-meeting/2026-01-03/
LOCATION:Sanctuary
CATEGORIES:Meeting
END:VEVENT
BEGIN:VEVENT
DTSTART;TZID=America/Los_Angeles:20260106T180000
DTEND;TZID=America/Los_Angeles:20260106T200000
DTSTAMP:20260424T033621
CREATED:20251106T183045Z
LAST-MODIFIED:20251120T162642Z
UID:10003581-1767722400-1767729600@uuspokane.org
SUMMARY:Silent Reading Club
DESCRIPTION:Looking for a quiet\, cozy place to read — and a community that celebrates the joy of reading for its own sake? Join us for the Secret Readers Society Silent Reading Club\, our monthly gathering for anyone who loves books\, stories\, or simply the idea of setting aside intentional time to read. \nWe settle in between 6:00 and 6:15 p.m.\, find our favorite spots\, and then enjoy 30 minutes of peaceful\, silent reading together. Bring whatever you like — print\, digital\, or audio (with headphones). No required book\, no assigned pages\, no pressure. Just you\, your book\, and a room full of fellow readers doing the same. \nAfterward\, we spend a little time sharing what we’re reading\, what we hope to read next\, or how we’re building a reading life that nourishes us. There’s a monthly reading prompt for inspiration\, but participation is entirely optional. \nAll are welcome (as long as a 30-minute attention span is doable!). Everyone reads whatever they want. And yes — there are usually homemade treats and hot water for tea or coffee. \nCome discover the quiet magic of reading in community. We wrap up organically\, always by 8:00 p.m. \nShhh…bring a book\, and join the Society. \n 
URL:https://uuspokane.org/event/secret-readers-society-2/2026-01-06/
LOCATION:Cummings Room
CATEGORIES:Meeting
ORGANIZER;CN="Lynn Jinishian":MAILTO:jinishian@comcast.net
END:VEVENT
BEGIN:VEVENT
DTSTART;TZID=America/Los_Angeles:20260107T100000
DTEND;TZID=America/Los_Angeles:20260107T110000
DTSTAMP:20260424T033621
CREATED:20251203T172547Z
LAST-MODIFIED:20251203T172547Z
UID:10003664-1767780000-1767783600@uuspokane.org
SUMMARY:Staff Meeting
DESCRIPTION:
URL:https://uuspokane.org/event/staff-meeting/2026-01-07/
LOCATION:UUCS Office
CATEGORIES:Meeting
END:VEVENT
BEGIN:VEVENT
DTSTART;TZID=America/Los_Angeles:20260107T140000
DTEND;TZID=America/Los_Angeles:20260107T160000
DTSTAMP:20260424T033621
CREATED:20250925T232509Z
LAST-MODIFIED:20250925T232509Z
UID:10003305-1767794400-1767801600@uuspokane.org
SUMMARY:Pastoral Care Team Planning Meeting
DESCRIPTION:
URL:https://uuspokane.org/event/pastoral-care-team-planning-meeting/2026-01-07/
LOCATION:ZOOM
CATEGORIES:Meeting
END:VEVENT
BEGIN:VEVENT
DTSTART;TZID=America/Los_Angeles:20260107T180000
DTEND;TZID=America/Los_Angeles:20260107T220000
DTSTAMP:20260424T033621
CREATED:20250925T165107Z
LAST-MODIFIED:20250925T165225Z
UID:10002135-1767808800-1767823200@uuspokane.org
SUMMARY:Spokane Camera Club
DESCRIPTION:
URL:https://uuspokane.org/event/spokane-camera-club/2026-01-07/
LOCATION:Friendship Hall
CATEGORIES:Meeting
END:VEVENT
BEGIN:VEVENT
DTSTART;TZID=America/Los_Angeles:20260109T160000
DTEND;TZID=America/Los_Angeles:20260109T173000
DTSTAMP:20260424T033621
CREATED:20250924T193300Z
LAST-MODIFIED:20250924T193300Z
UID:10000520-1767974400-1767979800@uuspokane.org
SUMMARY:LGBTQ+ Senior Group
DESCRIPTION:ZOOM
URL:https://uuspokane.org/event/lgbtq-senior-group/2026-01-09/
LOCATION:RE Zoom Account
CATEGORIES:Meeting
END:VEVENT
BEGIN:VEVENT
DTSTART;TZID=America/Los_Angeles:20260113T110000
DTEND;TZID=America/Los_Angeles:20260113T130000
DTSTAMP:20260424T033621
CREATED:20250925T173256Z
LAST-MODIFIED:20250925T173256Z
UID:10002571-1768302000-1768309200@uuspokane.org
SUMMARY:Ops Team Meeting
DESCRIPTION:
URL:https://uuspokane.org/event/ops-team-meeting/2026-01-13/
LOCATION:RE Zoom Account
CATEGORIES:Meeting
END:VEVENT
BEGIN:VEVENT
DTSTART;TZID=America/Los_Angeles:20260116T160000
DTEND;TZID=America/Los_Angeles:20260116T173000
DTSTAMP:20260424T033621
CREATED:20250924T193300Z
LAST-MODIFIED:20250924T193300Z
UID:10000521-1768579200-1768584600@uuspokane.org
SUMMARY:LGBTQ+ Senior Group
DESCRIPTION:ZOOM
URL:https://uuspokane.org/event/lgbtq-senior-group/2026-01-16/
LOCATION:RE Zoom Account
CATEGORIES:Meeting
END:VEVENT
BEGIN:VEVENT
DTSTART;TZID=America/Los_Angeles:20260116T160000
DTEND;TZID=America/Los_Angeles:20260116T200000
DTSTAMP:20260424T033621
CREATED:20251217T163013Z
LAST-MODIFIED:20251217T163013Z
UID:10003856-1768579200-1768593600@uuspokane.org
SUMMARY:Windsong School Meeting
DESCRIPTION:
URL:https://uuspokane.org/event/windsong-school-meeting/
LOCATION:Friendship Hall
CATEGORIES:Meeting
END:VEVENT
BEGIN:VEVENT
DTSTART;TZID=America/Los_Angeles:20260119T183000
DTEND;TZID=America/Los_Angeles:20260119T200000
DTSTAMP:20260424T033621
CREATED:20250925T180231Z
LAST-MODIFIED:20250925T231548Z
UID:10003183-1768847400-1768852800@uuspokane.org
SUMMARY:Social Justice Coordinating Council
DESCRIPTION:
URL:https://uuspokane.org/event/social-justice-coordinating-council/2026-01-19/
LOCATION:RE Zoom Account
CATEGORIES:Meeting
END:VEVENT
BEGIN:VEVENT
DTSTART;TZID=America/Los_Angeles:20260121T160000
DTEND;TZID=America/Los_Angeles:20260121T170000
DTSTAMP:20260424T033621
CREATED:20250925T173505Z
LAST-MODIFIED:20250925T173505Z
UID:10002631-1769011200-1769014800@uuspokane.org
SUMMARY:Board Agenda Meeting
DESCRIPTION:
URL:https://uuspokane.org/event/board-agenda-meeting/2026-01-21/
LOCATION:RE Zoom Account
CATEGORIES:Meeting
END:VEVENT
BEGIN:VEVENT
DTSTART;TZID=America/Los_Angeles:20260121T180000
DTEND;TZID=America/Los_Angeles:20260121T220000
DTSTAMP:20260424T033621
CREATED:20250925T165407Z
LAST-MODIFIED:20250925T165407Z
UID:10002195-1769018400-1769032800@uuspokane.org
SUMMARY:Spokane Camera Club
DESCRIPTION:
URL:https://uuspokane.org/event/spokane-camera-club-2/2026-01-21/
LOCATION:Friendship Hall
CATEGORIES:Meeting
END:VEVENT
BEGIN:VEVENT
DTSTART;TZID=America/Los_Angeles:20260122T160000
DTEND;TZID=America/Los_Angeles:20260122T170000
DTSTAMP:20260424T033621
CREATED:20250924T192847Z
LAST-MODIFIED:20250924T192920Z
UID:10000389-1769097600-1769101200@uuspokane.org
SUMMARY:Endowment Team Meeting
DESCRIPTION:Zoom
URL:https://uuspokane.org/event/endowment-team-meeting/2026-01-22/
LOCATION:ZOOM
CATEGORIES:Meeting
END:VEVENT
BEGIN:VEVENT
DTSTART;TZID=America/Los_Angeles:20260123T160000
DTEND;TZID=America/Los_Angeles:20260123T173000
DTSTAMP:20260424T033621
CREATED:20250924T193300Z
LAST-MODIFIED:20250924T193300Z
UID:10000522-1769184000-1769189400@uuspokane.org
SUMMARY:LGBTQ+ Senior Group
DESCRIPTION:ZOOM
URL:https://uuspokane.org/event/lgbtq-senior-group/2026-01-23/
LOCATION:RE Zoom Account
CATEGORIES:Meeting
END:VEVENT
BEGIN:VEVENT
DTSTART;TZID=America/Los_Angeles:20260128T160000
DTEND;TZID=America/Los_Angeles:20260128T173000
DTSTAMP:20260424T033621
CREATED:20251204T221746Z
LAST-MODIFIED:20251204T221844Z
UID:10003786-1769616000-1769621400@uuspokane.org
SUMMARY:Board of Trustees Meeting
DESCRIPTION:
URL:https://uuspokane.org/event/board-of-trustees-meeting-2/2026-01-28/
LOCATION:RE Zoom Account
CATEGORIES:Meeting
END:VEVENT
BEGIN:VEVENT
DTSTART;TZID=America/Los_Angeles:20260129T160000
DTEND;TZID=America/Los_Angeles:20260129T180000
DTSTAMP:20260424T033621
CREATED:20250924T193145Z
LAST-MODIFIED:20250924T193145Z
UID:10000449-1769702400-1769709600@uuspokane.org
SUMMARY:LGBTQ+ Seniors Steering Committee Meeting
DESCRIPTION:ZOOM
URL:https://uuspokane.org/event/lgbtq-seniors-steering-committee-meeting/2026-01-29/
LOCATION:RE Zoom Account
CATEGORIES:Meeting
END:VEVENT
BEGIN:VEVENT
DTSTART;TZID=America/Los_Angeles:20260130T160000
DTEND;TZID=America/Los_Angeles:20260130T173000
DTSTAMP:20260424T033621
CREATED:20250924T193300Z
LAST-MODIFIED:20250924T193300Z
UID:10000523-1769788800-1769794200@uuspokane.org
SUMMARY:LGBTQ+ Senior Group
DESCRIPTION:ZOOM
URL:https://uuspokane.org/event/lgbtq-senior-group/2026-01-30/
LOCATION:RE Zoom Account
CATEGORIES:Meeting
END:VEVENT
BEGIN:VEVENT
DTSTART;TZID=America/Los_Angeles:20260203T180000
DTEND;TZID=America/Los_Angeles:20260203T200000
DTSTAMP:20260424T033621
CREATED:20251106T183045Z
LAST-MODIFIED:20251120T162642Z
UID:10003582-1770141600-1770148800@uuspokane.org
SUMMARY:Silent Reading Club
DESCRIPTION:Looking for a quiet\, cozy place to read — and a community that celebrates the joy of reading for its own sake? Join us for the Secret Readers Society Silent Reading Club\, our monthly gathering for anyone who loves books\, stories\, or simply the idea of setting aside intentional time to read. \nWe settle in between 6:00 and 6:15 p.m.\, find our favorite spots\, and then enjoy 30 minutes of peaceful\, silent reading together. Bring whatever you like — print\, digital\, or audio (with headphones). No required book\, no assigned pages\, no pressure. Just you\, your book\, and a room full of fellow readers doing the same. \nAfterward\, we spend a little time sharing what we’re reading\, what we hope to read next\, or how we’re building a reading life that nourishes us. There’s a monthly reading prompt for inspiration\, but participation is entirely optional. \nAll are welcome (as long as a 30-minute attention span is doable!). Everyone reads whatever they want. And yes — there are usually homemade treats and hot water for tea or coffee. \nCome discover the quiet magic of reading in community. We wrap up organically\, always by 8:00 p.m. \nShhh…bring a book\, and join the Society. \n 
URL:https://uuspokane.org/event/secret-readers-society-2/2026-02-03/
LOCATION:Cummings Room
CATEGORIES:Meeting
ORGANIZER;CN="Lynn Jinishian":MAILTO:jinishian@comcast.net
END:VEVENT
BEGIN:VEVENT
DTSTART;TZID=America/Los_Angeles:20260204T100000
DTEND;TZID=America/Los_Angeles:20260204T110000
DTSTAMP:20260424T033621
CREATED:20251203T172547Z
LAST-MODIFIED:20251203T172547Z
UID:10003665-1770199200-1770202800@uuspokane.org
SUMMARY:Staff Meeting
DESCRIPTION:
URL:https://uuspokane.org/event/staff-meeting/2026-02-04/
LOCATION:UUCS Office
CATEGORIES:Meeting
END:VEVENT
BEGIN:VEVENT
DTSTART;TZID=America/Los_Angeles:20260204T140000
DTEND;TZID=America/Los_Angeles:20260204T160000
DTSTAMP:20260424T033621
CREATED:20250925T232509Z
LAST-MODIFIED:20250925T232509Z
UID:10003306-1770213600-1770220800@uuspokane.org
SUMMARY:Pastoral Care Team Planning Meeting
DESCRIPTION:
URL:https://uuspokane.org/event/pastoral-care-team-planning-meeting/2026-02-04/
LOCATION:ZOOM
CATEGORIES:Meeting
END:VEVENT
END:VCALENDAR