BEGIN:VCALENDAR
VERSION:2.0
PRODID:-//Unitarian Universalist Church of Spokane - ECPv6.15.20//NONSGML v1.0//EN
CALSCALE:GREGORIAN
METHOD:PUBLISH
X-ORIGINAL-URL:https://uuspokane.org
X-WR-CALDESC:Events for Unitarian Universalist Church of Spokane
REFRESH-INTERVAL;VALUE=DURATION:PT1H
X-Robots-Tag:noindex
X-PUBLISHED-TTL:PT1H
BEGIN:VTIMEZONE
TZID:America/Los_Angeles
BEGIN:DAYLIGHT
TZOFFSETFROM:-0800
TZOFFSETTO:-0700
TZNAME:PDT
DTSTART:20260308T100000
END:DAYLIGHT
BEGIN:STANDARD
TZOFFSETFROM:-0700
TZOFFSETTO:-0800
TZNAME:PST
DTSTART:20261101T090000
END:STANDARD
BEGIN:DAYLIGHT
TZOFFSETFROM:-0800
TZOFFSETTO:-0700
TZNAME:PDT
DTSTART:20270314T100000
END:DAYLIGHT
BEGIN:STANDARD
TZOFFSETFROM:-0700
TZOFFSETTO:-0800
TZNAME:PST
DTSTART:20271107T090000
END:STANDARD
BEGIN:DAYLIGHT
TZOFFSETFROM:-0800
TZOFFSETTO:-0700
TZNAME:PDT
DTSTART:20280312T100000
END:DAYLIGHT
BEGIN:STANDARD
TZOFFSETFROM:-0700
TZOFFSETTO:-0800
TZNAME:PST
DTSTART:20281105T090000
END:STANDARD
END:VTIMEZONE
BEGIN:VEVENT
DTSTART;TZID=America/Los_Angeles:20270108T160000
DTEND;TZID=America/Los_Angeles:20270108T173000
DTSTAMP:20260424T084753
CREATED:20260414T155358Z
LAST-MODIFIED:20260414T155358Z
UID:10000572-1799424000-1799429400@uuspokane.org
SUMMARY:LGBTQ+ Senior Group
DESCRIPTION:ZOOM
URL:https://uuspokane.org/event/lgbtq-senior-group-2-2/2027-01-08/
LOCATION:ZOOM
CATEGORIES:Meeting
ORGANIZER;CN="Nancy Avery":MAILTO:NancyTavery@comcast.net
END:VEVENT
BEGIN:VEVENT
DTSTART;TZID=America/Los_Angeles:20270112T110000
DTEND;TZID=America/Los_Angeles:20270112T130000
DTSTAMP:20260424T084753
CREATED:20250925T173256Z
LAST-MODIFIED:20250925T173256Z
UID:10002583-1799751600-1799758800@uuspokane.org
SUMMARY:Ops Team Meeting
DESCRIPTION:
URL:https://uuspokane.org/event/ops-team-meeting/2027-01-12/
LOCATION:RE Zoom Account
CATEGORIES:Meeting
END:VEVENT
BEGIN:VEVENT
DTSTART;TZID=America/Los_Angeles:20270115T160000
DTEND;TZID=America/Los_Angeles:20270115T173000
DTSTAMP:20260424T084753
CREATED:20260414T155358Z
LAST-MODIFIED:20260414T155358Z
UID:10000573-1800028800-1800034200@uuspokane.org
SUMMARY:LGBTQ+ Senior Group
DESCRIPTION:ZOOM
URL:https://uuspokane.org/event/lgbtq-senior-group-2-2/2027-01-15/
LOCATION:ZOOM
CATEGORIES:Meeting
ORGANIZER;CN="Nancy Avery":MAILTO:NancyTavery@comcast.net
END:VEVENT
BEGIN:VEVENT
DTSTART;TZID=America/Los_Angeles:20270118T183000
DTEND;TZID=America/Los_Angeles:20270118T200000
DTSTAMP:20260424T084753
CREATED:20250925T180231Z
LAST-MODIFIED:20250925T231548Z
UID:10003195-1800297000-1800302400@uuspokane.org
SUMMARY:Social Justice Coordinating Council
DESCRIPTION:
URL:https://uuspokane.org/event/social-justice-coordinating-council/2027-01-18/
LOCATION:RE Zoom Account
CATEGORIES:Meeting
END:VEVENT
BEGIN:VEVENT
DTSTART;TZID=America/Los_Angeles:20270120T160000
DTEND;TZID=America/Los_Angeles:20270120T170000
DTSTAMP:20260424T084753
CREATED:20250925T173505Z
LAST-MODIFIED:20250925T173505Z
UID:10002643-1800460800-1800464400@uuspokane.org
SUMMARY:Board Agenda Meeting
DESCRIPTION:
URL:https://uuspokane.org/event/board-agenda-meeting/2027-01-20/
LOCATION:RE Zoom Account
CATEGORIES:Meeting
END:VEVENT
BEGIN:VEVENT
DTSTART;TZID=America/Los_Angeles:20270122T160000
DTEND;TZID=America/Los_Angeles:20270122T173000
DTSTAMP:20260424T084753
CREATED:20260414T155358Z
LAST-MODIFIED:20260414T155358Z
UID:10000574-1800633600-1800639000@uuspokane.org
SUMMARY:LGBTQ+ Senior Group
DESCRIPTION:ZOOM
URL:https://uuspokane.org/event/lgbtq-senior-group-2-2/2027-01-22/
LOCATION:ZOOM
CATEGORIES:Meeting
ORGANIZER;CN="Nancy Avery":MAILTO:NancyTavery@comcast.net
END:VEVENT
BEGIN:VEVENT
DTSTART;TZID=America/Los_Angeles:20270127T160000
DTEND;TZID=America/Los_Angeles:20270127T173000
DTSTAMP:20260424T084753
CREATED:20251204T221746Z
LAST-MODIFIED:20251204T221844Z
UID:10003798-1801065600-1801071000@uuspokane.org
SUMMARY:Board of Trustees Meeting
DESCRIPTION:
URL:https://uuspokane.org/event/board-of-trustees-meeting-2/2027-01-27/
LOCATION:RE Zoom Account
CATEGORIES:Meeting
END:VEVENT
BEGIN:VEVENT
DTSTART;TZID=America/Los_Angeles:20270128T160000
DTEND;TZID=America/Los_Angeles:20270128T170000
DTSTAMP:20260424T084753
CREATED:20250924T192847Z
LAST-MODIFIED:20250924T192920Z
UID:10000401-1801152000-1801155600@uuspokane.org
SUMMARY:Endowment Team Meeting
DESCRIPTION:Zoom
URL:https://uuspokane.org/event/endowment-team-meeting/2027-01-28/
LOCATION:ZOOM
CATEGORIES:Meeting
END:VEVENT
BEGIN:VEVENT
DTSTART;TZID=America/Los_Angeles:20270128T160000
DTEND;TZID=America/Los_Angeles:20270128T180000
DTSTAMP:20260424T084753
CREATED:20250924T193145Z
LAST-MODIFIED:20250924T193145Z
UID:10000461-1801152000-1801159200@uuspokane.org
SUMMARY:LGBTQ+ Seniors Steering Committee Meeting
DESCRIPTION:ZOOM
URL:https://uuspokane.org/event/lgbtq-seniors-steering-committee-meeting/2027-01-28/
LOCATION:RE Zoom Account
CATEGORIES:Meeting
END:VEVENT
BEGIN:VEVENT
DTSTART;TZID=America/Los_Angeles:20270129T160000
DTEND;TZID=America/Los_Angeles:20270129T173000
DTSTAMP:20260424T084753
CREATED:20260414T155358Z
LAST-MODIFIED:20260414T155358Z
UID:10000575-1801238400-1801243800@uuspokane.org
SUMMARY:LGBTQ+ Senior Group
DESCRIPTION:ZOOM
URL:https://uuspokane.org/event/lgbtq-senior-group-2-2/2027-01-29/
LOCATION:ZOOM
CATEGORIES:Meeting
ORGANIZER;CN="Nancy Avery":MAILTO:NancyTavery@comcast.net
END:VEVENT
BEGIN:VEVENT
DTSTART;TZID=America/Los_Angeles:20270203T100000
DTEND;TZID=America/Los_Angeles:20270203T110000
DTSTAMP:20260424T084753
CREATED:20251203T172547Z
LAST-MODIFIED:20251203T172547Z
UID:10003677-1801648800-1801652400@uuspokane.org
SUMMARY:Staff Meeting
DESCRIPTION:
URL:https://uuspokane.org/event/staff-meeting/2027-02-03/
LOCATION:UUCS Office
CATEGORIES:Meeting
END:VEVENT
BEGIN:VEVENT
DTSTART;TZID=America/Los_Angeles:20270203T140000
DTEND;TZID=America/Los_Angeles:20270203T160000
DTSTAMP:20260424T084753
CREATED:20250925T232509Z
LAST-MODIFIED:20250925T232509Z
UID:10003318-1801663200-1801670400@uuspokane.org
SUMMARY:Pastoral Care Team Planning Meeting
DESCRIPTION:
URL:https://uuspokane.org/event/pastoral-care-team-planning-meeting/2027-02-03/
LOCATION:ZOOM
CATEGORIES:Meeting
END:VEVENT
BEGIN:VEVENT
DTSTART;TZID=America/Los_Angeles:20270204T140000
DTEND;TZID=America/Los_Angeles:20270204T160000
DTSTAMP:20260424T084753
CREATED:20260122T180054Z
LAST-MODIFIED:20260122T180054Z
UID:10003917-1801749600-1801756800@uuspokane.org
SUMMARY:Retirement Group (closed meeting)
DESCRIPTION:
URL:https://uuspokane.org/event/retirement-group-closed-meeting-2/2027-02-04/
LOCATION:ZOOM
CATEGORIES:Meeting
END:VEVENT
BEGIN:VEVENT
DTSTART;TZID=America/Los_Angeles:20270205T160000
DTEND;TZID=America/Los_Angeles:20270205T173000
DTSTAMP:20260424T084753
CREATED:20260414T155358Z
LAST-MODIFIED:20260414T155358Z
UID:10000576-1801843200-1801848600@uuspokane.org
SUMMARY:LGBTQ+ Senior Group
DESCRIPTION:ZOOM
URL:https://uuspokane.org/event/lgbtq-senior-group-2-2/2027-02-05/
LOCATION:ZOOM
CATEGORIES:Meeting
ORGANIZER;CN="Nancy Avery":MAILTO:NancyTavery@comcast.net
END:VEVENT
BEGIN:VEVENT
DTSTART;TZID=America/Los_Angeles:20270209T110000
DTEND;TZID=America/Los_Angeles:20270209T130000
DTSTAMP:20260424T084753
CREATED:20250925T173256Z
LAST-MODIFIED:20250925T173256Z
UID:10002584-1802170800-1802178000@uuspokane.org
SUMMARY:Ops Team Meeting
DESCRIPTION:
URL:https://uuspokane.org/event/ops-team-meeting/2027-02-09/
LOCATION:RE Zoom Account
CATEGORIES:Meeting
END:VEVENT
BEGIN:VEVENT
DTSTART;TZID=America/Los_Angeles:20270212T160000
DTEND;TZID=America/Los_Angeles:20270212T173000
DTSTAMP:20260424T084753
CREATED:20260414T155358Z
LAST-MODIFIED:20260414T155358Z
UID:10000577-1802448000-1802453400@uuspokane.org
SUMMARY:LGBTQ+ Senior Group
DESCRIPTION:ZOOM
URL:https://uuspokane.org/event/lgbtq-senior-group-2-2/2027-02-12/
LOCATION:ZOOM
CATEGORIES:Meeting
ORGANIZER;CN="Nancy Avery":MAILTO:NancyTavery@comcast.net
END:VEVENT
BEGIN:VEVENT
DTSTART;TZID=America/Los_Angeles:20270215T183000
DTEND;TZID=America/Los_Angeles:20270215T200000
DTSTAMP:20260424T084753
CREATED:20250925T180231Z
LAST-MODIFIED:20250925T231548Z
UID:10003196-1802716200-1802721600@uuspokane.org
SUMMARY:Social Justice Coordinating Council
DESCRIPTION:
URL:https://uuspokane.org/event/social-justice-coordinating-council/2027-02-15/
LOCATION:RE Zoom Account
CATEGORIES:Meeting
END:VEVENT
BEGIN:VEVENT
DTSTART;TZID=America/Los_Angeles:20270217T160000
DTEND;TZID=America/Los_Angeles:20270217T170000
DTSTAMP:20260424T084753
CREATED:20250925T173505Z
LAST-MODIFIED:20250925T173505Z
UID:10002644-1802880000-1802883600@uuspokane.org
SUMMARY:Board Agenda Meeting
DESCRIPTION:
URL:https://uuspokane.org/event/board-agenda-meeting/2027-02-17/
LOCATION:RE Zoom Account
CATEGORIES:Meeting
END:VEVENT
BEGIN:VEVENT
DTSTART;TZID=America/Los_Angeles:20270219T160000
DTEND;TZID=America/Los_Angeles:20270219T173000
DTSTAMP:20260424T084753
CREATED:20260414T155358Z
LAST-MODIFIED:20260414T155358Z
UID:10000578-1803052800-1803058200@uuspokane.org
SUMMARY:LGBTQ+ Senior Group
DESCRIPTION:ZOOM
URL:https://uuspokane.org/event/lgbtq-senior-group-2-2/2027-02-19/
LOCATION:ZOOM
CATEGORIES:Meeting
ORGANIZER;CN="Nancy Avery":MAILTO:NancyTavery@comcast.net
END:VEVENT
BEGIN:VEVENT
DTSTART;TZID=America/Los_Angeles:20270224T160000
DTEND;TZID=America/Los_Angeles:20270224T173000
DTSTAMP:20260424T084753
CREATED:20251204T221746Z
LAST-MODIFIED:20251204T221844Z
UID:10003799-1803484800-1803490200@uuspokane.org
SUMMARY:Board of Trustees Meeting
DESCRIPTION:
URL:https://uuspokane.org/event/board-of-trustees-meeting-2/2027-02-24/
LOCATION:RE Zoom Account
CATEGORIES:Meeting
END:VEVENT
BEGIN:VEVENT
DTSTART;TZID=America/Los_Angeles:20270225T160000
DTEND;TZID=America/Los_Angeles:20270225T170000
DTSTAMP:20260424T084753
CREATED:20250924T192847Z
LAST-MODIFIED:20250924T192920Z
UID:10000402-1803571200-1803574800@uuspokane.org
SUMMARY:Endowment Team Meeting
DESCRIPTION:Zoom
URL:https://uuspokane.org/event/endowment-team-meeting/2027-02-25/
LOCATION:ZOOM
CATEGORIES:Meeting
END:VEVENT
BEGIN:VEVENT
DTSTART;TZID=America/Los_Angeles:20270225T160000
DTEND;TZID=America/Los_Angeles:20270225T180000
DTSTAMP:20260424T084753
CREATED:20250924T193145Z
LAST-MODIFIED:20250924T193145Z
UID:10000462-1803571200-1803578400@uuspokane.org
SUMMARY:LGBTQ+ Seniors Steering Committee Meeting
DESCRIPTION:ZOOM
URL:https://uuspokane.org/event/lgbtq-seniors-steering-committee-meeting/2027-02-25/
LOCATION:RE Zoom Account
CATEGORIES:Meeting
END:VEVENT
BEGIN:VEVENT
DTSTART;TZID=America/Los_Angeles:20270226T160000
DTEND;TZID=America/Los_Angeles:20270226T173000
DTSTAMP:20260424T084753
CREATED:20260414T155358Z
LAST-MODIFIED:20260414T155358Z
UID:10000579-1803657600-1803663000@uuspokane.org
SUMMARY:LGBTQ+ Senior Group
DESCRIPTION:ZOOM
URL:https://uuspokane.org/event/lgbtq-senior-group-2-2/2027-02-26/
LOCATION:ZOOM
CATEGORIES:Meeting
ORGANIZER;CN="Nancy Avery":MAILTO:NancyTavery@comcast.net
END:VEVENT
BEGIN:VEVENT
DTSTART;TZID=America/Los_Angeles:20270303T100000
DTEND;TZID=America/Los_Angeles:20270303T110000
DTSTAMP:20260424T084753
CREATED:20251203T172547Z
LAST-MODIFIED:20251203T172547Z
UID:10003678-1804068000-1804071600@uuspokane.org
SUMMARY:Staff Meeting
DESCRIPTION:
URL:https://uuspokane.org/event/staff-meeting/2027-03-03/
LOCATION:UUCS Office
CATEGORIES:Meeting
END:VEVENT
BEGIN:VEVENT
DTSTART;TZID=America/Los_Angeles:20270303T140000
DTEND;TZID=America/Los_Angeles:20270303T160000
DTSTAMP:20260424T084753
CREATED:20250925T232509Z
LAST-MODIFIED:20250925T232509Z
UID:10003319-1804082400-1804089600@uuspokane.org
SUMMARY:Pastoral Care Team Planning Meeting
DESCRIPTION:
URL:https://uuspokane.org/event/pastoral-care-team-planning-meeting/2027-03-03/
LOCATION:ZOOM
CATEGORIES:Meeting
END:VEVENT
BEGIN:VEVENT
DTSTART;TZID=America/Los_Angeles:20270304T140000
DTEND;TZID=America/Los_Angeles:20270304T160000
DTSTAMP:20260424T084753
CREATED:20260122T180054Z
LAST-MODIFIED:20260122T180054Z
UID:10003918-1804168800-1804176000@uuspokane.org
SUMMARY:Retirement Group (closed meeting)
DESCRIPTION:
URL:https://uuspokane.org/event/retirement-group-closed-meeting-2/2027-03-04/
LOCATION:ZOOM
CATEGORIES:Meeting
END:VEVENT
BEGIN:VEVENT
DTSTART;TZID=America/Los_Angeles:20270305T160000
DTEND;TZID=America/Los_Angeles:20270305T173000
DTSTAMP:20260424T084753
CREATED:20260414T155358Z
LAST-MODIFIED:20260414T155358Z
UID:10000580-1804262400-1804267800@uuspokane.org
SUMMARY:LGBTQ+ Senior Group
DESCRIPTION:ZOOM
URL:https://uuspokane.org/event/lgbtq-senior-group-2-2/2027-03-05/
LOCATION:ZOOM
CATEGORIES:Meeting
ORGANIZER;CN="Nancy Avery":MAILTO:NancyTavery@comcast.net
END:VEVENT
BEGIN:VEVENT
DTSTART;TZID=America/Los_Angeles:20270309T110000
DTEND;TZID=America/Los_Angeles:20270309T130000
DTSTAMP:20260424T084753
CREATED:20250925T173256Z
LAST-MODIFIED:20250925T173256Z
UID:10002585-1804590000-1804597200@uuspokane.org
SUMMARY:Ops Team Meeting
DESCRIPTION:
URL:https://uuspokane.org/event/ops-team-meeting/2027-03-09/
LOCATION:RE Zoom Account
CATEGORIES:Meeting
END:VEVENT
BEGIN:VEVENT
DTSTART;TZID=America/Los_Angeles:20270312T160000
DTEND;TZID=America/Los_Angeles:20270312T173000
DTSTAMP:20260424T084753
CREATED:20260414T155358Z
LAST-MODIFIED:20260414T155358Z
UID:10000581-1804867200-1804872600@uuspokane.org
SUMMARY:LGBTQ+ Senior Group
DESCRIPTION:ZOOM
URL:https://uuspokane.org/event/lgbtq-senior-group-2-2/2027-03-12/
LOCATION:ZOOM
CATEGORIES:Meeting
ORGANIZER;CN="Nancy Avery":MAILTO:NancyTavery@comcast.net
END:VEVENT
BEGIN:VEVENT
DTSTART;TZID=America/Los_Angeles:20270315T183000
DTEND;TZID=America/Los_Angeles:20270315T200000
DTSTAMP:20260424T084753
CREATED:20250925T180231Z
LAST-MODIFIED:20250925T231548Z
UID:10003197-1805135400-1805140800@uuspokane.org
SUMMARY:Social Justice Coordinating Council
DESCRIPTION:
URL:https://uuspokane.org/event/social-justice-coordinating-council/2027-03-15/
LOCATION:RE Zoom Account
CATEGORIES:Meeting
END:VEVENT
END:VCALENDAR