BEGIN:VCALENDAR
VERSION:2.0
PRODID:-//Unitarian Universalist Church of Spokane - ECPv6.15.20//NONSGML v1.0//EN
CALSCALE:GREGORIAN
METHOD:PUBLISH
X-ORIGINAL-URL:https://uuspokane.org
X-WR-CALDESC:Events for Unitarian Universalist Church of Spokane
REFRESH-INTERVAL;VALUE=DURATION:PT1H
X-Robots-Tag:noindex
X-PUBLISHED-TTL:PT1H
BEGIN:VTIMEZONE
TZID:America/Los_Angeles
BEGIN:DAYLIGHT
TZOFFSETFROM:-0800
TZOFFSETTO:-0700
TZNAME:PDT
DTSTART:20240310T100000
END:DAYLIGHT
BEGIN:STANDARD
TZOFFSETFROM:-0700
TZOFFSETTO:-0800
TZNAME:PST
DTSTART:20241103T090000
END:STANDARD
BEGIN:DAYLIGHT
TZOFFSETFROM:-0800
TZOFFSETTO:-0700
TZNAME:PDT
DTSTART:20250309T100000
END:DAYLIGHT
BEGIN:STANDARD
TZOFFSETFROM:-0700
TZOFFSETTO:-0800
TZNAME:PST
DTSTART:20251102T090000
END:STANDARD
BEGIN:DAYLIGHT
TZOFFSETFROM:-0800
TZOFFSETTO:-0700
TZNAME:PDT
DTSTART:20260308T100000
END:DAYLIGHT
BEGIN:STANDARD
TZOFFSETFROM:-0700
TZOFFSETTO:-0800
TZNAME:PST
DTSTART:20261101T090000
END:STANDARD
BEGIN:DAYLIGHT
TZOFFSETFROM:-0800
TZOFFSETTO:-0700
TZNAME:PDT
DTSTART:20270314T100000
END:DAYLIGHT
BEGIN:STANDARD
TZOFFSETFROM:-0700
TZOFFSETTO:-0800
TZNAME:PST
DTSTART:20271107T090000
END:STANDARD
END:VTIMEZONE
BEGIN:VEVENT
DTSTART;TZID=America/Los_Angeles:20260307T110000
DTEND;TZID=America/Los_Angeles:20260307T140000
DTSTAMP:20260423T141307
CREATED:20260223T185157Z
LAST-MODIFIED:20260223T185157Z
UID:10004040-1772881200-1772892000@uuspokane.org
SUMMARY:Private Memorial Service
DESCRIPTION:Building Use 10 am – 3 pm
URL:https://uuspokane.org/event/private-memorial-service-2/
LOCATION:Friendship Hall
CATEGORIES:Memorial Service
END:VEVENT
BEGIN:VEVENT
DTSTART;TZID=America/Los_Angeles:20260215T150000
DTEND;TZID=America/Los_Angeles:20260215T200000
DTSTAMP:20260423T141307
CREATED:20251204T210127Z
LAST-MODIFIED:20251215T185629Z
UID:10003724-1771167600-1771185600@uuspokane.org
SUMMARY:Private Event: Dan Randal Wright Memorial Service
DESCRIPTION:Building use 3 – 8 PM
URL:https://uuspokane.org/event/private-memorial-service/
LOCATION:Friendship Hall
CATEGORIES:Memorial Service
END:VEVENT
BEGIN:VEVENT
DTSTART;TZID=America/Los_Angeles:20260117T130000
DTEND;TZID=America/Los_Angeles:20260117T150000
DTSTAMP:20260423T141307
CREATED:20260105T214725Z
LAST-MODIFIED:20260105T231336Z
UID:10003859-1768654800-1768662000@uuspokane.org
SUMMARY:Linda Hodge Memorial Service
DESCRIPTION:Building use 12-4 PM
URL:https://uuspokane.org/event/linda-hodges-memorial-service/
LOCATION:Sanctuary
CATEGORIES:Memorial Service
END:VEVENT
BEGIN:VEVENT
DTSTART;TZID=America/Los_Angeles:20251213T150000
DTEND;TZID=America/Los_Angeles:20251213T170000
DTSTAMP:20260423T141307
CREATED:20251209T203101Z
LAST-MODIFIED:20251209T210229Z
UID:10003852-1765638000-1765645200@uuspokane.org
SUMMARY:Kay Parkin Memorial Service
DESCRIPTION:Building Use 2 – 6 PM
URL:https://uuspokane.org/event/kay-parkin-memorial-service/
LOCATION:Friendship Hall
CATEGORIES:Memorial Service
END:VEVENT
BEGIN:VEVENT
DTSTART;TZID=America/Los_Angeles:20251112T183000
DTEND;TZID=America/Los_Angeles:20251112T210000
DTSTAMP:20260423T141307
CREATED:20251014T172527Z
LAST-MODIFIED:20251014T172527Z
UID:10003452-1762972200-1762981200@uuspokane.org
SUMMARY:Josyln Cain Memorial Service
DESCRIPTION:
URL:https://uuspokane.org/event/josyln-cain-memorial-service/
LOCATION:Sanctuary
CATEGORIES:Memorial Service
END:VEVENT
END:VCALENDAR