BEGIN:VCALENDAR
VERSION:2.0
PRODID:-//Unitarian Universalist Church of Spokane - ECPv6.15.20//NONSGML v1.0//EN
CALSCALE:GREGORIAN
METHOD:PUBLISH
X-ORIGINAL-URL:https://uuspokane.org
X-WR-CALDESC:Events for Unitarian Universalist Church of Spokane
REFRESH-INTERVAL;VALUE=DURATION:PT1H
X-Robots-Tag:noindex
X-PUBLISHED-TTL:PT1H
BEGIN:VTIMEZONE
TZID:America/Los_Angeles
BEGIN:DAYLIGHT
TZOFFSETFROM:-0800
TZOFFSETTO:-0700
TZNAME:PDT
DTSTART:20240310T100000
END:DAYLIGHT
BEGIN:STANDARD
TZOFFSETFROM:-0700
TZOFFSETTO:-0800
TZNAME:PST
DTSTART:20241103T090000
END:STANDARD
BEGIN:DAYLIGHT
TZOFFSETFROM:-0800
TZOFFSETTO:-0700
TZNAME:PDT
DTSTART:20250309T100000
END:DAYLIGHT
BEGIN:STANDARD
TZOFFSETFROM:-0700
TZOFFSETTO:-0800
TZNAME:PST
DTSTART:20251102T090000
END:STANDARD
BEGIN:DAYLIGHT
TZOFFSETFROM:-0800
TZOFFSETTO:-0700
TZNAME:PDT
DTSTART:20260308T100000
END:DAYLIGHT
BEGIN:STANDARD
TZOFFSETFROM:-0700
TZOFFSETTO:-0800
TZNAME:PST
DTSTART:20261101T090000
END:STANDARD
END:VTIMEZONE
BEGIN:VEVENT
DTSTART;TZID=America/Los_Angeles:20251001T150000
DTEND;TZID=America/Los_Angeles:20251001T150000
DTSTAMP:20260424T014632
CREATED:20250924T191050Z
LAST-MODIFIED:20250924T191050Z
UID:10000064-1759330800-1759330800@uuspokane.org
SUMMARY:Weekly SUUN Submission Deadline
DESCRIPTION:
URL:https://uuspokane.org/event/weekly-suun-submission-deadline/2025-10-01/
CATEGORIES:Other
END:VEVENT
BEGIN:VEVENT
DTSTART;TZID=America/Los_Angeles:20251008T150000
DTEND;TZID=America/Los_Angeles:20251008T150000
DTSTAMP:20260424T014632
CREATED:20250924T191050Z
LAST-MODIFIED:20250924T191050Z
UID:10000065-1759935600-1759935600@uuspokane.org
SUMMARY:Weekly SUUN Submission Deadline
DESCRIPTION:
URL:https://uuspokane.org/event/weekly-suun-submission-deadline/2025-10-08/
CATEGORIES:Other
END:VEVENT
BEGIN:VEVENT
DTSTART;TZID=America/Los_Angeles:20251011T113000
DTEND;TZID=America/Los_Angeles:20251011T140000
DTSTAMP:20260424T014632
CREATED:20250925T172601Z
LAST-MODIFIED:20251030T173052Z
UID:10002507-1760182200-1760191200@uuspokane.org
SUMMARY:LGBTQ+ Seniors of the Inland Northwest Potluck
DESCRIPTION:Join us for food\, fellowship and conversation.
URL:https://uuspokane.org/event/lgbtq-seniors-of-the-inland-northwest-potluck/2025-10-11/
LOCATION:Friendship Hall
CATEGORIES:Other
ORGANIZER;CN="Nancy Avery":MAILTO:NancyTavery@comcast.net
END:VEVENT
BEGIN:VEVENT
DTSTART;TZID=America/Los_Angeles:20251015T150000
DTEND;TZID=America/Los_Angeles:20251015T150000
DTSTAMP:20260424T014632
CREATED:20250924T191050Z
LAST-MODIFIED:20250924T191050Z
UID:10000066-1760540400-1760540400@uuspokane.org
SUMMARY:Weekly SUUN Submission Deadline
DESCRIPTION:
URL:https://uuspokane.org/event/weekly-suun-submission-deadline/2025-10-15/
CATEGORIES:Other
END:VEVENT
BEGIN:VEVENT
DTSTART;TZID=America/Los_Angeles:20251019T123000
DTEND;TZID=America/Los_Angeles:20251019T133000
DTSTAMP:20260424T014632
CREATED:20250925T180338Z
LAST-MODIFIED:20251008T150452Z
UID:10002928-1760877000-1760880600@uuspokane.org
SUMMARY:Family Faith at Home Fair
DESCRIPTION:Come celebrate and explore faith development at our UU Family Faith at Home Fair! After the second service during the all-church potluck on Sunday\, October 19\, drop into the Chapel for an open-house experience. Discover hands-on practices that nurture connection\, gratitude\, and meaning-making. Many of these practices have been used in traditional churches\, but they are equally rooted in our UU values. I will be there to guide you through easy activities and you’ll leave with simple ways to “do church” at home. Stations include: \n\nCandles of Care\nGratitude Tree\nSmartphone Prayers\nNighttime Blessings\n\nEveryone is welcome—come as you are (just not hungry—get food from the potluck first!)\, stay as long as you like\, and take home inspiration.
URL:https://uuspokane.org/event/faith-formation-at-home-fair/
LOCATION:Chapel
CATEGORIES:Other
ORGANIZER;CN="Stephanie Gronholz":MAILTO:re@uuspokane.org
END:VEVENT
BEGIN:VEVENT
DTSTART;TZID=America/Los_Angeles:20251022T150000
DTEND;TZID=America/Los_Angeles:20251022T150000
DTSTAMP:20260424T014632
CREATED:20250924T191050Z
LAST-MODIFIED:20250924T191050Z
UID:10000067-1761145200-1761145200@uuspokane.org
SUMMARY:Weekly SUUN Submission Deadline
DESCRIPTION:
URL:https://uuspokane.org/event/weekly-suun-submission-deadline/2025-10-22/
CATEGORIES:Other
END:VEVENT
BEGIN:VEVENT
DTSTART;TZID=America/Los_Angeles:20251029T150000
DTEND;TZID=America/Los_Angeles:20251029T150000
DTSTAMP:20260424T014632
CREATED:20250924T191050Z
LAST-MODIFIED:20250924T191050Z
UID:10000068-1761750000-1761750000@uuspokane.org
SUMMARY:Weekly SUUN Submission Deadline
DESCRIPTION:
URL:https://uuspokane.org/event/weekly-suun-submission-deadline/2025-10-29/
CATEGORIES:Other
END:VEVENT
END:VCALENDAR