BEGIN:VCALENDAR
VERSION:2.0
PRODID:-//Unitarian Universalist Church of Spokane - ECPv6.15.20//NONSGML v1.0//EN
CALSCALE:GREGORIAN
METHOD:PUBLISH
X-ORIGINAL-URL:https://uuspokane.org
X-WR-CALDESC:Events for Unitarian Universalist Church of Spokane
REFRESH-INTERVAL;VALUE=DURATION:PT1H
X-Robots-Tag:noindex
X-PUBLISHED-TTL:PT1H
BEGIN:VTIMEZONE
TZID:America/Los_Angeles
BEGIN:DAYLIGHT
TZOFFSETFROM:-0800
TZOFFSETTO:-0700
TZNAME:PDT
DTSTART:20250309T100000
END:DAYLIGHT
BEGIN:STANDARD
TZOFFSETFROM:-0700
TZOFFSETTO:-0800
TZNAME:PST
DTSTART:20251102T090000
END:STANDARD
BEGIN:DAYLIGHT
TZOFFSETFROM:-0800
TZOFFSETTO:-0700
TZNAME:PDT
DTSTART:20260308T100000
END:DAYLIGHT
BEGIN:STANDARD
TZOFFSETFROM:-0700
TZOFFSETTO:-0800
TZNAME:PST
DTSTART:20261101T090000
END:STANDARD
BEGIN:DAYLIGHT
TZOFFSETFROM:-0800
TZOFFSETTO:-0700
TZNAME:PDT
DTSTART:20270314T100000
END:DAYLIGHT
BEGIN:STANDARD
TZOFFSETFROM:-0700
TZOFFSETTO:-0800
TZNAME:PST
DTSTART:20271107T090000
END:STANDARD
END:VTIMEZONE
BEGIN:VEVENT
DTSTART;TZID=America/Los_Angeles:20260107T150000
DTEND;TZID=America/Los_Angeles:20260107T150000
DTSTAMP:20260423T204930
CREATED:20250924T191050Z
LAST-MODIFIED:20250924T191050Z
UID:10000078-1767798000-1767798000@uuspokane.org
SUMMARY:Weekly SUUN Submission Deadline
DESCRIPTION:
URL:https://uuspokane.org/event/weekly-suun-submission-deadline/2026-01-07/
CATEGORIES:Other
END:VEVENT
BEGIN:VEVENT
DTSTART;TZID=America/Los_Angeles:20260110T113000
DTEND;TZID=America/Los_Angeles:20260110T140000
DTSTAMP:20260423T204930
CREATED:20250925T172601Z
LAST-MODIFIED:20251030T173052Z
UID:10002510-1768044600-1768053600@uuspokane.org
SUMMARY:LGBTQ+ Seniors of the Inland Northwest Potluck
DESCRIPTION:Join us for food\, fellowship and conversation.
URL:https://uuspokane.org/event/lgbtq-seniors-of-the-inland-northwest-potluck/2026-01-10/
LOCATION:Friendship Hall
CATEGORIES:Other
ORGANIZER;CN="Nancy Avery":MAILTO:NancyTavery@comcast.net
END:VEVENT
BEGIN:VEVENT
DTSTART;TZID=America/Los_Angeles:20260114T150000
DTEND;TZID=America/Los_Angeles:20260114T150000
DTSTAMP:20260423T204930
CREATED:20250924T191050Z
LAST-MODIFIED:20250924T191050Z
UID:10000079-1768402800-1768402800@uuspokane.org
SUMMARY:Weekly SUUN Submission Deadline
DESCRIPTION:
URL:https://uuspokane.org/event/weekly-suun-submission-deadline/2026-01-14/
CATEGORIES:Other
END:VEVENT
BEGIN:VEVENT
DTSTART;TZID=America/Los_Angeles:20260121T150000
DTEND;TZID=America/Los_Angeles:20260121T150000
DTSTAMP:20260423T204930
CREATED:20250924T191050Z
LAST-MODIFIED:20250924T191050Z
UID:10000080-1769007600-1769007600@uuspokane.org
SUMMARY:Weekly SUUN Submission Deadline
DESCRIPTION:
URL:https://uuspokane.org/event/weekly-suun-submission-deadline/2026-01-21/
CATEGORIES:Other
END:VEVENT
BEGIN:VEVENT
DTSTART;TZID=America/Los_Angeles:20260128T150000
DTEND;TZID=America/Los_Angeles:20260128T150000
DTSTAMP:20260423T204930
CREATED:20250924T191050Z
LAST-MODIFIED:20250924T191050Z
UID:10000081-1769612400-1769612400@uuspokane.org
SUMMARY:Weekly SUUN Submission Deadline
DESCRIPTION:
URL:https://uuspokane.org/event/weekly-suun-submission-deadline/2026-01-28/
CATEGORIES:Other
END:VEVENT
END:VCALENDAR