BEGIN:VCALENDAR
VERSION:2.0
PRODID:-//Unitarian Universalist Church of Spokane - ECPv6.15.20//NONSGML v1.0//EN
CALSCALE:GREGORIAN
METHOD:PUBLISH
X-ORIGINAL-URL:https://uuspokane.org
X-WR-CALDESC:Events for Unitarian Universalist Church of Spokane
REFRESH-INTERVAL;VALUE=DURATION:PT1H
X-Robots-Tag:noindex
X-PUBLISHED-TTL:PT1H
BEGIN:VTIMEZONE
TZID:America/Los_Angeles
BEGIN:DAYLIGHT
TZOFFSETFROM:-0800
TZOFFSETTO:-0700
TZNAME:PDT
DTSTART:20270314T100000
END:DAYLIGHT
BEGIN:STANDARD
TZOFFSETFROM:-0700
TZOFFSETTO:-0800
TZNAME:PST
DTSTART:20271107T090000
END:STANDARD
BEGIN:DAYLIGHT
TZOFFSETFROM:-0800
TZOFFSETTO:-0700
TZNAME:PDT
DTSTART:20280312T100000
END:DAYLIGHT
BEGIN:STANDARD
TZOFFSETFROM:-0700
TZOFFSETTO:-0800
TZNAME:PST
DTSTART:20281105T090000
END:STANDARD
BEGIN:DAYLIGHT
TZOFFSETFROM:-0800
TZOFFSETTO:-0700
TZNAME:PDT
DTSTART:20290311T100000
END:DAYLIGHT
BEGIN:STANDARD
TZOFFSETFROM:-0700
TZOFFSETTO:-0800
TZNAME:PST
DTSTART:20291104T090000
END:STANDARD
END:VTIMEZONE
BEGIN:VEVENT
DTSTART;TZID=America/Los_Angeles:20280126T150000
DTEND;TZID=America/Los_Angeles:20280126T150000
DTSTAMP:20260425T033927
CREATED:20250924T191050Z
LAST-MODIFIED:20250924T191050Z
UID:10000185-1832511600-1832511600@uuspokane.org
SUMMARY:Weekly SUUN Submission Deadline
DESCRIPTION:
URL:https://uuspokane.org/event/weekly-suun-submission-deadline/2028-01-26/
CATEGORIES:Other
END:VEVENT
BEGIN:VEVENT
DTSTART;TZID=America/Los_Angeles:20280202T150000
DTEND;TZID=America/Los_Angeles:20280202T150000
DTSTAMP:20260425T033927
CREATED:20250924T191050Z
LAST-MODIFIED:20250924T191050Z
UID:10000186-1833116400-1833116400@uuspokane.org
SUMMARY:Weekly SUUN Submission Deadline
DESCRIPTION:
URL:https://uuspokane.org/event/weekly-suun-submission-deadline/2028-02-02/
CATEGORIES:Other
END:VEVENT
BEGIN:VEVENT
DTSTART;TZID=America/Los_Angeles:20280209T150000
DTEND;TZID=America/Los_Angeles:20280209T150000
DTSTAMP:20260425T033927
CREATED:20250924T191050Z
LAST-MODIFIED:20250924T191050Z
UID:10000187-1833721200-1833721200@uuspokane.org
SUMMARY:Weekly SUUN Submission Deadline
DESCRIPTION:
URL:https://uuspokane.org/event/weekly-suun-submission-deadline/2028-02-09/
CATEGORIES:Other
END:VEVENT
BEGIN:VEVENT
DTSTART;TZID=America/Los_Angeles:20280212T113000
DTEND;TZID=America/Los_Angeles:20280212T140000
DTSTAMP:20260425T033927
CREATED:20260204T203641Z
LAST-MODIFIED:20260204T203641Z
UID:10002535-1833967800-1833976800@uuspokane.org
SUMMARY:LGBTQ+ Seniors of the Inland Northwest Potluck
DESCRIPTION:Join us for food\, fellowship and conversation.
URL:https://uuspokane.org/event/lgbtq-seniors-of-the-inland-northwest-potluck-2/2028-02-12/
LOCATION:Friendship Hall
CATEGORIES:Other
ORGANIZER;CN="Nancy Avery":MAILTO:NancyTavery@comcast.net
END:VEVENT
BEGIN:VEVENT
DTSTART;TZID=America/Los_Angeles:20280216T150000
DTEND;TZID=America/Los_Angeles:20280216T150000
DTSTAMP:20260425T033927
CREATED:20250924T191050Z
LAST-MODIFIED:20250924T191050Z
UID:10000188-1834326000-1834326000@uuspokane.org
SUMMARY:Weekly SUUN Submission Deadline
DESCRIPTION:
URL:https://uuspokane.org/event/weekly-suun-submission-deadline/2028-02-16/
CATEGORIES:Other
END:VEVENT
BEGIN:VEVENT
DTSTART;TZID=America/Los_Angeles:20280223T150000
DTEND;TZID=America/Los_Angeles:20280223T150000
DTSTAMP:20260425T033927
CREATED:20250924T191050Z
LAST-MODIFIED:20250924T191050Z
UID:10000189-1834930800-1834930800@uuspokane.org
SUMMARY:Weekly SUUN Submission Deadline
DESCRIPTION:
URL:https://uuspokane.org/event/weekly-suun-submission-deadline/2028-02-23/
CATEGORIES:Other
END:VEVENT
BEGIN:VEVENT
DTSTART;TZID=America/Los_Angeles:20280301T150000
DTEND;TZID=America/Los_Angeles:20280301T150000
DTSTAMP:20260425T033927
CREATED:20250924T191050Z
LAST-MODIFIED:20250924T191050Z
UID:10000190-1835535600-1835535600@uuspokane.org
SUMMARY:Weekly SUUN Submission Deadline
DESCRIPTION:
URL:https://uuspokane.org/event/weekly-suun-submission-deadline/2028-03-01/
CATEGORIES:Other
END:VEVENT
BEGIN:VEVENT
DTSTART;TZID=America/Los_Angeles:20280308T150000
DTEND;TZID=America/Los_Angeles:20280308T150000
DTSTAMP:20260425T033927
CREATED:20250924T191050Z
LAST-MODIFIED:20250924T191050Z
UID:10000191-1836140400-1836140400@uuspokane.org
SUMMARY:Weekly SUUN Submission Deadline
DESCRIPTION:
URL:https://uuspokane.org/event/weekly-suun-submission-deadline/2028-03-08/
CATEGORIES:Other
END:VEVENT
BEGIN:VEVENT
DTSTART;TZID=America/Los_Angeles:20280311T113000
DTEND;TZID=America/Los_Angeles:20280311T140000
DTSTAMP:20260425T033927
CREATED:20260204T203641Z
LAST-MODIFIED:20260204T203641Z
UID:10002536-1836387000-1836396000@uuspokane.org
SUMMARY:LGBTQ+ Seniors of the Inland Northwest Potluck
DESCRIPTION:Join us for food\, fellowship and conversation.
URL:https://uuspokane.org/event/lgbtq-seniors-of-the-inland-northwest-potluck-2/2028-03-11/
LOCATION:Friendship Hall
CATEGORIES:Other
ORGANIZER;CN="Nancy Avery":MAILTO:NancyTavery@comcast.net
END:VEVENT
BEGIN:VEVENT
DTSTART;TZID=America/Los_Angeles:20280315T150000
DTEND;TZID=America/Los_Angeles:20280315T150000
DTSTAMP:20260425T033927
CREATED:20250924T191050Z
LAST-MODIFIED:20250924T191050Z
UID:10000192-1836745200-1836745200@uuspokane.org
SUMMARY:Weekly SUUN Submission Deadline
DESCRIPTION:
URL:https://uuspokane.org/event/weekly-suun-submission-deadline/2028-03-15/
CATEGORIES:Other
END:VEVENT
BEGIN:VEVENT
DTSTART;TZID=America/Los_Angeles:20280322T150000
DTEND;TZID=America/Los_Angeles:20280322T150000
DTSTAMP:20260425T033927
CREATED:20250924T191050Z
LAST-MODIFIED:20250924T191050Z
UID:10000193-1837350000-1837350000@uuspokane.org
SUMMARY:Weekly SUUN Submission Deadline
DESCRIPTION:
URL:https://uuspokane.org/event/weekly-suun-submission-deadline/2028-03-22/
CATEGORIES:Other
END:VEVENT
BEGIN:VEVENT
DTSTART;TZID=America/Los_Angeles:20280329T150000
DTEND;TZID=America/Los_Angeles:20280329T150000
DTSTAMP:20260425T033927
CREATED:20250924T191050Z
LAST-MODIFIED:20250924T191050Z
UID:10000194-1837954800-1837954800@uuspokane.org
SUMMARY:Weekly SUUN Submission Deadline
DESCRIPTION:
URL:https://uuspokane.org/event/weekly-suun-submission-deadline/2028-03-29/
CATEGORIES:Other
END:VEVENT
BEGIN:VEVENT
DTSTART;TZID=America/Los_Angeles:20280405T150000
DTEND;TZID=America/Los_Angeles:20280405T150000
DTSTAMP:20260425T033927
CREATED:20250924T191050Z
LAST-MODIFIED:20250924T191050Z
UID:10000195-1838559600-1838559600@uuspokane.org
SUMMARY:Weekly SUUN Submission Deadline
DESCRIPTION:
URL:https://uuspokane.org/event/weekly-suun-submission-deadline/2028-04-05/
CATEGORIES:Other
END:VEVENT
BEGIN:VEVENT
DTSTART;TZID=America/Los_Angeles:20280408T113000
DTEND;TZID=America/Los_Angeles:20280408T140000
DTSTAMP:20260425T033927
CREATED:20260204T203641Z
LAST-MODIFIED:20260204T203641Z
UID:10002537-1838806200-1838815200@uuspokane.org
SUMMARY:LGBTQ+ Seniors of the Inland Northwest Potluck
DESCRIPTION:Join us for food\, fellowship and conversation.
URL:https://uuspokane.org/event/lgbtq-seniors-of-the-inland-northwest-potluck-2/2028-04-08/
LOCATION:Friendship Hall
CATEGORIES:Other
ORGANIZER;CN="Nancy Avery":MAILTO:NancyTavery@comcast.net
END:VEVENT
BEGIN:VEVENT
DTSTART;TZID=America/Los_Angeles:20280412T150000
DTEND;TZID=America/Los_Angeles:20280412T150000
DTSTAMP:20260425T033927
CREATED:20250924T191050Z
LAST-MODIFIED:20250924T191050Z
UID:10000196-1839164400-1839164400@uuspokane.org
SUMMARY:Weekly SUUN Submission Deadline
DESCRIPTION:
URL:https://uuspokane.org/event/weekly-suun-submission-deadline/2028-04-12/
CATEGORIES:Other
END:VEVENT
BEGIN:VEVENT
DTSTART;TZID=America/Los_Angeles:20280419T150000
DTEND;TZID=America/Los_Angeles:20280419T150000
DTSTAMP:20260425T033927
CREATED:20250924T191050Z
LAST-MODIFIED:20250924T191050Z
UID:10000197-1839769200-1839769200@uuspokane.org
SUMMARY:Weekly SUUN Submission Deadline
DESCRIPTION:
URL:https://uuspokane.org/event/weekly-suun-submission-deadline/2028-04-19/
CATEGORIES:Other
END:VEVENT
BEGIN:VEVENT
DTSTART;TZID=America/Los_Angeles:20280426T150000
DTEND;TZID=America/Los_Angeles:20280426T150000
DTSTAMP:20260425T033927
CREATED:20250924T191050Z
LAST-MODIFIED:20250924T191050Z
UID:10000198-1840374000-1840374000@uuspokane.org
SUMMARY:Weekly SUUN Submission Deadline
DESCRIPTION:
URL:https://uuspokane.org/event/weekly-suun-submission-deadline/2028-04-26/
CATEGORIES:Other
END:VEVENT
BEGIN:VEVENT
DTSTART;TZID=America/Los_Angeles:20280503T150000
DTEND;TZID=America/Los_Angeles:20280503T150000
DTSTAMP:20260425T033927
CREATED:20250924T191050Z
LAST-MODIFIED:20250924T191050Z
UID:10000199-1840978800-1840978800@uuspokane.org
SUMMARY:Weekly SUUN Submission Deadline
DESCRIPTION:
URL:https://uuspokane.org/event/weekly-suun-submission-deadline/2028-05-03/
CATEGORIES:Other
END:VEVENT
BEGIN:VEVENT
DTSTART;TZID=America/Los_Angeles:20280510T150000
DTEND;TZID=America/Los_Angeles:20280510T150000
DTSTAMP:20260425T033927
CREATED:20250924T191050Z
LAST-MODIFIED:20250924T191050Z
UID:10000200-1841583600-1841583600@uuspokane.org
SUMMARY:Weekly SUUN Submission Deadline
DESCRIPTION:
URL:https://uuspokane.org/event/weekly-suun-submission-deadline/2028-05-10/
CATEGORIES:Other
END:VEVENT
BEGIN:VEVENT
DTSTART;TZID=America/Los_Angeles:20280513T113000
DTEND;TZID=America/Los_Angeles:20280513T140000
DTSTAMP:20260425T033927
CREATED:20260204T203641Z
LAST-MODIFIED:20260204T203641Z
UID:10002538-1841830200-1841839200@uuspokane.org
SUMMARY:LGBTQ+ Seniors of the Inland Northwest Potluck
DESCRIPTION:Join us for food\, fellowship and conversation.
URL:https://uuspokane.org/event/lgbtq-seniors-of-the-inland-northwest-potluck-2/2028-05-13/
LOCATION:Friendship Hall
CATEGORIES:Other
ORGANIZER;CN="Nancy Avery":MAILTO:NancyTavery@comcast.net
END:VEVENT
BEGIN:VEVENT
DTSTART;TZID=America/Los_Angeles:20280517T150000
DTEND;TZID=America/Los_Angeles:20280517T150000
DTSTAMP:20260425T033927
CREATED:20250924T191050Z
LAST-MODIFIED:20250924T191050Z
UID:10000201-1842188400-1842188400@uuspokane.org
SUMMARY:Weekly SUUN Submission Deadline
DESCRIPTION:
URL:https://uuspokane.org/event/weekly-suun-submission-deadline/2028-05-17/
CATEGORIES:Other
END:VEVENT
BEGIN:VEVENT
DTSTART;TZID=America/Los_Angeles:20280524T150000
DTEND;TZID=America/Los_Angeles:20280524T150000
DTSTAMP:20260425T033927
CREATED:20250924T191050Z
LAST-MODIFIED:20250924T191050Z
UID:10000202-1842793200-1842793200@uuspokane.org
SUMMARY:Weekly SUUN Submission Deadline
DESCRIPTION:
URL:https://uuspokane.org/event/weekly-suun-submission-deadline/2028-05-24/
CATEGORIES:Other
END:VEVENT
BEGIN:VEVENT
DTSTART;TZID=America/Los_Angeles:20280531T150000
DTEND;TZID=America/Los_Angeles:20280531T150000
DTSTAMP:20260425T033927
CREATED:20250924T191050Z
LAST-MODIFIED:20250924T191050Z
UID:10000203-1843398000-1843398000@uuspokane.org
SUMMARY:Weekly SUUN Submission Deadline
DESCRIPTION:
URL:https://uuspokane.org/event/weekly-suun-submission-deadline/2028-05-31/
CATEGORIES:Other
END:VEVENT
BEGIN:VEVENT
DTSTART;TZID=America/Los_Angeles:20280607T150000
DTEND;TZID=America/Los_Angeles:20280607T150000
DTSTAMP:20260425T033927
CREATED:20250924T191050Z
LAST-MODIFIED:20250924T191050Z
UID:10000204-1844002800-1844002800@uuspokane.org
SUMMARY:Weekly SUUN Submission Deadline
DESCRIPTION:
URL:https://uuspokane.org/event/weekly-suun-submission-deadline/2028-06-07/
CATEGORIES:Other
END:VEVENT
BEGIN:VEVENT
DTSTART;TZID=America/Los_Angeles:20280610T113000
DTEND;TZID=America/Los_Angeles:20280610T140000
DTSTAMP:20260425T033927
CREATED:20260204T203641Z
LAST-MODIFIED:20260204T203641Z
UID:10002539-1844249400-1844258400@uuspokane.org
SUMMARY:LGBTQ+ Seniors of the Inland Northwest Potluck
DESCRIPTION:Join us for food\, fellowship and conversation.
URL:https://uuspokane.org/event/lgbtq-seniors-of-the-inland-northwest-potluck-2/2028-06-10/
LOCATION:Friendship Hall
CATEGORIES:Other
ORGANIZER;CN="Nancy Avery":MAILTO:NancyTavery@comcast.net
END:VEVENT
BEGIN:VEVENT
DTSTART;TZID=America/Los_Angeles:20280614T150000
DTEND;TZID=America/Los_Angeles:20280614T150000
DTSTAMP:20260425T033927
CREATED:20250924T191050Z
LAST-MODIFIED:20250924T191050Z
UID:10000205-1844607600-1844607600@uuspokane.org
SUMMARY:Weekly SUUN Submission Deadline
DESCRIPTION:
URL:https://uuspokane.org/event/weekly-suun-submission-deadline/2028-06-14/
CATEGORIES:Other
END:VEVENT
BEGIN:VEVENT
DTSTART;TZID=America/Los_Angeles:20280621T150000
DTEND;TZID=America/Los_Angeles:20280621T150000
DTSTAMP:20260425T033927
CREATED:20250924T191050Z
LAST-MODIFIED:20250924T191050Z
UID:10000206-1845212400-1845212400@uuspokane.org
SUMMARY:Weekly SUUN Submission Deadline
DESCRIPTION:
URL:https://uuspokane.org/event/weekly-suun-submission-deadline/2028-06-21/
CATEGORIES:Other
END:VEVENT
BEGIN:VEVENT
DTSTART;TZID=America/Los_Angeles:20280628T150000
DTEND;TZID=America/Los_Angeles:20280628T150000
DTSTAMP:20260425T033927
CREATED:20250924T191050Z
LAST-MODIFIED:20250924T191050Z
UID:10000207-1845817200-1845817200@uuspokane.org
SUMMARY:Weekly SUUN Submission Deadline
DESCRIPTION:
URL:https://uuspokane.org/event/weekly-suun-submission-deadline/2028-06-28/
CATEGORIES:Other
END:VEVENT
BEGIN:VEVENT
DTSTART;TZID=America/Los_Angeles:20280705T150000
DTEND;TZID=America/Los_Angeles:20280705T150000
DTSTAMP:20260425T033927
CREATED:20250924T191050Z
LAST-MODIFIED:20250924T191050Z
UID:10000208-1846422000-1846422000@uuspokane.org
SUMMARY:Weekly SUUN Submission Deadline
DESCRIPTION:
URL:https://uuspokane.org/event/weekly-suun-submission-deadline/2028-07-05/
CATEGORIES:Other
END:VEVENT
BEGIN:VEVENT
DTSTART;TZID=America/Los_Angeles:20280708T113000
DTEND;TZID=America/Los_Angeles:20280708T140000
DTSTAMP:20260425T033927
CREATED:20260204T203641Z
LAST-MODIFIED:20260204T203641Z
UID:10002540-1846668600-1846677600@uuspokane.org
SUMMARY:LGBTQ+ Seniors of the Inland Northwest Potluck
DESCRIPTION:Join us for food\, fellowship and conversation.
URL:https://uuspokane.org/event/lgbtq-seniors-of-the-inland-northwest-potluck-2/2028-07-08/
LOCATION:Friendship Hall
CATEGORIES:Other
ORGANIZER;CN="Nancy Avery":MAILTO:NancyTavery@comcast.net
END:VEVENT
END:VCALENDAR