BEGIN:VCALENDAR
VERSION:2.0
PRODID:-//Unitarian Universalist Church of Spokane - ECPv6.15.20//NONSGML v1.0//EN
CALSCALE:GREGORIAN
METHOD:PUBLISH
X-ORIGINAL-URL:https://uuspokane.org
X-WR-CALDESC:Events for Unitarian Universalist Church of Spokane
REFRESH-INTERVAL;VALUE=DURATION:PT1H
X-Robots-Tag:noindex
X-PUBLISHED-TTL:PT1H
BEGIN:VTIMEZONE
TZID:America/Los_Angeles
BEGIN:DAYLIGHT
TZOFFSETFROM:-0800
TZOFFSETTO:-0700
TZNAME:PDT
DTSTART:20240310T100000
END:DAYLIGHT
BEGIN:STANDARD
TZOFFSETFROM:-0700
TZOFFSETTO:-0800
TZNAME:PST
DTSTART:20241103T090000
END:STANDARD
BEGIN:DAYLIGHT
TZOFFSETFROM:-0800
TZOFFSETTO:-0700
TZNAME:PDT
DTSTART:20250309T100000
END:DAYLIGHT
BEGIN:STANDARD
TZOFFSETFROM:-0700
TZOFFSETTO:-0800
TZNAME:PST
DTSTART:20251102T090000
END:STANDARD
BEGIN:DAYLIGHT
TZOFFSETFROM:-0800
TZOFFSETTO:-0700
TZNAME:PDT
DTSTART:20260308T100000
END:DAYLIGHT
BEGIN:STANDARD
TZOFFSETFROM:-0700
TZOFFSETTO:-0800
TZNAME:PST
DTSTART:20261101T090000
END:STANDARD
BEGIN:DAYLIGHT
TZOFFSETFROM:-0800
TZOFFSETTO:-0700
TZNAME:PDT
DTSTART:20270314T100000
END:DAYLIGHT
BEGIN:STANDARD
TZOFFSETFROM:-0700
TZOFFSETTO:-0800
TZNAME:PST
DTSTART:20271107T090000
END:STANDARD
END:VTIMEZONE
BEGIN:VEVENT
DTSTART;TZID=America/Los_Angeles:20260107T150000
DTEND;TZID=America/Los_Angeles:20260107T150000
DTSTAMP:20260423T160720
CREATED:20250924T191050Z
LAST-MODIFIED:20250924T191050Z
UID:10000078-1767798000-1767798000@uuspokane.org
SUMMARY:Weekly SUUN Submission Deadline
DESCRIPTION:
URL:https://uuspokane.org/event/weekly-suun-submission-deadline/2026-01-07/
CATEGORIES:Other
END:VEVENT
BEGIN:VEVENT
DTSTART;TZID=America/Los_Angeles:20251231T150000
DTEND;TZID=America/Los_Angeles:20251231T150000
DTSTAMP:20260423T160720
CREATED:20250924T191050Z
LAST-MODIFIED:20250924T191050Z
UID:10000077-1767193200-1767193200@uuspokane.org
SUMMARY:Weekly SUUN Submission Deadline
DESCRIPTION:
URL:https://uuspokane.org/event/weekly-suun-submission-deadline/2025-12-31/
CATEGORIES:Other
END:VEVENT
BEGIN:VEVENT
DTSTART;TZID=America/Los_Angeles:20251224T150000
DTEND;TZID=America/Los_Angeles:20251224T150000
DTSTAMP:20260423T160720
CREATED:20250924T191050Z
LAST-MODIFIED:20250924T191050Z
UID:10000076-1766588400-1766588400@uuspokane.org
SUMMARY:Weekly SUUN Submission Deadline
DESCRIPTION:
URL:https://uuspokane.org/event/weekly-suun-submission-deadline/2025-12-24/
CATEGORIES:Other
END:VEVENT
BEGIN:VEVENT
DTSTART;TZID=America/Los_Angeles:20251221T124500
DTEND;TZID=America/Los_Angeles:20251221T134500
DTSTAMP:20260423T160720
CREATED:20251203T224124Z
LAST-MODIFIED:20251211T172007Z
UID:10003723-1766321100-1766324700@uuspokane.org
SUMMARY:Guest Speaker Q & A
DESCRIPTION:Candice Baughman from One Parish One Prisoner will be our guest speaker and will stay for an informational Q & A session at 12:45 p.m. after our holiday potluck. We hope you will join us! \nSJCC has been looking for opportunities to make a meaningful and positive difference in our community’s incarceration and re-entry landscape. We are moving forward and partnering with One Parish One Prisoner. This program\, which began in the Skagit Valley now has church partners (including other UU churches and a Synagogue) all over the state. \nThe Social Justice Coordinating Council’s new project\, “OPOP” needs you! We will need a team of 7 to 10 to begin this journey. \nMore information is available at oneparishoneprisoner.org.
URL:https://uuspokane.org/event/guest-speaker-q-a/
LOCATION:Chapel
CATEGORIES:Other
ORGANIZER;CN="Susan Tyler-Babkirk":MAILTO:dst-b@comcast.net
END:VEVENT
BEGIN:VEVENT
DTSTART;TZID=America/Los_Angeles:20251217T150000
DTEND;TZID=America/Los_Angeles:20251217T150000
DTSTAMP:20260423T160720
CREATED:20250924T191050Z
LAST-MODIFIED:20250924T191050Z
UID:10000075-1765983600-1765983600@uuspokane.org
SUMMARY:Weekly SUUN Submission Deadline
DESCRIPTION:
URL:https://uuspokane.org/event/weekly-suun-submission-deadline/2025-12-17/
CATEGORIES:Other
END:VEVENT
BEGIN:VEVENT
DTSTART;TZID=America/Los_Angeles:20251213T113000
DTEND;TZID=America/Los_Angeles:20251213T140000
DTSTAMP:20260423T160720
CREATED:20250925T172601Z
LAST-MODIFIED:20251030T173052Z
UID:10002509-1765625400-1765634400@uuspokane.org
SUMMARY:LGBTQ+ Seniors of the Inland Northwest Potluck
DESCRIPTION:Join us for food\, fellowship and conversation.
URL:https://uuspokane.org/event/lgbtq-seniors-of-the-inland-northwest-potluck/2025-12-13/
LOCATION:Friendship Hall
CATEGORIES:Other
ORGANIZER;CN="Nancy Avery":MAILTO:NancyTavery@comcast.net
END:VEVENT
BEGIN:VEVENT
DTSTART;TZID=America/Los_Angeles:20251210T150000
DTEND;TZID=America/Los_Angeles:20251210T150000
DTSTAMP:20260423T160720
CREATED:20250924T191050Z
LAST-MODIFIED:20250924T191050Z
UID:10000074-1765378800-1765378800@uuspokane.org
SUMMARY:Weekly SUUN Submission Deadline
DESCRIPTION:
URL:https://uuspokane.org/event/weekly-suun-submission-deadline/2025-12-10/
CATEGORIES:Other
END:VEVENT
BEGIN:VEVENT
DTSTART;TZID=America/Los_Angeles:20251207T130000
DTEND;TZID=America/Los_Angeles:20251207T143000
DTSTAMP:20260423T160720
CREATED:20251117T222330Z
LAST-MODIFIED:20251120T173330Z
UID:10003633-1765112400-1765117800@uuspokane.org
SUMMARY:Lisa Conger Poetry Reading & Book Signing
DESCRIPTION:Looking for a heart-warming way to spend a December afternoon? Join us as we celebrate our very own resident poet\, Lisa Conger\, and the release of her beautiful new poetry collection\, Paper Boat. \nLisa will be giving a reading from her book\, sharing the stories and inspirations behind her poems\, and signing copies afterward. Paper Boat will be available for purchase for $20\, and in true Lisa fashion\, a portion of each sale will be generously donated back to the church. It’s a lovely opportunity to support a gifted UUCS artist and the mission of our community. \nAnd since it all falls on the same day as our Annual Cookie Sale\, you can pick up a plate (or two!) of holiday treats and then head into the Chapel for poetry\, warmth\, and connection. \nCome for the cookies\, stay for the poetry — or come for the poetry\, stay for the cookies!\nEither way\, we hope you’ll join us in celebrating Lisa and supporting UUCS.
URL:https://uuspokane.org/event/lisa-conger-poetry-event/
LOCATION:Chapel
CATEGORIES:Other
ORGANIZER;CN="Lynn Jinishian":MAILTO:jinishian@comcast.net
END:VEVENT
BEGIN:VEVENT
DTSTART;TZID=America/Los_Angeles:20251203T150000
DTEND;TZID=America/Los_Angeles:20251203T150000
DTSTAMP:20260423T160720
CREATED:20250924T191050Z
LAST-MODIFIED:20250924T191050Z
UID:10000073-1764774000-1764774000@uuspokane.org
SUMMARY:Weekly SUUN Submission Deadline
DESCRIPTION:
URL:https://uuspokane.org/event/weekly-suun-submission-deadline/2025-12-03/
CATEGORIES:Other
END:VEVENT
BEGIN:VEVENT
DTSTART;TZID=America/Los_Angeles:20251126T150000
DTEND;TZID=America/Los_Angeles:20251126T150000
DTSTAMP:20260423T160720
CREATED:20250924T191050Z
LAST-MODIFIED:20250924T191050Z
UID:10000072-1764169200-1764169200@uuspokane.org
SUMMARY:Weekly SUUN Submission Deadline
DESCRIPTION:
URL:https://uuspokane.org/event/weekly-suun-submission-deadline/2025-11-26/
CATEGORIES:Other
END:VEVENT
BEGIN:VEVENT
DTSTART;TZID=America/Los_Angeles:20251119T150000
DTEND;TZID=America/Los_Angeles:20251119T150000
DTSTAMP:20260423T160720
CREATED:20250924T191050Z
LAST-MODIFIED:20250924T191050Z
UID:10000071-1763564400-1763564400@uuspokane.org
SUMMARY:Weekly SUUN Submission Deadline
DESCRIPTION:
URL:https://uuspokane.org/event/weekly-suun-submission-deadline/2025-11-19/
CATEGORIES:Other
END:VEVENT
BEGIN:VEVENT
DTSTART;TZID=America/Los_Angeles:20251112T150000
DTEND;TZID=America/Los_Angeles:20251112T150000
DTSTAMP:20260423T160720
CREATED:20250924T191050Z
LAST-MODIFIED:20250924T191050Z
UID:10000070-1762959600-1762959600@uuspokane.org
SUMMARY:Weekly SUUN Submission Deadline
DESCRIPTION:
URL:https://uuspokane.org/event/weekly-suun-submission-deadline/2025-11-12/
CATEGORIES:Other
END:VEVENT
BEGIN:VEVENT
DTSTART;TZID=America/Los_Angeles:20251108T113000
DTEND;TZID=America/Los_Angeles:20251108T140000
DTSTAMP:20260423T160720
CREATED:20250925T172601Z
LAST-MODIFIED:20251030T173052Z
UID:10002508-1762601400-1762610400@uuspokane.org
SUMMARY:LGBTQ+ Seniors of the Inland Northwest Potluck
DESCRIPTION:Join us for food\, fellowship and conversation.
URL:https://uuspokane.org/event/lgbtq-seniors-of-the-inland-northwest-potluck/2025-11-08/
LOCATION:Friendship Hall
CATEGORIES:Other
ORGANIZER;CN="Nancy Avery":MAILTO:NancyTavery@comcast.net
END:VEVENT
BEGIN:VEVENT
DTSTART;TZID=America/Los_Angeles:20251105T150000
DTEND;TZID=America/Los_Angeles:20251105T150000
DTSTAMP:20260423T160720
CREATED:20250924T191050Z
LAST-MODIFIED:20250924T191050Z
UID:10000069-1762354800-1762354800@uuspokane.org
SUMMARY:Weekly SUUN Submission Deadline
DESCRIPTION:
URL:https://uuspokane.org/event/weekly-suun-submission-deadline/2025-11-05/
CATEGORIES:Other
END:VEVENT
BEGIN:VEVENT
DTSTART;TZID=America/Los_Angeles:20251029T150000
DTEND;TZID=America/Los_Angeles:20251029T150000
DTSTAMP:20260423T160720
CREATED:20250924T191050Z
LAST-MODIFIED:20250924T191050Z
UID:10000068-1761750000-1761750000@uuspokane.org
SUMMARY:Weekly SUUN Submission Deadline
DESCRIPTION:
URL:https://uuspokane.org/event/weekly-suun-submission-deadline/2025-10-29/
CATEGORIES:Other
END:VEVENT
BEGIN:VEVENT
DTSTART;TZID=America/Los_Angeles:20251022T150000
DTEND;TZID=America/Los_Angeles:20251022T150000
DTSTAMP:20260423T160720
CREATED:20250924T191050Z
LAST-MODIFIED:20250924T191050Z
UID:10000067-1761145200-1761145200@uuspokane.org
SUMMARY:Weekly SUUN Submission Deadline
DESCRIPTION:
URL:https://uuspokane.org/event/weekly-suun-submission-deadline/2025-10-22/
CATEGORIES:Other
END:VEVENT
BEGIN:VEVENT
DTSTART;TZID=America/Los_Angeles:20251019T123000
DTEND;TZID=America/Los_Angeles:20251019T133000
DTSTAMP:20260423T160720
CREATED:20250925T180338Z
LAST-MODIFIED:20251008T150452Z
UID:10002928-1760877000-1760880600@uuspokane.org
SUMMARY:Family Faith at Home Fair
DESCRIPTION:Come celebrate and explore faith development at our UU Family Faith at Home Fair! After the second service during the all-church potluck on Sunday\, October 19\, drop into the Chapel for an open-house experience. Discover hands-on practices that nurture connection\, gratitude\, and meaning-making. Many of these practices have been used in traditional churches\, but they are equally rooted in our UU values. I will be there to guide you through easy activities and you’ll leave with simple ways to “do church” at home. Stations include: \n\nCandles of Care\nGratitude Tree\nSmartphone Prayers\nNighttime Blessings\n\nEveryone is welcome—come as you are (just not hungry—get food from the potluck first!)\, stay as long as you like\, and take home inspiration.
URL:https://uuspokane.org/event/faith-formation-at-home-fair/
LOCATION:Chapel
CATEGORIES:Other
ORGANIZER;CN="Stephanie Gronholz":MAILTO:re@uuspokane.org
END:VEVENT
BEGIN:VEVENT
DTSTART;TZID=America/Los_Angeles:20251015T150000
DTEND;TZID=America/Los_Angeles:20251015T150000
DTSTAMP:20260423T160720
CREATED:20250924T191050Z
LAST-MODIFIED:20250924T191050Z
UID:10000066-1760540400-1760540400@uuspokane.org
SUMMARY:Weekly SUUN Submission Deadline
DESCRIPTION:
URL:https://uuspokane.org/event/weekly-suun-submission-deadline/2025-10-15/
CATEGORIES:Other
END:VEVENT
BEGIN:VEVENT
DTSTART;TZID=America/Los_Angeles:20251011T113000
DTEND;TZID=America/Los_Angeles:20251011T140000
DTSTAMP:20260423T160720
CREATED:20250925T172601Z
LAST-MODIFIED:20251030T173052Z
UID:10002507-1760182200-1760191200@uuspokane.org
SUMMARY:LGBTQ+ Seniors of the Inland Northwest Potluck
DESCRIPTION:Join us for food\, fellowship and conversation.
URL:https://uuspokane.org/event/lgbtq-seniors-of-the-inland-northwest-potluck/2025-10-11/
LOCATION:Friendship Hall
CATEGORIES:Other
ORGANIZER;CN="Nancy Avery":MAILTO:NancyTavery@comcast.net
END:VEVENT
BEGIN:VEVENT
DTSTART;TZID=America/Los_Angeles:20251008T150000
DTEND;TZID=America/Los_Angeles:20251008T150000
DTSTAMP:20260423T160720
CREATED:20250924T191050Z
LAST-MODIFIED:20250924T191050Z
UID:10000065-1759935600-1759935600@uuspokane.org
SUMMARY:Weekly SUUN Submission Deadline
DESCRIPTION:
URL:https://uuspokane.org/event/weekly-suun-submission-deadline/2025-10-08/
CATEGORIES:Other
END:VEVENT
BEGIN:VEVENT
DTSTART;TZID=America/Los_Angeles:20251001T150000
DTEND;TZID=America/Los_Angeles:20251001T150000
DTSTAMP:20260423T160720
CREATED:20250924T191050Z
LAST-MODIFIED:20250924T191050Z
UID:10000064-1759330800-1759330800@uuspokane.org
SUMMARY:Weekly SUUN Submission Deadline
DESCRIPTION:
URL:https://uuspokane.org/event/weekly-suun-submission-deadline/2025-10-01/
CATEGORIES:Other
END:VEVENT
BEGIN:VEVENT
DTSTART;TZID=America/Los_Angeles:20250924T150000
DTEND;TZID=America/Los_Angeles:20250924T150000
DTSTAMP:20260423T160720
CREATED:20250924T191050Z
LAST-MODIFIED:20250924T191050Z
UID:10000063-1758726000-1758726000@uuspokane.org
SUMMARY:Weekly SUUN Submission Deadline
DESCRIPTION:
URL:https://uuspokane.org/event/weekly-suun-submission-deadline/2025-09-24/
CATEGORIES:Other
END:VEVENT
END:VCALENDAR