BEGIN:VCALENDAR
VERSION:2.0
PRODID:-//Unitarian Universalist Church of Spokane - ECPv6.15.20//NONSGML v1.0//EN
CALSCALE:GREGORIAN
METHOD:PUBLISH
X-ORIGINAL-URL:https://uuspokane.org
X-WR-CALDESC:Events for Unitarian Universalist Church of Spokane
REFRESH-INTERVAL;VALUE=DURATION:PT1H
X-Robots-Tag:noindex
X-PUBLISHED-TTL:PT1H
BEGIN:VTIMEZONE
TZID:America/Los_Angeles
BEGIN:DAYLIGHT
TZOFFSETFROM:-0800
TZOFFSETTO:-0700
TZNAME:PDT
DTSTART:20250309T100000
END:DAYLIGHT
BEGIN:STANDARD
TZOFFSETFROM:-0700
TZOFFSETTO:-0800
TZNAME:PST
DTSTART:20251102T090000
END:STANDARD
BEGIN:DAYLIGHT
TZOFFSETFROM:-0800
TZOFFSETTO:-0700
TZNAME:PDT
DTSTART:20260308T100000
END:DAYLIGHT
BEGIN:STANDARD
TZOFFSETFROM:-0700
TZOFFSETTO:-0800
TZNAME:PST
DTSTART:20261101T090000
END:STANDARD
BEGIN:DAYLIGHT
TZOFFSETFROM:-0800
TZOFFSETTO:-0700
TZNAME:PDT
DTSTART:20270314T100000
END:DAYLIGHT
BEGIN:STANDARD
TZOFFSETFROM:-0700
TZOFFSETTO:-0800
TZNAME:PST
DTSTART:20271107T090000
END:STANDARD
BEGIN:DAYLIGHT
TZOFFSETFROM:-0800
TZOFFSETTO:-0700
TZNAME:PDT
DTSTART:20280312T100000
END:DAYLIGHT
BEGIN:STANDARD
TZOFFSETFROM:-0700
TZOFFSETTO:-0800
TZNAME:PST
DTSTART:20281105T090000
END:STANDARD
END:VTIMEZONE
BEGIN:VEVENT
DTSTART;TZID=America/Los_Angeles:20260819T150000
DTEND;TZID=America/Los_Angeles:20260819T150000
DTSTAMP:20260423T142152
CREATED:20250924T191050Z
LAST-MODIFIED:20250924T191050Z
UID:10000110-1787151600-1787151600@uuspokane.org
SUMMARY:Weekly SUUN Submission Deadline
DESCRIPTION:
URL:https://uuspokane.org/event/weekly-suun-submission-deadline/2026-08-19/
CATEGORIES:Other
END:VEVENT
BEGIN:VEVENT
DTSTART;TZID=America/Los_Angeles:20260826T150000
DTEND;TZID=America/Los_Angeles:20260826T150000
DTSTAMP:20260423T142152
CREATED:20250924T191050Z
LAST-MODIFIED:20250924T191050Z
UID:10000111-1787756400-1787756400@uuspokane.org
SUMMARY:Weekly SUUN Submission Deadline
DESCRIPTION:
URL:https://uuspokane.org/event/weekly-suun-submission-deadline/2026-08-26/
CATEGORIES:Other
END:VEVENT
BEGIN:VEVENT
DTSTART;TZID=America/Los_Angeles:20260902T150000
DTEND;TZID=America/Los_Angeles:20260902T150000
DTSTAMP:20260423T142152
CREATED:20250924T191050Z
LAST-MODIFIED:20250924T191050Z
UID:10000112-1788361200-1788361200@uuspokane.org
SUMMARY:Weekly SUUN Submission Deadline
DESCRIPTION:
URL:https://uuspokane.org/event/weekly-suun-submission-deadline/2026-09-02/
CATEGORIES:Other
END:VEVENT
BEGIN:VEVENT
DTSTART;TZID=America/Los_Angeles:20260909T150000
DTEND;TZID=America/Los_Angeles:20260909T150000
DTSTAMP:20260423T142152
CREATED:20250924T191050Z
LAST-MODIFIED:20250924T191050Z
UID:10000113-1788966000-1788966000@uuspokane.org
SUMMARY:Weekly SUUN Submission Deadline
DESCRIPTION:
URL:https://uuspokane.org/event/weekly-suun-submission-deadline/2026-09-09/
CATEGORIES:Other
END:VEVENT
BEGIN:VEVENT
DTSTART;TZID=America/Los_Angeles:20260912T113000
DTEND;TZID=America/Los_Angeles:20260912T140000
DTSTAMP:20260423T142152
CREATED:20260204T203641Z
LAST-MODIFIED:20260204T203641Z
UID:10002518-1789212600-1789221600@uuspokane.org
SUMMARY:LGBTQ+ Seniors of the Inland Northwest Potluck
DESCRIPTION:Join us for food\, fellowship and conversation.
URL:https://uuspokane.org/event/lgbtq-seniors-of-the-inland-northwest-potluck-2/2026-09-12/
LOCATION:Friendship Hall
CATEGORIES:Other
ORGANIZER;CN="Nancy Avery":MAILTO:NancyTavery@comcast.net
END:VEVENT
BEGIN:VEVENT
DTSTART;TZID=America/Los_Angeles:20260916T150000
DTEND;TZID=America/Los_Angeles:20260916T150000
DTSTAMP:20260423T142152
CREATED:20250924T191050Z
LAST-MODIFIED:20250924T191050Z
UID:10000114-1789570800-1789570800@uuspokane.org
SUMMARY:Weekly SUUN Submission Deadline
DESCRIPTION:
URL:https://uuspokane.org/event/weekly-suun-submission-deadline/2026-09-16/
CATEGORIES:Other
END:VEVENT
BEGIN:VEVENT
DTSTART;TZID=America/Los_Angeles:20260923T150000
DTEND;TZID=America/Los_Angeles:20260923T150000
DTSTAMP:20260423T142152
CREATED:20250924T191050Z
LAST-MODIFIED:20250924T191050Z
UID:10000115-1790175600-1790175600@uuspokane.org
SUMMARY:Weekly SUUN Submission Deadline
DESCRIPTION:
URL:https://uuspokane.org/event/weekly-suun-submission-deadline/2026-09-23/
CATEGORIES:Other
END:VEVENT
BEGIN:VEVENT
DTSTART;TZID=America/Los_Angeles:20260930T150000
DTEND;TZID=America/Los_Angeles:20260930T150000
DTSTAMP:20260423T142152
CREATED:20250924T191050Z
LAST-MODIFIED:20250924T191050Z
UID:10000116-1790780400-1790780400@uuspokane.org
SUMMARY:Weekly SUUN Submission Deadline
DESCRIPTION:
URL:https://uuspokane.org/event/weekly-suun-submission-deadline/2026-09-30/
CATEGORIES:Other
END:VEVENT
BEGIN:VEVENT
DTSTART;TZID=America/Los_Angeles:20261007T150000
DTEND;TZID=America/Los_Angeles:20261007T150000
DTSTAMP:20260423T142152
CREATED:20250924T191050Z
LAST-MODIFIED:20250924T191050Z
UID:10000117-1791385200-1791385200@uuspokane.org
SUMMARY:Weekly SUUN Submission Deadline
DESCRIPTION:
URL:https://uuspokane.org/event/weekly-suun-submission-deadline/2026-10-07/
CATEGORIES:Other
END:VEVENT
BEGIN:VEVENT
DTSTART;TZID=America/Los_Angeles:20261010T113000
DTEND;TZID=America/Los_Angeles:20261010T140000
DTSTAMP:20260423T142152
CREATED:20260204T203641Z
LAST-MODIFIED:20260204T203641Z
UID:10002519-1791631800-1791640800@uuspokane.org
SUMMARY:LGBTQ+ Seniors of the Inland Northwest Potluck
DESCRIPTION:Join us for food\, fellowship and conversation.
URL:https://uuspokane.org/event/lgbtq-seniors-of-the-inland-northwest-potluck-2/2026-10-10/
LOCATION:Friendship Hall
CATEGORIES:Other
ORGANIZER;CN="Nancy Avery":MAILTO:NancyTavery@comcast.net
END:VEVENT
BEGIN:VEVENT
DTSTART;TZID=America/Los_Angeles:20261014T150000
DTEND;TZID=America/Los_Angeles:20261014T150000
DTSTAMP:20260423T142152
CREATED:20250924T191050Z
LAST-MODIFIED:20250924T191050Z
UID:10000118-1791990000-1791990000@uuspokane.org
SUMMARY:Weekly SUUN Submission Deadline
DESCRIPTION:
URL:https://uuspokane.org/event/weekly-suun-submission-deadline/2026-10-14/
CATEGORIES:Other
END:VEVENT
BEGIN:VEVENT
DTSTART;TZID=America/Los_Angeles:20261021T150000
DTEND;TZID=America/Los_Angeles:20261021T150000
DTSTAMP:20260423T142152
CREATED:20250924T191050Z
LAST-MODIFIED:20250924T191050Z
UID:10000119-1792594800-1792594800@uuspokane.org
SUMMARY:Weekly SUUN Submission Deadline
DESCRIPTION:
URL:https://uuspokane.org/event/weekly-suun-submission-deadline/2026-10-21/
CATEGORIES:Other
END:VEVENT
BEGIN:VEVENT
DTSTART;TZID=America/Los_Angeles:20261028T150000
DTEND;TZID=America/Los_Angeles:20261028T150000
DTSTAMP:20260423T142152
CREATED:20250924T191050Z
LAST-MODIFIED:20250924T191050Z
UID:10000120-1793199600-1793199600@uuspokane.org
SUMMARY:Weekly SUUN Submission Deadline
DESCRIPTION:
URL:https://uuspokane.org/event/weekly-suun-submission-deadline/2026-10-28/
CATEGORIES:Other
END:VEVENT
BEGIN:VEVENT
DTSTART;TZID=America/Los_Angeles:20261104T150000
DTEND;TZID=America/Los_Angeles:20261104T150000
DTSTAMP:20260423T142152
CREATED:20250924T191050Z
LAST-MODIFIED:20250924T191050Z
UID:10000121-1793804400-1793804400@uuspokane.org
SUMMARY:Weekly SUUN Submission Deadline
DESCRIPTION:
URL:https://uuspokane.org/event/weekly-suun-submission-deadline/2026-11-04/
CATEGORIES:Other
END:VEVENT
BEGIN:VEVENT
DTSTART;TZID=America/Los_Angeles:20261111T150000
DTEND;TZID=America/Los_Angeles:20261111T150000
DTSTAMP:20260423T142152
CREATED:20250924T191050Z
LAST-MODIFIED:20250924T191050Z
UID:10000122-1794409200-1794409200@uuspokane.org
SUMMARY:Weekly SUUN Submission Deadline
DESCRIPTION:
URL:https://uuspokane.org/event/weekly-suun-submission-deadline/2026-11-11/
CATEGORIES:Other
END:VEVENT
BEGIN:VEVENT
DTSTART;TZID=America/Los_Angeles:20261114T113000
DTEND;TZID=America/Los_Angeles:20261114T140000
DTSTAMP:20260423T142152
CREATED:20260204T203641Z
LAST-MODIFIED:20260204T203641Z
UID:10002520-1794655800-1794664800@uuspokane.org
SUMMARY:LGBTQ+ Seniors of the Inland Northwest Potluck
DESCRIPTION:Join us for food\, fellowship and conversation.
URL:https://uuspokane.org/event/lgbtq-seniors-of-the-inland-northwest-potluck-2/2026-11-14/
LOCATION:Friendship Hall
CATEGORIES:Other
ORGANIZER;CN="Nancy Avery":MAILTO:NancyTavery@comcast.net
END:VEVENT
BEGIN:VEVENT
DTSTART;TZID=America/Los_Angeles:20261118T150000
DTEND;TZID=America/Los_Angeles:20261118T150000
DTSTAMP:20260423T142152
CREATED:20250924T191050Z
LAST-MODIFIED:20250924T191050Z
UID:10000123-1795014000-1795014000@uuspokane.org
SUMMARY:Weekly SUUN Submission Deadline
DESCRIPTION:
URL:https://uuspokane.org/event/weekly-suun-submission-deadline/2026-11-18/
CATEGORIES:Other
END:VEVENT
BEGIN:VEVENT
DTSTART;TZID=America/Los_Angeles:20261125T150000
DTEND;TZID=America/Los_Angeles:20261125T150000
DTSTAMP:20260423T142152
CREATED:20250924T191050Z
LAST-MODIFIED:20250924T191050Z
UID:10000124-1795618800-1795618800@uuspokane.org
SUMMARY:Weekly SUUN Submission Deadline
DESCRIPTION:
URL:https://uuspokane.org/event/weekly-suun-submission-deadline/2026-11-25/
CATEGORIES:Other
END:VEVENT
BEGIN:VEVENT
DTSTART;TZID=America/Los_Angeles:20261202T150000
DTEND;TZID=America/Los_Angeles:20261202T150000
DTSTAMP:20260423T142152
CREATED:20250924T191050Z
LAST-MODIFIED:20250924T191050Z
UID:10000125-1796223600-1796223600@uuspokane.org
SUMMARY:Weekly SUUN Submission Deadline
DESCRIPTION:
URL:https://uuspokane.org/event/weekly-suun-submission-deadline/2026-12-02/
CATEGORIES:Other
END:VEVENT
BEGIN:VEVENT
DTSTART;TZID=America/Los_Angeles:20261209T150000
DTEND;TZID=America/Los_Angeles:20261209T150000
DTSTAMP:20260423T142152
CREATED:20250924T191050Z
LAST-MODIFIED:20250924T191050Z
UID:10000126-1796828400-1796828400@uuspokane.org
SUMMARY:Weekly SUUN Submission Deadline
DESCRIPTION:
URL:https://uuspokane.org/event/weekly-suun-submission-deadline/2026-12-09/
CATEGORIES:Other
END:VEVENT
BEGIN:VEVENT
DTSTART;TZID=America/Los_Angeles:20261212T113000
DTEND;TZID=America/Los_Angeles:20261212T140000
DTSTAMP:20260423T142152
CREATED:20260204T203641Z
LAST-MODIFIED:20260204T203641Z
UID:10002521-1797075000-1797084000@uuspokane.org
SUMMARY:LGBTQ+ Seniors of the Inland Northwest Potluck
DESCRIPTION:Join us for food\, fellowship and conversation.
URL:https://uuspokane.org/event/lgbtq-seniors-of-the-inland-northwest-potluck-2/2026-12-12/
LOCATION:Friendship Hall
CATEGORIES:Other
ORGANIZER;CN="Nancy Avery":MAILTO:NancyTavery@comcast.net
END:VEVENT
BEGIN:VEVENT
DTSTART;TZID=America/Los_Angeles:20261216T150000
DTEND;TZID=America/Los_Angeles:20261216T150000
DTSTAMP:20260423T142152
CREATED:20250924T191050Z
LAST-MODIFIED:20250924T191050Z
UID:10000127-1797433200-1797433200@uuspokane.org
SUMMARY:Weekly SUUN Submission Deadline
DESCRIPTION:
URL:https://uuspokane.org/event/weekly-suun-submission-deadline/2026-12-16/
CATEGORIES:Other
END:VEVENT
BEGIN:VEVENT
DTSTART;TZID=America/Los_Angeles:20261223T150000
DTEND;TZID=America/Los_Angeles:20261223T150000
DTSTAMP:20260423T142152
CREATED:20250924T191050Z
LAST-MODIFIED:20250924T191050Z
UID:10000128-1798038000-1798038000@uuspokane.org
SUMMARY:Weekly SUUN Submission Deadline
DESCRIPTION:
URL:https://uuspokane.org/event/weekly-suun-submission-deadline/2026-12-23/
CATEGORIES:Other
END:VEVENT
BEGIN:VEVENT
DTSTART;TZID=America/Los_Angeles:20261230T150000
DTEND;TZID=America/Los_Angeles:20261230T150000
DTSTAMP:20260423T142152
CREATED:20250924T191050Z
LAST-MODIFIED:20250924T191050Z
UID:10000129-1798642800-1798642800@uuspokane.org
SUMMARY:Weekly SUUN Submission Deadline
DESCRIPTION:
URL:https://uuspokane.org/event/weekly-suun-submission-deadline/2026-12-30/
CATEGORIES:Other
END:VEVENT
BEGIN:VEVENT
DTSTART;TZID=America/Los_Angeles:20270106T150000
DTEND;TZID=America/Los_Angeles:20270106T150000
DTSTAMP:20260423T142152
CREATED:20250924T191050Z
LAST-MODIFIED:20250924T191050Z
UID:10000130-1799247600-1799247600@uuspokane.org
SUMMARY:Weekly SUUN Submission Deadline
DESCRIPTION:
URL:https://uuspokane.org/event/weekly-suun-submission-deadline/2027-01-06/
CATEGORIES:Other
END:VEVENT
BEGIN:VEVENT
DTSTART;TZID=America/Los_Angeles:20270109T113000
DTEND;TZID=America/Los_Angeles:20270109T140000
DTSTAMP:20260423T142152
CREATED:20260204T203641Z
LAST-MODIFIED:20260204T203641Z
UID:10002522-1799494200-1799503200@uuspokane.org
SUMMARY:LGBTQ+ Seniors of the Inland Northwest Potluck
DESCRIPTION:Join us for food\, fellowship and conversation.
URL:https://uuspokane.org/event/lgbtq-seniors-of-the-inland-northwest-potluck-2/2027-01-09/
LOCATION:Friendship Hall
CATEGORIES:Other
ORGANIZER;CN="Nancy Avery":MAILTO:NancyTavery@comcast.net
END:VEVENT
BEGIN:VEVENT
DTSTART;TZID=America/Los_Angeles:20270113T150000
DTEND;TZID=America/Los_Angeles:20270113T150000
DTSTAMP:20260423T142152
CREATED:20250924T191050Z
LAST-MODIFIED:20250924T191050Z
UID:10000131-1799852400-1799852400@uuspokane.org
SUMMARY:Weekly SUUN Submission Deadline
DESCRIPTION:
URL:https://uuspokane.org/event/weekly-suun-submission-deadline/2027-01-13/
CATEGORIES:Other
END:VEVENT
BEGIN:VEVENT
DTSTART;TZID=America/Los_Angeles:20270120T150000
DTEND;TZID=America/Los_Angeles:20270120T150000
DTSTAMP:20260423T142152
CREATED:20250924T191050Z
LAST-MODIFIED:20250924T191050Z
UID:10000132-1800457200-1800457200@uuspokane.org
SUMMARY:Weekly SUUN Submission Deadline
DESCRIPTION:
URL:https://uuspokane.org/event/weekly-suun-submission-deadline/2027-01-20/
CATEGORIES:Other
END:VEVENT
BEGIN:VEVENT
DTSTART;TZID=America/Los_Angeles:20270127T150000
DTEND;TZID=America/Los_Angeles:20270127T150000
DTSTAMP:20260423T142152
CREATED:20250924T191050Z
LAST-MODIFIED:20250924T191050Z
UID:10000133-1801062000-1801062000@uuspokane.org
SUMMARY:Weekly SUUN Submission Deadline
DESCRIPTION:
URL:https://uuspokane.org/event/weekly-suun-submission-deadline/2027-01-27/
CATEGORIES:Other
END:VEVENT
BEGIN:VEVENT
DTSTART;TZID=America/Los_Angeles:20270203T150000
DTEND;TZID=America/Los_Angeles:20270203T150000
DTSTAMP:20260423T142152
CREATED:20250924T191050Z
LAST-MODIFIED:20250924T191050Z
UID:10000134-1801666800-1801666800@uuspokane.org
SUMMARY:Weekly SUUN Submission Deadline
DESCRIPTION:
URL:https://uuspokane.org/event/weekly-suun-submission-deadline/2027-02-03/
CATEGORIES:Other
END:VEVENT
END:VCALENDAR