BEGIN:VCALENDAR
VERSION:2.0
PRODID:-//Unitarian Universalist Church of Spokane - ECPv6.15.20//NONSGML v1.0//EN
CALSCALE:GREGORIAN
METHOD:PUBLISH
X-ORIGINAL-URL:https://uuspokane.org
X-WR-CALDESC:Events for Unitarian Universalist Church of Spokane
REFRESH-INTERVAL;VALUE=DURATION:PT1H
X-Robots-Tag:noindex
X-PUBLISHED-TTL:PT1H
BEGIN:VTIMEZONE
TZID:America/Los_Angeles
BEGIN:DAYLIGHT
TZOFFSETFROM:-0800
TZOFFSETTO:-0700
TZNAME:PDT
DTSTART:20270314T100000
END:DAYLIGHT
BEGIN:STANDARD
TZOFFSETFROM:-0700
TZOFFSETTO:-0800
TZNAME:PST
DTSTART:20271107T090000
END:STANDARD
BEGIN:DAYLIGHT
TZOFFSETFROM:-0800
TZOFFSETTO:-0700
TZNAME:PDT
DTSTART:20280312T100000
END:DAYLIGHT
BEGIN:STANDARD
TZOFFSETFROM:-0700
TZOFFSETTO:-0800
TZNAME:PST
DTSTART:20281105T090000
END:STANDARD
BEGIN:DAYLIGHT
TZOFFSETFROM:-0800
TZOFFSETTO:-0700
TZNAME:PDT
DTSTART:20290311T100000
END:DAYLIGHT
BEGIN:STANDARD
TZOFFSETFROM:-0700
TZOFFSETTO:-0800
TZNAME:PST
DTSTART:20291104T090000
END:STANDARD
END:VTIMEZONE
BEGIN:VEVENT
DTSTART;TZID=America/Los_Angeles:20280607T150000
DTEND;TZID=America/Los_Angeles:20280607T150000
DTSTAMP:20260425T074047
CREATED:20250924T191050Z
LAST-MODIFIED:20250924T191050Z
UID:10000204-1844002800-1844002800@uuspokane.org
SUMMARY:Weekly SUUN Submission Deadline
DESCRIPTION:
URL:https://uuspokane.org/event/weekly-suun-submission-deadline/2028-06-07/
CATEGORIES:Other
END:VEVENT
BEGIN:VEVENT
DTSTART;TZID=America/Los_Angeles:20280610T113000
DTEND;TZID=America/Los_Angeles:20280610T140000
DTSTAMP:20260425T074047
CREATED:20260204T203641Z
LAST-MODIFIED:20260204T203641Z
UID:10002539-1844249400-1844258400@uuspokane.org
SUMMARY:LGBTQ+ Seniors of the Inland Northwest Potluck
DESCRIPTION:Join us for food\, fellowship and conversation.
URL:https://uuspokane.org/event/lgbtq-seniors-of-the-inland-northwest-potluck-2/2028-06-10/
LOCATION:Friendship Hall
CATEGORIES:Other
ORGANIZER;CN="Nancy Avery":MAILTO:NancyTavery@comcast.net
END:VEVENT
BEGIN:VEVENT
DTSTART;TZID=America/Los_Angeles:20280614T150000
DTEND;TZID=America/Los_Angeles:20280614T150000
DTSTAMP:20260425T074047
CREATED:20250924T191050Z
LAST-MODIFIED:20250924T191050Z
UID:10000205-1844607600-1844607600@uuspokane.org
SUMMARY:Weekly SUUN Submission Deadline
DESCRIPTION:
URL:https://uuspokane.org/event/weekly-suun-submission-deadline/2028-06-14/
CATEGORIES:Other
END:VEVENT
BEGIN:VEVENT
DTSTART;TZID=America/Los_Angeles:20280621T150000
DTEND;TZID=America/Los_Angeles:20280621T150000
DTSTAMP:20260425T074047
CREATED:20250924T191050Z
LAST-MODIFIED:20250924T191050Z
UID:10000206-1845212400-1845212400@uuspokane.org
SUMMARY:Weekly SUUN Submission Deadline
DESCRIPTION:
URL:https://uuspokane.org/event/weekly-suun-submission-deadline/2028-06-21/
CATEGORIES:Other
END:VEVENT
BEGIN:VEVENT
DTSTART;TZID=America/Los_Angeles:20280628T150000
DTEND;TZID=America/Los_Angeles:20280628T150000
DTSTAMP:20260425T074047
CREATED:20250924T191050Z
LAST-MODIFIED:20250924T191050Z
UID:10000207-1845817200-1845817200@uuspokane.org
SUMMARY:Weekly SUUN Submission Deadline
DESCRIPTION:
URL:https://uuspokane.org/event/weekly-suun-submission-deadline/2028-06-28/
CATEGORIES:Other
END:VEVENT
BEGIN:VEVENT
DTSTART;TZID=America/Los_Angeles:20280705T150000
DTEND;TZID=America/Los_Angeles:20280705T150000
DTSTAMP:20260425T074047
CREATED:20250924T191050Z
LAST-MODIFIED:20250924T191050Z
UID:10000208-1846422000-1846422000@uuspokane.org
SUMMARY:Weekly SUUN Submission Deadline
DESCRIPTION:
URL:https://uuspokane.org/event/weekly-suun-submission-deadline/2028-07-05/
CATEGORIES:Other
END:VEVENT
BEGIN:VEVENT
DTSTART;TZID=America/Los_Angeles:20280708T113000
DTEND;TZID=America/Los_Angeles:20280708T140000
DTSTAMP:20260425T074047
CREATED:20260204T203641Z
LAST-MODIFIED:20260204T203641Z
UID:10002540-1846668600-1846677600@uuspokane.org
SUMMARY:LGBTQ+ Seniors of the Inland Northwest Potluck
DESCRIPTION:Join us for food\, fellowship and conversation.
URL:https://uuspokane.org/event/lgbtq-seniors-of-the-inland-northwest-potluck-2/2028-07-08/
LOCATION:Friendship Hall
CATEGORIES:Other
ORGANIZER;CN="Nancy Avery":MAILTO:NancyTavery@comcast.net
END:VEVENT
BEGIN:VEVENT
DTSTART;TZID=America/Los_Angeles:20280712T150000
DTEND;TZID=America/Los_Angeles:20280712T150000
DTSTAMP:20260425T074047
CREATED:20250924T191050Z
LAST-MODIFIED:20250924T191050Z
UID:10000209-1847026800-1847026800@uuspokane.org
SUMMARY:Weekly SUUN Submission Deadline
DESCRIPTION:
URL:https://uuspokane.org/event/weekly-suun-submission-deadline/2028-07-12/
CATEGORIES:Other
END:VEVENT
BEGIN:VEVENT
DTSTART;TZID=America/Los_Angeles:20280719T150000
DTEND;TZID=America/Los_Angeles:20280719T150000
DTSTAMP:20260425T074047
CREATED:20250924T191050Z
LAST-MODIFIED:20250924T191050Z
UID:10000210-1847631600-1847631600@uuspokane.org
SUMMARY:Weekly SUUN Submission Deadline
DESCRIPTION:
URL:https://uuspokane.org/event/weekly-suun-submission-deadline/2028-07-19/
CATEGORIES:Other
END:VEVENT
BEGIN:VEVENT
DTSTART;TZID=America/Los_Angeles:20280726T150000
DTEND;TZID=America/Los_Angeles:20280726T150000
DTSTAMP:20260425T074047
CREATED:20250924T191050Z
LAST-MODIFIED:20250924T191050Z
UID:10000211-1848236400-1848236400@uuspokane.org
SUMMARY:Weekly SUUN Submission Deadline
DESCRIPTION:
URL:https://uuspokane.org/event/weekly-suun-submission-deadline/2028-07-26/
CATEGORIES:Other
END:VEVENT
BEGIN:VEVENT
DTSTART;TZID=America/Los_Angeles:20280802T150000
DTEND;TZID=America/Los_Angeles:20280802T150000
DTSTAMP:20260425T074047
CREATED:20250924T191050Z
LAST-MODIFIED:20250924T191050Z
UID:10000212-1848841200-1848841200@uuspokane.org
SUMMARY:Weekly SUUN Submission Deadline
DESCRIPTION:
URL:https://uuspokane.org/event/weekly-suun-submission-deadline/2028-08-02/
CATEGORIES:Other
END:VEVENT
BEGIN:VEVENT
DTSTART;TZID=America/Los_Angeles:20280809T150000
DTEND;TZID=America/Los_Angeles:20280809T150000
DTSTAMP:20260425T074047
CREATED:20250924T191050Z
LAST-MODIFIED:20250924T191050Z
UID:10000213-1849446000-1849446000@uuspokane.org
SUMMARY:Weekly SUUN Submission Deadline
DESCRIPTION:
URL:https://uuspokane.org/event/weekly-suun-submission-deadline/2028-08-09/
CATEGORIES:Other
END:VEVENT
BEGIN:VEVENT
DTSTART;TZID=America/Los_Angeles:20280812T113000
DTEND;TZID=America/Los_Angeles:20280812T140000
DTSTAMP:20260425T074047
CREATED:20260204T203641Z
LAST-MODIFIED:20260204T203641Z
UID:10002541-1849692600-1849701600@uuspokane.org
SUMMARY:LGBTQ+ Seniors of the Inland Northwest Potluck
DESCRIPTION:Join us for food\, fellowship and conversation.
URL:https://uuspokane.org/event/lgbtq-seniors-of-the-inland-northwest-potluck-2/2028-08-12/
LOCATION:Friendship Hall
CATEGORIES:Other
ORGANIZER;CN="Nancy Avery":MAILTO:NancyTavery@comcast.net
END:VEVENT
BEGIN:VEVENT
DTSTART;TZID=America/Los_Angeles:20280816T150000
DTEND;TZID=America/Los_Angeles:20280816T150000
DTSTAMP:20260425T074047
CREATED:20250924T191050Z
LAST-MODIFIED:20250924T191050Z
UID:10000214-1850050800-1850050800@uuspokane.org
SUMMARY:Weekly SUUN Submission Deadline
DESCRIPTION:
URL:https://uuspokane.org/event/weekly-suun-submission-deadline/2028-08-16/
CATEGORIES:Other
END:VEVENT
BEGIN:VEVENT
DTSTART;TZID=America/Los_Angeles:20280823T150000
DTEND;TZID=America/Los_Angeles:20280823T150000
DTSTAMP:20260425T074047
CREATED:20250924T191050Z
LAST-MODIFIED:20250924T191050Z
UID:10000215-1850655600-1850655600@uuspokane.org
SUMMARY:Weekly SUUN Submission Deadline
DESCRIPTION:
URL:https://uuspokane.org/event/weekly-suun-submission-deadline/2028-08-23/
CATEGORIES:Other
END:VEVENT
BEGIN:VEVENT
DTSTART;TZID=America/Los_Angeles:20280830T150000
DTEND;TZID=America/Los_Angeles:20280830T150000
DTSTAMP:20260425T074047
CREATED:20250924T191050Z
LAST-MODIFIED:20250924T191050Z
UID:10000216-1851260400-1851260400@uuspokane.org
SUMMARY:Weekly SUUN Submission Deadline
DESCRIPTION:
URL:https://uuspokane.org/event/weekly-suun-submission-deadline/2028-08-30/
CATEGORIES:Other
END:VEVENT
BEGIN:VEVENT
DTSTART;TZID=America/Los_Angeles:20280906T150000
DTEND;TZID=America/Los_Angeles:20280906T150000
DTSTAMP:20260425T074047
CREATED:20250924T191050Z
LAST-MODIFIED:20250924T191050Z
UID:10000217-1851865200-1851865200@uuspokane.org
SUMMARY:Weekly SUUN Submission Deadline
DESCRIPTION:
URL:https://uuspokane.org/event/weekly-suun-submission-deadline/2028-09-06/
CATEGORIES:Other
END:VEVENT
BEGIN:VEVENT
DTSTART;TZID=America/Los_Angeles:20280909T113000
DTEND;TZID=America/Los_Angeles:20280909T140000
DTSTAMP:20260425T074047
CREATED:20260204T203641Z
LAST-MODIFIED:20260204T203641Z
UID:10002542-1852111800-1852120800@uuspokane.org
SUMMARY:LGBTQ+ Seniors of the Inland Northwest Potluck
DESCRIPTION:Join us for food\, fellowship and conversation.
URL:https://uuspokane.org/event/lgbtq-seniors-of-the-inland-northwest-potluck-2/2028-09-09/
LOCATION:Friendship Hall
CATEGORIES:Other
ORGANIZER;CN="Nancy Avery":MAILTO:NancyTavery@comcast.net
END:VEVENT
BEGIN:VEVENT
DTSTART;TZID=America/Los_Angeles:20280913T150000
DTEND;TZID=America/Los_Angeles:20280913T150000
DTSTAMP:20260425T074047
CREATED:20250924T191050Z
LAST-MODIFIED:20250924T191050Z
UID:10000218-1852470000-1852470000@uuspokane.org
SUMMARY:Weekly SUUN Submission Deadline
DESCRIPTION:
URL:https://uuspokane.org/event/weekly-suun-submission-deadline/2028-09-13/
CATEGORIES:Other
END:VEVENT
BEGIN:VEVENT
DTSTART;TZID=America/Los_Angeles:20280920T150000
DTEND;TZID=America/Los_Angeles:20280920T150000
DTSTAMP:20260425T074047
CREATED:20250924T191050Z
LAST-MODIFIED:20250924T191050Z
UID:10000219-1853074800-1853074800@uuspokane.org
SUMMARY:Weekly SUUN Submission Deadline
DESCRIPTION:
URL:https://uuspokane.org/event/weekly-suun-submission-deadline/2028-09-20/
CATEGORIES:Other
END:VEVENT
BEGIN:VEVENT
DTSTART;TZID=America/Los_Angeles:20280927T150000
DTEND;TZID=America/Los_Angeles:20280927T150000
DTSTAMP:20260425T074047
CREATED:20250924T191050Z
LAST-MODIFIED:20250924T191050Z
UID:10000220-1853679600-1853679600@uuspokane.org
SUMMARY:Weekly SUUN Submission Deadline
DESCRIPTION:
URL:https://uuspokane.org/event/weekly-suun-submission-deadline/2028-09-27/
CATEGORIES:Other
END:VEVENT
BEGIN:VEVENT
DTSTART;TZID=America/Los_Angeles:20281004T150000
DTEND;TZID=America/Los_Angeles:20281004T150000
DTSTAMP:20260425T074047
CREATED:20250924T191050Z
LAST-MODIFIED:20250924T191050Z
UID:10000221-1854284400-1854284400@uuspokane.org
SUMMARY:Weekly SUUN Submission Deadline
DESCRIPTION:
URL:https://uuspokane.org/event/weekly-suun-submission-deadline/2028-10-04/
CATEGORIES:Other
END:VEVENT
BEGIN:VEVENT
DTSTART;TZID=America/Los_Angeles:20281011T150000
DTEND;TZID=America/Los_Angeles:20281011T150000
DTSTAMP:20260425T074047
CREATED:20250924T191050Z
LAST-MODIFIED:20250924T191050Z
UID:10000222-1854889200-1854889200@uuspokane.org
SUMMARY:Weekly SUUN Submission Deadline
DESCRIPTION:
URL:https://uuspokane.org/event/weekly-suun-submission-deadline/2028-10-11/
CATEGORIES:Other
END:VEVENT
BEGIN:VEVENT
DTSTART;TZID=America/Los_Angeles:20281014T113000
DTEND;TZID=America/Los_Angeles:20281014T140000
DTSTAMP:20260425T074047
CREATED:20260204T203641Z
LAST-MODIFIED:20260204T203641Z
UID:10002543-1855135800-1855144800@uuspokane.org
SUMMARY:LGBTQ+ Seniors of the Inland Northwest Potluck
DESCRIPTION:Join us for food\, fellowship and conversation.
URL:https://uuspokane.org/event/lgbtq-seniors-of-the-inland-northwest-potluck-2/2028-10-14/
LOCATION:Friendship Hall
CATEGORIES:Other
ORGANIZER;CN="Nancy Avery":MAILTO:NancyTavery@comcast.net
END:VEVENT
BEGIN:VEVENT
DTSTART;TZID=America/Los_Angeles:20281018T150000
DTEND;TZID=America/Los_Angeles:20281018T150000
DTSTAMP:20260425T074047
CREATED:20250924T191050Z
LAST-MODIFIED:20250924T191050Z
UID:10000223-1855494000-1855494000@uuspokane.org
SUMMARY:Weekly SUUN Submission Deadline
DESCRIPTION:
URL:https://uuspokane.org/event/weekly-suun-submission-deadline/2028-10-18/
CATEGORIES:Other
END:VEVENT
BEGIN:VEVENT
DTSTART;TZID=America/Los_Angeles:20281025T150000
DTEND;TZID=America/Los_Angeles:20281025T150000
DTSTAMP:20260425T074047
CREATED:20250924T191050Z
LAST-MODIFIED:20250924T191050Z
UID:10000224-1856098800-1856098800@uuspokane.org
SUMMARY:Weekly SUUN Submission Deadline
DESCRIPTION:
URL:https://uuspokane.org/event/weekly-suun-submission-deadline/2028-10-25/
CATEGORIES:Other
END:VEVENT
BEGIN:VEVENT
DTSTART;TZID=America/Los_Angeles:20281101T150000
DTEND;TZID=America/Los_Angeles:20281101T150000
DTSTAMP:20260425T074047
CREATED:20250924T191050Z
LAST-MODIFIED:20250924T191050Z
UID:10000225-1856703600-1856703600@uuspokane.org
SUMMARY:Weekly SUUN Submission Deadline
DESCRIPTION:
URL:https://uuspokane.org/event/weekly-suun-submission-deadline/2028-11-01/
CATEGORIES:Other
END:VEVENT
BEGIN:VEVENT
DTSTART;TZID=America/Los_Angeles:20281108T150000
DTEND;TZID=America/Los_Angeles:20281108T150000
DTSTAMP:20260425T074047
CREATED:20250924T191050Z
LAST-MODIFIED:20250924T191050Z
UID:10000226-1857308400-1857308400@uuspokane.org
SUMMARY:Weekly SUUN Submission Deadline
DESCRIPTION:
URL:https://uuspokane.org/event/weekly-suun-submission-deadline/2028-11-08/
CATEGORIES:Other
END:VEVENT
BEGIN:VEVENT
DTSTART;TZID=America/Los_Angeles:20281111T113000
DTEND;TZID=America/Los_Angeles:20281111T140000
DTSTAMP:20260425T074047
CREATED:20260204T203641Z
LAST-MODIFIED:20260204T203641Z
UID:10002544-1857555000-1857564000@uuspokane.org
SUMMARY:LGBTQ+ Seniors of the Inland Northwest Potluck
DESCRIPTION:Join us for food\, fellowship and conversation.
URL:https://uuspokane.org/event/lgbtq-seniors-of-the-inland-northwest-potluck-2/2028-11-11/
LOCATION:Friendship Hall
CATEGORIES:Other
ORGANIZER;CN="Nancy Avery":MAILTO:NancyTavery@comcast.net
END:VEVENT
BEGIN:VEVENT
DTSTART;TZID=America/Los_Angeles:20281115T150000
DTEND;TZID=America/Los_Angeles:20281115T150000
DTSTAMP:20260425T074047
CREATED:20250924T191050Z
LAST-MODIFIED:20250924T191050Z
UID:10000227-1857913200-1857913200@uuspokane.org
SUMMARY:Weekly SUUN Submission Deadline
DESCRIPTION:
URL:https://uuspokane.org/event/weekly-suun-submission-deadline/2028-11-15/
CATEGORIES:Other
END:VEVENT
END:VCALENDAR