BEGIN:VCALENDAR
VERSION:2.0
PRODID:-//Unitarian Universalist Church of Spokane - ECPv6.15.20//NONSGML v1.0//EN
CALSCALE:GREGORIAN
METHOD:PUBLISH
X-ORIGINAL-URL:https://uuspokane.org
X-WR-CALDESC:Events for Unitarian Universalist Church of Spokane
REFRESH-INTERVAL;VALUE=DURATION:PT1H
X-Robots-Tag:noindex
X-PUBLISHED-TTL:PT1H
BEGIN:VTIMEZONE
TZID:America/Los_Angeles
BEGIN:DAYLIGHT
TZOFFSETFROM:-0800
TZOFFSETTO:-0700
TZNAME:PDT
DTSTART:20250309T100000
END:DAYLIGHT
BEGIN:STANDARD
TZOFFSETFROM:-0700
TZOFFSETTO:-0800
TZNAME:PST
DTSTART:20251102T090000
END:STANDARD
BEGIN:DAYLIGHT
TZOFFSETFROM:-0800
TZOFFSETTO:-0700
TZNAME:PDT
DTSTART:20260308T100000
END:DAYLIGHT
BEGIN:STANDARD
TZOFFSETFROM:-0700
TZOFFSETTO:-0800
TZNAME:PST
DTSTART:20261101T090000
END:STANDARD
BEGIN:DAYLIGHT
TZOFFSETFROM:-0800
TZOFFSETTO:-0700
TZNAME:PDT
DTSTART:20270314T100000
END:DAYLIGHT
BEGIN:STANDARD
TZOFFSETFROM:-0700
TZOFFSETTO:-0800
TZNAME:PST
DTSTART:20271107T090000
END:STANDARD
END:VTIMEZONE
BEGIN:VEVENT
DTSTART;VALUE=DATE:20260119
DTEND;VALUE=DATE:20260120
DTSTAMP:20260423T172849
CREATED:20260115T185916Z
LAST-MODIFIED:20260115T190303Z
UID:10003894-1768780800-1768867199@uuspokane.org
SUMMARY:Office Closure
DESCRIPTION:The church office will be closed in observance of the Martin Luther King Jr. holiday.
URL:https://uuspokane.org/event/office-closure/
LOCATION:UUCS Office
CATEGORIES:Out of Office
END:VEVENT
END:VCALENDAR