BEGIN:VCALENDAR
VERSION:2.0
PRODID:-//Unitarian Universalist Church of Spokane - ECPv6.15.20//NONSGML v1.0//EN
CALSCALE:GREGORIAN
METHOD:PUBLISH
X-ORIGINAL-URL:https://uuspokane.org
X-WR-CALDESC:Events for Unitarian Universalist Church of Spokane
REFRESH-INTERVAL;VALUE=DURATION:PT1H
X-Robots-Tag:noindex
X-PUBLISHED-TTL:PT1H
BEGIN:VTIMEZONE
TZID:America/Los_Angeles
BEGIN:DAYLIGHT
TZOFFSETFROM:-0800
TZOFFSETTO:-0700
TZNAME:PDT
DTSTART:20250309T100000
END:DAYLIGHT
BEGIN:STANDARD
TZOFFSETFROM:-0700
TZOFFSETTO:-0800
TZNAME:PST
DTSTART:20251102T090000
END:STANDARD
BEGIN:DAYLIGHT
TZOFFSETFROM:-0800
TZOFFSETTO:-0700
TZNAME:PDT
DTSTART:20260308T100000
END:DAYLIGHT
BEGIN:STANDARD
TZOFFSETFROM:-0700
TZOFFSETTO:-0800
TZNAME:PST
DTSTART:20261101T090000
END:STANDARD
BEGIN:DAYLIGHT
TZOFFSETFROM:-0800
TZOFFSETTO:-0700
TZNAME:PDT
DTSTART:20270314T100000
END:DAYLIGHT
BEGIN:STANDARD
TZOFFSETFROM:-0700
TZOFFSETTO:-0800
TZNAME:PST
DTSTART:20271107T090000
END:STANDARD
END:VTIMEZONE
BEGIN:VEVENT
DTSTART;TZID=America/Los_Angeles:20260709T170000
DTEND;TZID=America/Los_Angeles:20260709T210000
DTSTAMP:20260423T204435
CREATED:20260423T195950Z
LAST-MODIFIED:20260423T195950Z
UID:10004445-1783616400-1783630800@uuspokane.org
SUMMARY:Friendship Force Dinner
DESCRIPTION:
URL:https://uuspokane.org/event/friendship-force-dinner-2/
LOCATION:Friendship Hall
CATEGORIES:Private Event
END:VEVENT
BEGIN:VEVENT
DTSTART;TZID=America/Los_Angeles:20260712T130000
DTEND;TZID=America/Los_Angeles:20260712T160000
DTSTAMP:20260423T204435
CREATED:20250925T174023Z
LAST-MODIFIED:20250925T174023Z
UID:10002817-1783861200-1783872000@uuspokane.org
SUMMARY:Spokane Handweaver's Guild
DESCRIPTION:
URL:https://uuspokane.org/event/spokane-handweavers-guild/2026-07-12/
LOCATION:Thoreau Room
CATEGORIES:Private Event
END:VEVENT
END:VCALENDAR