BEGIN:VCALENDAR
VERSION:2.0
PRODID:-//Unitarian Universalist Church of Spokane - ECPv6.15.20//NONSGML v1.0//EN
CALSCALE:GREGORIAN
METHOD:PUBLISH
X-ORIGINAL-URL:https://uuspokane.org
X-WR-CALDESC:Events for Unitarian Universalist Church of Spokane
REFRESH-INTERVAL;VALUE=DURATION:PT1H
X-Robots-Tag:noindex
X-PUBLISHED-TTL:PT1H
BEGIN:VTIMEZONE
TZID:America/Los_Angeles
BEGIN:DAYLIGHT
TZOFFSETFROM:-0800
TZOFFSETTO:-0700
TZNAME:PDT
DTSTART:20240310T100000
END:DAYLIGHT
BEGIN:STANDARD
TZOFFSETFROM:-0700
TZOFFSETTO:-0800
TZNAME:PST
DTSTART:20241103T090000
END:STANDARD
BEGIN:DAYLIGHT
TZOFFSETFROM:-0800
TZOFFSETTO:-0700
TZNAME:PDT
DTSTART:20250309T100000
END:DAYLIGHT
BEGIN:STANDARD
TZOFFSETFROM:-0700
TZOFFSETTO:-0800
TZNAME:PST
DTSTART:20251102T090000
END:STANDARD
BEGIN:DAYLIGHT
TZOFFSETFROM:-0800
TZOFFSETTO:-0700
TZNAME:PDT
DTSTART:20260308T100000
END:DAYLIGHT
BEGIN:STANDARD
TZOFFSETFROM:-0700
TZOFFSETTO:-0800
TZNAME:PST
DTSTART:20261101T090000
END:STANDARD
END:VTIMEZONE
BEGIN:VEVENT
DTSTART;TZID=America/Los_Angeles:20251102T123000
DTEND;TZID=America/Los_Angeles:20251102T143000
DTSTAMP:20260424T024359
CREATED:20250925T223517Z
LAST-MODIFIED:20251014T165633Z
UID:10002937-1762086600-1762093800@uuspokane.org
SUMMARY:Navigating Senior Care: Understanding Your Options
DESCRIPTION:This seminar will be presented by Jessica Yaeger. She is the Senior Services Advisor of Compass Care\, a company she privately owns. Compass Care is a placement and care management service designed for “guiding you to the right care at the right time”.\n  \n\nAre you or a loved one facing decisions about senior care but unsure where to start? Join us for an insightful seminar where we’ll explore the full spectrum of resources available to seniors\, from home care and home health to Medicare\, Medicaid\, and community programs designed for those in need. Learn about different levels of care\, including assisted living\, skilled nursing\, and beyond\, so you can make informed choices when the time comes.\n  \n\nPresented by Jessica Yaeger of Compass Care\, a 14-year veteran in the senior living industry\, this session will equip you with the knowledge you need to confidently navigate senior care options. Whether you’re planning for the future or seeking immediate solutions\, this seminar is designed to empower you with the right information and connections.\n  \n\nDon’t miss this opportunity to gain valuable insights and have your questions answered!
URL:https://uuspokane.org/event/navigating-senior-care-understanding-your-options/
LOCATION:Chapel
CATEGORIES:Seminar
END:VEVENT
END:VCALENDAR