BEGIN:VCALENDAR
VERSION:2.0
PRODID:-//Unitarian Universalist Church of Spokane - ECPv6.15.20//NONSGML v1.0//EN
CALSCALE:GREGORIAN
METHOD:PUBLISH
X-ORIGINAL-URL:https://uuspokane.org
X-WR-CALDESC:Events for Unitarian Universalist Church of Spokane
REFRESH-INTERVAL;VALUE=DURATION:PT1H
X-Robots-Tag:noindex
X-PUBLISHED-TTL:PT1H
BEGIN:VTIMEZONE
TZID:America/Los_Angeles
BEGIN:DAYLIGHT
TZOFFSETFROM:-0800
TZOFFSETTO:-0700
TZNAME:PDT
DTSTART:20270314T100000
END:DAYLIGHT
BEGIN:STANDARD
TZOFFSETFROM:-0700
TZOFFSETTO:-0800
TZNAME:PST
DTSTART:20271107T090000
END:STANDARD
BEGIN:DAYLIGHT
TZOFFSETFROM:-0800
TZOFFSETTO:-0700
TZNAME:PDT
DTSTART:20280312T100000
END:DAYLIGHT
BEGIN:STANDARD
TZOFFSETFROM:-0700
TZOFFSETTO:-0800
TZNAME:PST
DTSTART:20281105T090000
END:STANDARD
BEGIN:DAYLIGHT
TZOFFSETFROM:-0800
TZOFFSETTO:-0700
TZNAME:PDT
DTSTART:20290311T100000
END:DAYLIGHT
BEGIN:STANDARD
TZOFFSETFROM:-0700
TZOFFSETTO:-0800
TZNAME:PST
DTSTART:20291104T090000
END:STANDARD
BEGIN:DAYLIGHT
TZOFFSETFROM:-0800
TZOFFSETTO:-0700
TZNAME:PDT
DTSTART:20300310T100000
END:DAYLIGHT
BEGIN:STANDARD
TZOFFSETFROM:-0700
TZOFFSETTO:-0800
TZNAME:PST
DTSTART:20301103T090000
END:STANDARD
END:VTIMEZONE
BEGIN:VEVENT
DTSTART;TZID=America/Los_Angeles:20281110T210000
DTEND;TZID=America/Los_Angeles:20281110T220000
DTSTAMP:20260425T083851
CREATED:20260305T213857Z
LAST-MODIFIED:20260305T213857Z
UID:10004260-1857502800-1857506400@uuspokane.org
SUMMARY:Meaningful Movies - Cleanup
DESCRIPTION:
URL:https://uuspokane.org/event/meaningful-movies-cleanup-2/2028-11-10/
LOCATION:Chapel
CATEGORIES:Event Tear Down and Clean Up,Social Justice
ORGANIZER;CN="Barb Stuebing":MAILTO:barbstuebing@gmail.com
END:VEVENT
BEGIN:VEVENT
DTSTART;TZID=America/Los_Angeles:20281208T170000
DTEND;TZID=America/Los_Angeles:20281208T183000
DTSTAMP:20260425T083851
CREATED:20260305T213814Z
LAST-MODIFIED:20260305T213814Z
UID:10004202-1859907600-1859913000@uuspokane.org
SUMMARY:Meaningful Movies - Set Up
DESCRIPTION:
URL:https://uuspokane.org/event/meaningful-movies-set-up-2/2028-12-08/
LOCATION:Friendship Hall
CATEGORIES:Event Set Up,Social Justice
ORGANIZER;CN="Barb Stuebing":MAILTO:barbstuebing@gmail.com
END:VEVENT
BEGIN:VEVENT
DTSTART;TZID=America/Los_Angeles:20281208T180000
DTEND;TZID=America/Los_Angeles:20281208T210000
DTSTAMP:20260425T083851
CREATED:20251208T220636Z
LAST-MODIFIED:20260305T213645Z
UID:10004143-1859911200-1859922000@uuspokane.org
SUMMARY:Meaningful Movies
DESCRIPTION:
URL:https://uuspokane.org/event/meaningful-movies-4/2028-12-08/
LOCATION:Chapel
CATEGORIES:Social Justice
ORGANIZER;CN="Barb Stuebing":MAILTO:barbstuebing@gmail.com
END:VEVENT
BEGIN:VEVENT
DTSTART;TZID=America/Los_Angeles:20281208T210000
DTEND;TZID=America/Los_Angeles:20281208T220000
DTSTAMP:20260425T083851
CREATED:20260305T213857Z
LAST-MODIFIED:20260305T213857Z
UID:10004261-1859922000-1859925600@uuspokane.org
SUMMARY:Meaningful Movies - Cleanup
DESCRIPTION:
URL:https://uuspokane.org/event/meaningful-movies-cleanup-2/2028-12-08/
LOCATION:Chapel
CATEGORIES:Event Tear Down and Clean Up,Social Justice
ORGANIZER;CN="Barb Stuebing":MAILTO:barbstuebing@gmail.com
END:VEVENT
BEGIN:VEVENT
DTSTART;TZID=America/Los_Angeles:20290112T170000
DTEND;TZID=America/Los_Angeles:20290112T183000
DTSTAMP:20260425T083851
CREATED:20260305T213814Z
LAST-MODIFIED:20260305T213814Z
UID:10004203-1862931600-1862937000@uuspokane.org
SUMMARY:Meaningful Movies - Set Up
DESCRIPTION:
URL:https://uuspokane.org/event/meaningful-movies-set-up-2/2029-01-12/
LOCATION:Friendship Hall
CATEGORIES:Event Set Up,Social Justice
ORGANIZER;CN="Barb Stuebing":MAILTO:barbstuebing@gmail.com
END:VEVENT
BEGIN:VEVENT
DTSTART;TZID=America/Los_Angeles:20290112T180000
DTEND;TZID=America/Los_Angeles:20290112T210000
DTSTAMP:20260425T083851
CREATED:20251208T220636Z
LAST-MODIFIED:20260305T213645Z
UID:10004144-1862935200-1862946000@uuspokane.org
SUMMARY:Meaningful Movies
DESCRIPTION:
URL:https://uuspokane.org/event/meaningful-movies-4/2029-01-12/
LOCATION:Chapel
CATEGORIES:Social Justice
ORGANIZER;CN="Barb Stuebing":MAILTO:barbstuebing@gmail.com
END:VEVENT
BEGIN:VEVENT
DTSTART;TZID=America/Los_Angeles:20290112T210000
DTEND;TZID=America/Los_Angeles:20290112T220000
DTSTAMP:20260425T083851
CREATED:20260305T213857Z
LAST-MODIFIED:20260305T213857Z
UID:10004262-1862946000-1862949600@uuspokane.org
SUMMARY:Meaningful Movies - Cleanup
DESCRIPTION:
URL:https://uuspokane.org/event/meaningful-movies-cleanup-2/2029-01-12/
LOCATION:Chapel
CATEGORIES:Event Tear Down and Clean Up,Social Justice
ORGANIZER;CN="Barb Stuebing":MAILTO:barbstuebing@gmail.com
END:VEVENT
BEGIN:VEVENT
DTSTART;TZID=America/Los_Angeles:20290209T170000
DTEND;TZID=America/Los_Angeles:20290209T183000
DTSTAMP:20260425T083851
CREATED:20260305T213814Z
LAST-MODIFIED:20260305T213814Z
UID:10004204-1865350800-1865356200@uuspokane.org
SUMMARY:Meaningful Movies - Set Up
DESCRIPTION:
URL:https://uuspokane.org/event/meaningful-movies-set-up-2/2029-02-09/
LOCATION:Friendship Hall
CATEGORIES:Event Set Up,Social Justice
ORGANIZER;CN="Barb Stuebing":MAILTO:barbstuebing@gmail.com
END:VEVENT
BEGIN:VEVENT
DTSTART;TZID=America/Los_Angeles:20290209T180000
DTEND;TZID=America/Los_Angeles:20290209T210000
DTSTAMP:20260425T083851
CREATED:20251208T220636Z
LAST-MODIFIED:20260305T213645Z
UID:10004145-1865354400-1865365200@uuspokane.org
SUMMARY:Meaningful Movies
DESCRIPTION:
URL:https://uuspokane.org/event/meaningful-movies-4/2029-02-09/
LOCATION:Chapel
CATEGORIES:Social Justice
ORGANIZER;CN="Barb Stuebing":MAILTO:barbstuebing@gmail.com
END:VEVENT
BEGIN:VEVENT
DTSTART;TZID=America/Los_Angeles:20290209T210000
DTEND;TZID=America/Los_Angeles:20290209T220000
DTSTAMP:20260425T083851
CREATED:20260305T213857Z
LAST-MODIFIED:20260305T213857Z
UID:10004263-1865365200-1865368800@uuspokane.org
SUMMARY:Meaningful Movies - Cleanup
DESCRIPTION:
URL:https://uuspokane.org/event/meaningful-movies-cleanup-2/2029-02-09/
LOCATION:Chapel
CATEGORIES:Event Tear Down and Clean Up,Social Justice
ORGANIZER;CN="Barb Stuebing":MAILTO:barbstuebing@gmail.com
END:VEVENT
BEGIN:VEVENT
DTSTART;TZID=America/Los_Angeles:20290309T170000
DTEND;TZID=America/Los_Angeles:20290309T183000
DTSTAMP:20260425T083851
CREATED:20260305T213814Z
LAST-MODIFIED:20260305T213814Z
UID:10004205-1867770000-1867775400@uuspokane.org
SUMMARY:Meaningful Movies - Set Up
DESCRIPTION:
URL:https://uuspokane.org/event/meaningful-movies-set-up-2/2029-03-09/
LOCATION:Friendship Hall
CATEGORIES:Event Set Up,Social Justice
ORGANIZER;CN="Barb Stuebing":MAILTO:barbstuebing@gmail.com
END:VEVENT
BEGIN:VEVENT
DTSTART;TZID=America/Los_Angeles:20290309T180000
DTEND;TZID=America/Los_Angeles:20290309T210000
DTSTAMP:20260425T083851
CREATED:20251208T220636Z
LAST-MODIFIED:20260305T213645Z
UID:10004146-1867773600-1867784400@uuspokane.org
SUMMARY:Meaningful Movies
DESCRIPTION:
URL:https://uuspokane.org/event/meaningful-movies-4/2029-03-09/
LOCATION:Chapel
CATEGORIES:Social Justice
ORGANIZER;CN="Barb Stuebing":MAILTO:barbstuebing@gmail.com
END:VEVENT
BEGIN:VEVENT
DTSTART;TZID=America/Los_Angeles:20290309T210000
DTEND;TZID=America/Los_Angeles:20290309T220000
DTSTAMP:20260425T083851
CREATED:20260305T213857Z
LAST-MODIFIED:20260305T213857Z
UID:10004264-1867784400-1867788000@uuspokane.org
SUMMARY:Meaningful Movies - Cleanup
DESCRIPTION:
URL:https://uuspokane.org/event/meaningful-movies-cleanup-2/2029-03-09/
LOCATION:Chapel
CATEGORIES:Event Tear Down and Clean Up,Social Justice
ORGANIZER;CN="Barb Stuebing":MAILTO:barbstuebing@gmail.com
END:VEVENT
BEGIN:VEVENT
DTSTART;TZID=America/Los_Angeles:20290413T170000
DTEND;TZID=America/Los_Angeles:20290413T183000
DTSTAMP:20260425T083851
CREATED:20260305T213814Z
LAST-MODIFIED:20260305T213814Z
UID:10004206-1870794000-1870799400@uuspokane.org
SUMMARY:Meaningful Movies - Set Up
DESCRIPTION:
URL:https://uuspokane.org/event/meaningful-movies-set-up-2/2029-04-13/
LOCATION:Friendship Hall
CATEGORIES:Event Set Up,Social Justice
ORGANIZER;CN="Barb Stuebing":MAILTO:barbstuebing@gmail.com
END:VEVENT
BEGIN:VEVENT
DTSTART;TZID=America/Los_Angeles:20290413T180000
DTEND;TZID=America/Los_Angeles:20290413T210000
DTSTAMP:20260425T083851
CREATED:20251208T220636Z
LAST-MODIFIED:20260305T213645Z
UID:10004147-1870797600-1870808400@uuspokane.org
SUMMARY:Meaningful Movies
DESCRIPTION:
URL:https://uuspokane.org/event/meaningful-movies-4/2029-04-13/
LOCATION:Chapel
CATEGORIES:Social Justice
ORGANIZER;CN="Barb Stuebing":MAILTO:barbstuebing@gmail.com
END:VEVENT
BEGIN:VEVENT
DTSTART;TZID=America/Los_Angeles:20290413T210000
DTEND;TZID=America/Los_Angeles:20290413T220000
DTSTAMP:20260425T083851
CREATED:20260305T213857Z
LAST-MODIFIED:20260305T213857Z
UID:10004265-1870808400-1870812000@uuspokane.org
SUMMARY:Meaningful Movies - Cleanup
DESCRIPTION:
URL:https://uuspokane.org/event/meaningful-movies-cleanup-2/2029-04-13/
LOCATION:Chapel
CATEGORIES:Event Tear Down and Clean Up,Social Justice
ORGANIZER;CN="Barb Stuebing":MAILTO:barbstuebing@gmail.com
END:VEVENT
BEGIN:VEVENT
DTSTART;TZID=America/Los_Angeles:20290511T170000
DTEND;TZID=America/Los_Angeles:20290511T183000
DTSTAMP:20260425T083851
CREATED:20260305T213814Z
LAST-MODIFIED:20260305T213814Z
UID:10004207-1873213200-1873218600@uuspokane.org
SUMMARY:Meaningful Movies - Set Up
DESCRIPTION:
URL:https://uuspokane.org/event/meaningful-movies-set-up-2/2029-05-11/
LOCATION:Friendship Hall
CATEGORIES:Event Set Up,Social Justice
ORGANIZER;CN="Barb Stuebing":MAILTO:barbstuebing@gmail.com
END:VEVENT
BEGIN:VEVENT
DTSTART;TZID=America/Los_Angeles:20290511T180000
DTEND;TZID=America/Los_Angeles:20290511T210000
DTSTAMP:20260425T083851
CREATED:20251208T220636Z
LAST-MODIFIED:20260305T213645Z
UID:10004148-1873216800-1873227600@uuspokane.org
SUMMARY:Meaningful Movies
DESCRIPTION:
URL:https://uuspokane.org/event/meaningful-movies-4/2029-05-11/
LOCATION:Chapel
CATEGORIES:Social Justice
ORGANIZER;CN="Barb Stuebing":MAILTO:barbstuebing@gmail.com
END:VEVENT
BEGIN:VEVENT
DTSTART;TZID=America/Los_Angeles:20290511T210000
DTEND;TZID=America/Los_Angeles:20290511T220000
DTSTAMP:20260425T083851
CREATED:20260305T213857Z
LAST-MODIFIED:20260305T213857Z
UID:10004266-1873227600-1873231200@uuspokane.org
SUMMARY:Meaningful Movies - Cleanup
DESCRIPTION:
URL:https://uuspokane.org/event/meaningful-movies-cleanup-2/2029-05-11/
LOCATION:Chapel
CATEGORIES:Event Tear Down and Clean Up,Social Justice
ORGANIZER;CN="Barb Stuebing":MAILTO:barbstuebing@gmail.com
END:VEVENT
BEGIN:VEVENT
DTSTART;TZID=America/Los_Angeles:20290608T170000
DTEND;TZID=America/Los_Angeles:20290608T183000
DTSTAMP:20260425T083851
CREATED:20260305T213814Z
LAST-MODIFIED:20260305T213814Z
UID:10004208-1875632400-1875637800@uuspokane.org
SUMMARY:Meaningful Movies - Set Up
DESCRIPTION:
URL:https://uuspokane.org/event/meaningful-movies-set-up-2/2029-06-08/
LOCATION:Friendship Hall
CATEGORIES:Event Set Up,Social Justice
ORGANIZER;CN="Barb Stuebing":MAILTO:barbstuebing@gmail.com
END:VEVENT
BEGIN:VEVENT
DTSTART;TZID=America/Los_Angeles:20290608T180000
DTEND;TZID=America/Los_Angeles:20290608T210000
DTSTAMP:20260425T083851
CREATED:20251208T220636Z
LAST-MODIFIED:20260305T213645Z
UID:10004149-1875636000-1875646800@uuspokane.org
SUMMARY:Meaningful Movies
DESCRIPTION:
URL:https://uuspokane.org/event/meaningful-movies-4/2029-06-08/
LOCATION:Chapel
CATEGORIES:Social Justice
ORGANIZER;CN="Barb Stuebing":MAILTO:barbstuebing@gmail.com
END:VEVENT
BEGIN:VEVENT
DTSTART;TZID=America/Los_Angeles:20290608T210000
DTEND;TZID=America/Los_Angeles:20290608T220000
DTSTAMP:20260425T083851
CREATED:20260305T213857Z
LAST-MODIFIED:20260305T213857Z
UID:10004267-1875646800-1875650400@uuspokane.org
SUMMARY:Meaningful Movies - Cleanup
DESCRIPTION:
URL:https://uuspokane.org/event/meaningful-movies-cleanup-2/2029-06-08/
LOCATION:Chapel
CATEGORIES:Event Tear Down and Clean Up,Social Justice
ORGANIZER;CN="Barb Stuebing":MAILTO:barbstuebing@gmail.com
END:VEVENT
BEGIN:VEVENT
DTSTART;TZID=America/Los_Angeles:20290713T170000
DTEND;TZID=America/Los_Angeles:20290713T183000
DTSTAMP:20260425T083851
CREATED:20260305T213814Z
LAST-MODIFIED:20260305T213814Z
UID:10004209-1878656400-1878661800@uuspokane.org
SUMMARY:Meaningful Movies - Set Up
DESCRIPTION:
URL:https://uuspokane.org/event/meaningful-movies-set-up-2/2029-07-13/
LOCATION:Friendship Hall
CATEGORIES:Event Set Up,Social Justice
ORGANIZER;CN="Barb Stuebing":MAILTO:barbstuebing@gmail.com
END:VEVENT
BEGIN:VEVENT
DTSTART;TZID=America/Los_Angeles:20290713T180000
DTEND;TZID=America/Los_Angeles:20290713T210000
DTSTAMP:20260425T083851
CREATED:20251208T220636Z
LAST-MODIFIED:20260305T213645Z
UID:10004150-1878660000-1878670800@uuspokane.org
SUMMARY:Meaningful Movies
DESCRIPTION:
URL:https://uuspokane.org/event/meaningful-movies-4/2029-07-13/
LOCATION:Chapel
CATEGORIES:Social Justice
ORGANIZER;CN="Barb Stuebing":MAILTO:barbstuebing@gmail.com
END:VEVENT
BEGIN:VEVENT
DTSTART;TZID=America/Los_Angeles:20290713T210000
DTEND;TZID=America/Los_Angeles:20290713T220000
DTSTAMP:20260425T083851
CREATED:20260305T213857Z
LAST-MODIFIED:20260305T213857Z
UID:10004268-1878670800-1878674400@uuspokane.org
SUMMARY:Meaningful Movies - Cleanup
DESCRIPTION:
URL:https://uuspokane.org/event/meaningful-movies-cleanup-2/2029-07-13/
LOCATION:Chapel
CATEGORIES:Event Tear Down and Clean Up,Social Justice
ORGANIZER;CN="Barb Stuebing":MAILTO:barbstuebing@gmail.com
END:VEVENT
BEGIN:VEVENT
DTSTART;TZID=America/Los_Angeles:20290810T170000
DTEND;TZID=America/Los_Angeles:20290810T183000
DTSTAMP:20260425T083851
CREATED:20260305T213814Z
LAST-MODIFIED:20260305T213814Z
UID:10004210-1881075600-1881081000@uuspokane.org
SUMMARY:Meaningful Movies - Set Up
DESCRIPTION:
URL:https://uuspokane.org/event/meaningful-movies-set-up-2/2029-08-10/
LOCATION:Friendship Hall
CATEGORIES:Event Set Up,Social Justice
ORGANIZER;CN="Barb Stuebing":MAILTO:barbstuebing@gmail.com
END:VEVENT
BEGIN:VEVENT
DTSTART;TZID=America/Los_Angeles:20290810T180000
DTEND;TZID=America/Los_Angeles:20290810T210000
DTSTAMP:20260425T083851
CREATED:20251208T220636Z
LAST-MODIFIED:20260305T213645Z
UID:10004151-1881079200-1881090000@uuspokane.org
SUMMARY:Meaningful Movies
DESCRIPTION:
URL:https://uuspokane.org/event/meaningful-movies-4/2029-08-10/
LOCATION:Chapel
CATEGORIES:Social Justice
ORGANIZER;CN="Barb Stuebing":MAILTO:barbstuebing@gmail.com
END:VEVENT
BEGIN:VEVENT
DTSTART;TZID=America/Los_Angeles:20290810T210000
DTEND;TZID=America/Los_Angeles:20290810T220000
DTSTAMP:20260425T083851
CREATED:20260305T213857Z
LAST-MODIFIED:20260305T213857Z
UID:10004269-1881090000-1881093600@uuspokane.org
SUMMARY:Meaningful Movies - Cleanup
DESCRIPTION:
URL:https://uuspokane.org/event/meaningful-movies-cleanup-2/2029-08-10/
LOCATION:Chapel
CATEGORIES:Event Tear Down and Clean Up,Social Justice
ORGANIZER;CN="Barb Stuebing":MAILTO:barbstuebing@gmail.com
END:VEVENT
BEGIN:VEVENT
DTSTART;TZID=America/Los_Angeles:20290914T170000
DTEND;TZID=America/Los_Angeles:20290914T183000
DTSTAMP:20260425T083851
CREATED:20260305T213814Z
LAST-MODIFIED:20260305T213814Z
UID:10004211-1884099600-1884105000@uuspokane.org
SUMMARY:Meaningful Movies - Set Up
DESCRIPTION:
URL:https://uuspokane.org/event/meaningful-movies-set-up-2/2029-09-14/
LOCATION:Friendship Hall
CATEGORIES:Event Set Up,Social Justice
ORGANIZER;CN="Barb Stuebing":MAILTO:barbstuebing@gmail.com
END:VEVENT
BEGIN:VEVENT
DTSTART;TZID=America/Los_Angeles:20290914T180000
DTEND;TZID=America/Los_Angeles:20290914T210000
DTSTAMP:20260425T083851
CREATED:20251208T220636Z
LAST-MODIFIED:20260305T213645Z
UID:10004152-1884103200-1884114000@uuspokane.org
SUMMARY:Meaningful Movies
DESCRIPTION:
URL:https://uuspokane.org/event/meaningful-movies-4/2029-09-14/
LOCATION:Chapel
CATEGORIES:Social Justice
ORGANIZER;CN="Barb Stuebing":MAILTO:barbstuebing@gmail.com
END:VEVENT
END:VCALENDAR