BEGIN:VCALENDAR
VERSION:2.0
PRODID:-//Unitarian Universalist Church of Spokane - ECPv6.15.20//NONSGML v1.0//EN
CALSCALE:GREGORIAN
METHOD:PUBLISH
X-ORIGINAL-URL:https://uuspokane.org
X-WR-CALDESC:Events for Unitarian Universalist Church of Spokane
REFRESH-INTERVAL;VALUE=DURATION:PT1H
X-Robots-Tag:noindex
X-PUBLISHED-TTL:PT1H
BEGIN:VTIMEZONE
TZID:America/Los_Angeles
BEGIN:DAYLIGHT
TZOFFSETFROM:-0800
TZOFFSETTO:-0700
TZNAME:PDT
DTSTART:20260308T100000
END:DAYLIGHT
BEGIN:STANDARD
TZOFFSETFROM:-0700
TZOFFSETTO:-0800
TZNAME:PST
DTSTART:20261101T090000
END:STANDARD
BEGIN:DAYLIGHT
TZOFFSETFROM:-0800
TZOFFSETTO:-0700
TZNAME:PDT
DTSTART:20270314T100000
END:DAYLIGHT
BEGIN:STANDARD
TZOFFSETFROM:-0700
TZOFFSETTO:-0800
TZNAME:PST
DTSTART:20271107T090000
END:STANDARD
BEGIN:DAYLIGHT
TZOFFSETFROM:-0800
TZOFFSETTO:-0700
TZNAME:PDT
DTSTART:20280312T100000
END:DAYLIGHT
BEGIN:STANDARD
TZOFFSETFROM:-0700
TZOFFSETTO:-0800
TZNAME:PST
DTSTART:20281105T090000
END:STANDARD
END:VTIMEZONE
BEGIN:VEVENT
DTSTART;TZID=America/Los_Angeles:20270110T091500
DTEND;TZID=America/Los_Angeles:20270110T101500
DTSTAMP:20260423T235317
CREATED:20250924T193716Z
LAST-MODIFIED:20250925T235209Z
UID:10000834-1799572500-1799576100@uuspokane.org
SUMMARY:Sunday Worship
DESCRIPTION:Live Stream Available
URL:https://uuspokane.org/event/sunday-worship/2027-01-10/
LOCATION:Sanctuary
CATEGORIES:Worship Service
END:VEVENT
BEGIN:VEVENT
DTSTART;TZID=America/Los_Angeles:20270110T110000
DTEND;TZID=America/Los_Angeles:20270110T120000
DTSTAMP:20260423T235317
CREATED:20250924T193853Z
LAST-MODIFIED:20250925T235352Z
UID:10001095-1799578800-1799582400@uuspokane.org
SUMMARY:Sunday Worship
DESCRIPTION:Live Stream Available
URL:https://uuspokane.org/event/sunday-worship-2/2027-01-10/
LOCATION:Sanctuary
CATEGORIES:Worship Service
END:VEVENT
BEGIN:VEVENT
DTSTART;TZID=America/Los_Angeles:20270116T100000
DTEND;TZID=America/Los_Angeles:20270116T120000
DTSTAMP:20260423T235317
CREATED:20260217T231342Z
LAST-MODIFIED:20260217T231342Z
UID:10002703-1800093600-1800100800@uuspokane.org
SUMMARY:NAUA Monthly Service - ZOOM Only
DESCRIPTION:
URL:https://uuspokane.org/event/naua-monthly-service-zoom-only-2/2027-01-16/
LOCATION:Private Zoom
CATEGORIES:Worship Service
ORGANIZER;CN="Roy Dickerson":MAILTO:info@naunitarians.org
END:VEVENT
BEGIN:VEVENT
DTSTART;TZID=America/Los_Angeles:20270117T091500
DTEND;TZID=America/Los_Angeles:20270117T101500
DTSTAMP:20260423T235317
CREATED:20250924T193716Z
LAST-MODIFIED:20250925T235209Z
UID:10000835-1800177300-1800180900@uuspokane.org
SUMMARY:Sunday Worship
DESCRIPTION:Live Stream Available
URL:https://uuspokane.org/event/sunday-worship/2027-01-17/
LOCATION:Sanctuary
CATEGORIES:Worship Service
END:VEVENT
BEGIN:VEVENT
DTSTART;TZID=America/Los_Angeles:20270117T110000
DTEND;TZID=America/Los_Angeles:20270117T120000
DTSTAMP:20260423T235317
CREATED:20250924T193853Z
LAST-MODIFIED:20250925T235352Z
UID:10001096-1800183600-1800187200@uuspokane.org
SUMMARY:Sunday Worship
DESCRIPTION:Live Stream Available
URL:https://uuspokane.org/event/sunday-worship-2/2027-01-17/
LOCATION:Sanctuary
CATEGORIES:Worship Service
END:VEVENT
BEGIN:VEVENT
DTSTART;TZID=America/Los_Angeles:20270124T091500
DTEND;TZID=America/Los_Angeles:20270124T101500
DTSTAMP:20260423T235317
CREATED:20250924T193716Z
LAST-MODIFIED:20250925T235209Z
UID:10000836-1800782100-1800785700@uuspokane.org
SUMMARY:Sunday Worship
DESCRIPTION:Live Stream Available
URL:https://uuspokane.org/event/sunday-worship/2027-01-24/
LOCATION:Sanctuary
CATEGORIES:Worship Service
END:VEVENT
BEGIN:VEVENT
DTSTART;TZID=America/Los_Angeles:20270124T110000
DTEND;TZID=America/Los_Angeles:20270124T120000
DTSTAMP:20260423T235317
CREATED:20250924T193853Z
LAST-MODIFIED:20250925T235352Z
UID:10001097-1800788400-1800792000@uuspokane.org
SUMMARY:Sunday Worship
DESCRIPTION:Live Stream Available
URL:https://uuspokane.org/event/sunday-worship-2/2027-01-24/
LOCATION:Sanctuary
CATEGORIES:Worship Service
END:VEVENT
BEGIN:VEVENT
DTSTART;TZID=America/Los_Angeles:20270131T091500
DTEND;TZID=America/Los_Angeles:20270131T101500
DTSTAMP:20260423T235317
CREATED:20250924T193716Z
LAST-MODIFIED:20250925T235209Z
UID:10000837-1801386900-1801390500@uuspokane.org
SUMMARY:Sunday Worship
DESCRIPTION:Live Stream Available
URL:https://uuspokane.org/event/sunday-worship/2027-01-31/
LOCATION:Sanctuary
CATEGORIES:Worship Service
END:VEVENT
BEGIN:VEVENT
DTSTART;TZID=America/Los_Angeles:20270131T110000
DTEND;TZID=America/Los_Angeles:20270131T120000
DTSTAMP:20260423T235317
CREATED:20250924T193853Z
LAST-MODIFIED:20250925T235352Z
UID:10001098-1801393200-1801396800@uuspokane.org
SUMMARY:Sunday Worship
DESCRIPTION:Live Stream Available
URL:https://uuspokane.org/event/sunday-worship-2/2027-01-31/
LOCATION:Sanctuary
CATEGORIES:Worship Service
END:VEVENT
BEGIN:VEVENT
DTSTART;TZID=America/Los_Angeles:20270207T091500
DTEND;TZID=America/Los_Angeles:20270207T101500
DTSTAMP:20260423T235317
CREATED:20250924T193716Z
LAST-MODIFIED:20250925T235209Z
UID:10000838-1801991700-1801995300@uuspokane.org
SUMMARY:Sunday Worship
DESCRIPTION:Live Stream Available
URL:https://uuspokane.org/event/sunday-worship/2027-02-07/
LOCATION:Sanctuary
CATEGORIES:Worship Service
END:VEVENT
BEGIN:VEVENT
DTSTART;TZID=America/Los_Angeles:20270207T110000
DTEND;TZID=America/Los_Angeles:20270207T120000
DTSTAMP:20260423T235317
CREATED:20250924T193853Z
LAST-MODIFIED:20250925T235352Z
UID:10001099-1801998000-1802001600@uuspokane.org
SUMMARY:Sunday Worship
DESCRIPTION:Live Stream Available
URL:https://uuspokane.org/event/sunday-worship-2/2027-02-07/
LOCATION:Sanctuary
CATEGORIES:Worship Service
END:VEVENT
BEGIN:VEVENT
DTSTART;TZID=America/Los_Angeles:20270214T091500
DTEND;TZID=America/Los_Angeles:20270214T101500
DTSTAMP:20260423T235317
CREATED:20250924T193716Z
LAST-MODIFIED:20250925T235209Z
UID:10000839-1802596500-1802600100@uuspokane.org
SUMMARY:Sunday Worship
DESCRIPTION:Live Stream Available
URL:https://uuspokane.org/event/sunday-worship/2027-02-14/
LOCATION:Sanctuary
CATEGORIES:Worship Service
END:VEVENT
BEGIN:VEVENT
DTSTART;TZID=America/Los_Angeles:20270214T110000
DTEND;TZID=America/Los_Angeles:20270214T120000
DTSTAMP:20260423T235317
CREATED:20250924T193853Z
LAST-MODIFIED:20250925T235352Z
UID:10001100-1802602800-1802606400@uuspokane.org
SUMMARY:Sunday Worship
DESCRIPTION:Live Stream Available
URL:https://uuspokane.org/event/sunday-worship-2/2027-02-14/
LOCATION:Sanctuary
CATEGORIES:Worship Service
END:VEVENT
BEGIN:VEVENT
DTSTART;TZID=America/Los_Angeles:20270220T100000
DTEND;TZID=America/Los_Angeles:20270220T120000
DTSTAMP:20260423T235317
CREATED:20260217T231342Z
LAST-MODIFIED:20260217T231342Z
UID:10002704-1803117600-1803124800@uuspokane.org
SUMMARY:NAUA Monthly Service - ZOOM Only
DESCRIPTION:
URL:https://uuspokane.org/event/naua-monthly-service-zoom-only-2/2027-02-20/
LOCATION:Private Zoom
CATEGORIES:Worship Service
ORGANIZER;CN="Roy Dickerson":MAILTO:info@naunitarians.org
END:VEVENT
BEGIN:VEVENT
DTSTART;TZID=America/Los_Angeles:20270221T091500
DTEND;TZID=America/Los_Angeles:20270221T101500
DTSTAMP:20260423T235317
CREATED:20250924T193716Z
LAST-MODIFIED:20250925T235209Z
UID:10000840-1803201300-1803204900@uuspokane.org
SUMMARY:Sunday Worship
DESCRIPTION:Live Stream Available
URL:https://uuspokane.org/event/sunday-worship/2027-02-21/
LOCATION:Sanctuary
CATEGORIES:Worship Service
END:VEVENT
BEGIN:VEVENT
DTSTART;TZID=America/Los_Angeles:20270221T110000
DTEND;TZID=America/Los_Angeles:20270221T120000
DTSTAMP:20260423T235317
CREATED:20250924T193853Z
LAST-MODIFIED:20250925T235352Z
UID:10001101-1803207600-1803211200@uuspokane.org
SUMMARY:Sunday Worship
DESCRIPTION:Live Stream Available
URL:https://uuspokane.org/event/sunday-worship-2/2027-02-21/
LOCATION:Sanctuary
CATEGORIES:Worship Service
END:VEVENT
BEGIN:VEVENT
DTSTART;TZID=America/Los_Angeles:20270228T091500
DTEND;TZID=America/Los_Angeles:20270228T101500
DTSTAMP:20260423T235317
CREATED:20250924T193716Z
LAST-MODIFIED:20250925T235209Z
UID:10000841-1803806100-1803809700@uuspokane.org
SUMMARY:Sunday Worship
DESCRIPTION:Live Stream Available
URL:https://uuspokane.org/event/sunday-worship/2027-02-28/
LOCATION:Sanctuary
CATEGORIES:Worship Service
END:VEVENT
BEGIN:VEVENT
DTSTART;TZID=America/Los_Angeles:20270228T110000
DTEND;TZID=America/Los_Angeles:20270228T120000
DTSTAMP:20260423T235317
CREATED:20250924T193853Z
LAST-MODIFIED:20250925T235352Z
UID:10001102-1803812400-1803816000@uuspokane.org
SUMMARY:Sunday Worship
DESCRIPTION:Live Stream Available
URL:https://uuspokane.org/event/sunday-worship-2/2027-02-28/
LOCATION:Sanctuary
CATEGORIES:Worship Service
END:VEVENT
BEGIN:VEVENT
DTSTART;TZID=America/Los_Angeles:20270307T091500
DTEND;TZID=America/Los_Angeles:20270307T101500
DTSTAMP:20260423T235317
CREATED:20250924T193716Z
LAST-MODIFIED:20250925T235209Z
UID:10000842-1804410900-1804414500@uuspokane.org
SUMMARY:Sunday Worship
DESCRIPTION:Live Stream Available
URL:https://uuspokane.org/event/sunday-worship/2027-03-07/
LOCATION:Sanctuary
CATEGORIES:Worship Service
END:VEVENT
BEGIN:VEVENT
DTSTART;TZID=America/Los_Angeles:20270307T110000
DTEND;TZID=America/Los_Angeles:20270307T120000
DTSTAMP:20260423T235317
CREATED:20250924T193853Z
LAST-MODIFIED:20250925T235352Z
UID:10001103-1804417200-1804420800@uuspokane.org
SUMMARY:Sunday Worship
DESCRIPTION:Live Stream Available
URL:https://uuspokane.org/event/sunday-worship-2/2027-03-07/
LOCATION:Sanctuary
CATEGORIES:Worship Service
END:VEVENT
BEGIN:VEVENT
DTSTART;TZID=America/Los_Angeles:20270314T091500
DTEND;TZID=America/Los_Angeles:20270314T101500
DTSTAMP:20260423T235317
CREATED:20250924T193716Z
LAST-MODIFIED:20250925T235209Z
UID:10000843-1805015700-1805019300@uuspokane.org
SUMMARY:Sunday Worship
DESCRIPTION:Live Stream Available
URL:https://uuspokane.org/event/sunday-worship/2027-03-14/
LOCATION:Sanctuary
CATEGORIES:Worship Service
END:VEVENT
BEGIN:VEVENT
DTSTART;TZID=America/Los_Angeles:20270314T110000
DTEND;TZID=America/Los_Angeles:20270314T120000
DTSTAMP:20260423T235317
CREATED:20250924T193853Z
LAST-MODIFIED:20250925T235352Z
UID:10001104-1805022000-1805025600@uuspokane.org
SUMMARY:Sunday Worship
DESCRIPTION:Live Stream Available
URL:https://uuspokane.org/event/sunday-worship-2/2027-03-14/
LOCATION:Sanctuary
CATEGORIES:Worship Service
END:VEVENT
BEGIN:VEVENT
DTSTART;TZID=America/Los_Angeles:20270320T100000
DTEND;TZID=America/Los_Angeles:20270320T120000
DTSTAMP:20260423T235317
CREATED:20260217T231342Z
LAST-MODIFIED:20260217T231342Z
UID:10002705-1805536800-1805544000@uuspokane.org
SUMMARY:NAUA Monthly Service - ZOOM Only
DESCRIPTION:
URL:https://uuspokane.org/event/naua-monthly-service-zoom-only-2/2027-03-20/
LOCATION:Private Zoom
CATEGORIES:Worship Service
ORGANIZER;CN="Roy Dickerson":MAILTO:info@naunitarians.org
END:VEVENT
BEGIN:VEVENT
DTSTART;TZID=America/Los_Angeles:20270321T091500
DTEND;TZID=America/Los_Angeles:20270321T101500
DTSTAMP:20260423T235317
CREATED:20250924T193716Z
LAST-MODIFIED:20250925T235209Z
UID:10000844-1805620500-1805624100@uuspokane.org
SUMMARY:Sunday Worship
DESCRIPTION:Live Stream Available
URL:https://uuspokane.org/event/sunday-worship/2027-03-21/
LOCATION:Sanctuary
CATEGORIES:Worship Service
END:VEVENT
BEGIN:VEVENT
DTSTART;TZID=America/Los_Angeles:20270321T110000
DTEND;TZID=America/Los_Angeles:20270321T120000
DTSTAMP:20260423T235317
CREATED:20250924T193853Z
LAST-MODIFIED:20250925T235352Z
UID:10001105-1805626800-1805630400@uuspokane.org
SUMMARY:Sunday Worship
DESCRIPTION:Live Stream Available
URL:https://uuspokane.org/event/sunday-worship-2/2027-03-21/
LOCATION:Sanctuary
CATEGORIES:Worship Service
END:VEVENT
BEGIN:VEVENT
DTSTART;TZID=America/Los_Angeles:20270328T091500
DTEND;TZID=America/Los_Angeles:20270328T101500
DTSTAMP:20260423T235317
CREATED:20250924T193716Z
LAST-MODIFIED:20250925T235209Z
UID:10000845-1806225300-1806228900@uuspokane.org
SUMMARY:Sunday Worship
DESCRIPTION:Live Stream Available
URL:https://uuspokane.org/event/sunday-worship/2027-03-28/
LOCATION:Sanctuary
CATEGORIES:Worship Service
END:VEVENT
BEGIN:VEVENT
DTSTART;TZID=America/Los_Angeles:20270328T110000
DTEND;TZID=America/Los_Angeles:20270328T120000
DTSTAMP:20260423T235317
CREATED:20250924T193853Z
LAST-MODIFIED:20250925T235352Z
UID:10001106-1806231600-1806235200@uuspokane.org
SUMMARY:Sunday Worship
DESCRIPTION:Live Stream Available
URL:https://uuspokane.org/event/sunday-worship-2/2027-03-28/
LOCATION:Sanctuary
CATEGORIES:Worship Service
END:VEVENT
BEGIN:VEVENT
DTSTART;TZID=America/Los_Angeles:20270404T091500
DTEND;TZID=America/Los_Angeles:20270404T101500
DTSTAMP:20260423T235317
CREATED:20250924T193716Z
LAST-MODIFIED:20250925T235209Z
UID:10000846-1806830100-1806833700@uuspokane.org
SUMMARY:Sunday Worship
DESCRIPTION:Live Stream Available
URL:https://uuspokane.org/event/sunday-worship/2027-04-04/
LOCATION:Sanctuary
CATEGORIES:Worship Service
END:VEVENT
BEGIN:VEVENT
DTSTART;TZID=America/Los_Angeles:20270404T110000
DTEND;TZID=America/Los_Angeles:20270404T120000
DTSTAMP:20260423T235317
CREATED:20250924T193853Z
LAST-MODIFIED:20250925T235352Z
UID:10001107-1806836400-1806840000@uuspokane.org
SUMMARY:Sunday Worship
DESCRIPTION:Live Stream Available
URL:https://uuspokane.org/event/sunday-worship-2/2027-04-04/
LOCATION:Sanctuary
CATEGORIES:Worship Service
END:VEVENT
BEGIN:VEVENT
DTSTART;TZID=America/Los_Angeles:20270411T091500
DTEND;TZID=America/Los_Angeles:20270411T101500
DTSTAMP:20260423T235317
CREATED:20250924T193716Z
LAST-MODIFIED:20250925T235209Z
UID:10000847-1807434900-1807438500@uuspokane.org
SUMMARY:Sunday Worship
DESCRIPTION:Live Stream Available
URL:https://uuspokane.org/event/sunday-worship/2027-04-11/
LOCATION:Sanctuary
CATEGORIES:Worship Service
END:VEVENT
END:VCALENDAR