BEGIN:VCALENDAR
VERSION:2.0
PRODID:-//Unitarian Universalist Church of Spokane - ECPv6.15.20//NONSGML v1.0//EN
CALSCALE:GREGORIAN
METHOD:PUBLISH
X-ORIGINAL-URL:https://uuspokane.org
X-WR-CALDESC:Events for Unitarian Universalist Church of Spokane
REFRESH-INTERVAL;VALUE=DURATION:PT1H
X-Robots-Tag:noindex
X-PUBLISHED-TTL:PT1H
BEGIN:VTIMEZONE
TZID:America/Los_Angeles
BEGIN:DAYLIGHT
TZOFFSETFROM:-0800
TZOFFSETTO:-0700
TZNAME:PDT
DTSTART:20250309T100000
END:DAYLIGHT
BEGIN:STANDARD
TZOFFSETFROM:-0700
TZOFFSETTO:-0800
TZNAME:PST
DTSTART:20251102T090000
END:STANDARD
BEGIN:DAYLIGHT
TZOFFSETFROM:-0800
TZOFFSETTO:-0700
TZNAME:PDT
DTSTART:20260308T100000
END:DAYLIGHT
BEGIN:STANDARD
TZOFFSETFROM:-0700
TZOFFSETTO:-0800
TZNAME:PST
DTSTART:20261101T090000
END:STANDARD
BEGIN:DAYLIGHT
TZOFFSETFROM:-0800
TZOFFSETTO:-0700
TZNAME:PDT
DTSTART:20270314T100000
END:DAYLIGHT
BEGIN:STANDARD
TZOFFSETFROM:-0700
TZOFFSETTO:-0800
TZNAME:PST
DTSTART:20271107T090000
END:STANDARD
END:VTIMEZONE
BEGIN:VEVENT
DTSTART;TZID=America/Los_Angeles:20260418T100000
DTEND;TZID=America/Los_Angeles:20260418T120000
DTSTAMP:20260424T050814
CREATED:20260217T231342Z
LAST-MODIFIED:20260217T231342Z
UID:10002694-1776506400-1776513600@uuspokane.org
SUMMARY:NAUA Monthly Service - ZOOM Only
DESCRIPTION:
URL:https://uuspokane.org/event/naua-monthly-service-zoom-only-2/2026-04-18/
LOCATION:Private Zoom
CATEGORIES:Worship Service
ORGANIZER;CN="Roy Dickerson":MAILTO:info@naunitarians.org
END:VEVENT
BEGIN:VEVENT
DTSTART;TZID=America/Los_Angeles:20260419T091500
DTEND;TZID=America/Los_Angeles:20260419T101500
DTSTAMP:20260424T050814
CREATED:20250924T193716Z
LAST-MODIFIED:20250925T235209Z
UID:10000796-1776590100-1776593700@uuspokane.org
SUMMARY:Sunday Worship
DESCRIPTION:Live Stream Available
URL:https://uuspokane.org/event/sunday-worship/2026-04-19/
LOCATION:Sanctuary
CATEGORIES:Worship Service
END:VEVENT
BEGIN:VEVENT
DTSTART;TZID=America/Los_Angeles:20260419T110000
DTEND;TZID=America/Los_Angeles:20260419T120000
DTSTAMP:20260424T050814
CREATED:20250924T193853Z
LAST-MODIFIED:20250925T235352Z
UID:10001057-1776596400-1776600000@uuspokane.org
SUMMARY:Sunday Worship
DESCRIPTION:Live Stream Available
URL:https://uuspokane.org/event/sunday-worship-2/2026-04-19/
LOCATION:Sanctuary
CATEGORIES:Worship Service
END:VEVENT
BEGIN:VEVENT
DTSTART;TZID=America/Los_Angeles:20260419T110000
DTEND;TZID=America/Los_Angeles:20260419T121500
DTSTAMP:20260424T050814
CREATED:20250924T194449Z
LAST-MODIFIED:20250925T235502Z
UID:10001318-1776596400-1776600900@uuspokane.org
SUMMARY:Childcare for Sunday Services
DESCRIPTION:
URL:https://uuspokane.org/event/childcare-for-sunday-services/2026-04-19/
LOCATION:Channing Room (Nursery)
CATEGORIES:Childcare
END:VEVENT
BEGIN:VEVENT
DTSTART;TZID=America/Los_Angeles:20260419T123000
DTEND;TZID=America/Los_Angeles:20260419T140000
DTSTAMP:20260424T050814
CREATED:20260408T182839Z
LAST-MODIFIED:20260408T183008Z
UID:10003125-1776601800-1776607200@uuspokane.org
SUMMARY:Annual Dinner
DESCRIPTION:Join us for dinner following second service for our Annual Luncheon. This meal will be provided by UUCS\, our Generosity Team and our Activities team as a thank you for your pledge and being a part of UUCS.
URL:https://uuspokane.org/event/church-potluck-6/
LOCATION:Friendship Hall
CATEGORIES:Fellowship
END:VEVENT
BEGIN:VEVENT
DTSTART;TZID=America/Los_Angeles:20260420T183000
DTEND;TZID=America/Los_Angeles:20260420T200000
DTSTAMP:20260424T050814
CREATED:20250924T194849Z
LAST-MODIFIED:20250924T194849Z
UID:10001840-1776709800-1776715200@uuspokane.org
SUMMARY:Meditation Group
DESCRIPTION:Buddhist Meditation – Sravasti Abbey
URL:https://uuspokane.org/event/meditation-group/2026-04-20/
LOCATION:Private Zoom
CATEGORIES:Meditation
END:VEVENT
BEGIN:VEVENT
DTSTART;TZID=America/Los_Angeles:20260420T183000
DTEND;TZID=America/Los_Angeles:20260420T200000
DTSTAMP:20260424T050814
CREATED:20250925T180231Z
LAST-MODIFIED:20250925T231548Z
UID:10003186-1776709800-1776715200@uuspokane.org
SUMMARY:Social Justice Coordinating Council
DESCRIPTION:
URL:https://uuspokane.org/event/social-justice-coordinating-council/2026-04-20/
LOCATION:RE Zoom Account
CATEGORIES:Meeting
END:VEVENT
BEGIN:VEVENT
DTSTART;TZID=America/Los_Angeles:20260421T180000
DTEND;TZID=America/Los_Angeles:20260421T193000
DTSTAMP:20260424T050814
CREATED:20260107T233841Z
LAST-MODIFIED:20260107T234027Z
UID:10003887-1776794400-1776799800@uuspokane.org
SUMMARY:Choir Rehearsal
DESCRIPTION:
URL:https://uuspokane.org/event/choir-rehearsal-4/2026-04-21/
LOCATION:Sanctuary
CATEGORIES:Choir Rehearsal
END:VEVENT
BEGIN:VEVENT
DTSTART;TZID=America/Los_Angeles:20260422T150000
DTEND;TZID=America/Los_Angeles:20260422T150000
DTSTAMP:20260424T050814
CREATED:20250924T191050Z
LAST-MODIFIED:20250924T191050Z
UID:10000093-1776870000-1776870000@uuspokane.org
SUMMARY:Weekly SUUN Submission Deadline
DESCRIPTION:
URL:https://uuspokane.org/event/weekly-suun-submission-deadline/2026-04-22/
CATEGORIES:Other
END:VEVENT
BEGIN:VEVENT
DTSTART;TZID=America/Los_Angeles:20260422T160000
DTEND;TZID=America/Los_Angeles:20260422T173000
DTSTAMP:20260424T050814
CREATED:20251204T221746Z
LAST-MODIFIED:20251204T221844Z
UID:10003789-1776873600-1776879000@uuspokane.org
SUMMARY:Board of Trustees Meeting
DESCRIPTION:
URL:https://uuspokane.org/event/board-of-trustees-meeting-2/2026-04-22/
LOCATION:RE Zoom Account
CATEGORIES:Meeting
END:VEVENT
BEGIN:VEVENT
DTSTART;TZID=America/Los_Angeles:20260423T100000
DTEND;TZID=America/Los_Angeles:20260423T120000
DTSTAMP:20260424T050814
CREATED:20260217T190138Z
LAST-MODIFIED:20260217T190138Z
UID:10004006-1776938400-1776945600@uuspokane.org
SUMMARY:Election Coalition Team- Spokane Indivisible
DESCRIPTION:
URL:https://uuspokane.org/event/election-coalition-team-spokane-indivisible/2026-04-23/
LOCATION:Thoreau Room
CATEGORIES:Social Justice
END:VEVENT
BEGIN:VEVENT
DTSTART;TZID=America/Los_Angeles:20260423T160000
DTEND;TZID=America/Los_Angeles:20260423T170000
DTSTAMP:20260424T050814
CREATED:20250924T192847Z
LAST-MODIFIED:20250924T192920Z
UID:10000392-1776960000-1776963600@uuspokane.org
SUMMARY:Endowment Team Meeting
DESCRIPTION:Zoom
URL:https://uuspokane.org/event/endowment-team-meeting/2026-04-23/
LOCATION:ZOOM
CATEGORIES:Meeting
END:VEVENT
BEGIN:VEVENT
DTSTART;TZID=America/Los_Angeles:20260424T160000
DTEND;TZID=America/Los_Angeles:20260424T173000
DTSTAMP:20260424T050814
CREATED:20260414T155358Z
LAST-MODIFIED:20260414T155358Z
UID:10000535-1777046400-1777051800@uuspokane.org
SUMMARY:LGBTQ+ Senior Group
DESCRIPTION:ZOOM
URL:https://uuspokane.org/event/lgbtq-senior-group-2-2/2026-04-24/
LOCATION:ZOOM
CATEGORIES:Meeting
ORGANIZER;CN="Nancy Avery":MAILTO:NancyTavery@comcast.net
END:VEVENT
BEGIN:VEVENT
DTSTART;TZID=America/Los_Angeles:20260425T090000
DTEND;TZID=America/Los_Angeles:20260425T220000
DTSTAMP:20260424T050814
CREATED:20250929T211413Z
LAST-MODIFIED:20250929T211413Z
UID:10003436-1777107600-1777154400@uuspokane.org
SUMMARY:Spokane Camera Club Annual Banquet
DESCRIPTION:
URL:https://uuspokane.org/event/spokane-camera-club-annual-banquet/
LOCATION:Bartok Room (Storage)
CATEGORIES:Private Event
END:VEVENT
BEGIN:VEVENT
DTSTART;TZID=America/Los_Angeles:20260426T091500
DTEND;TZID=America/Los_Angeles:20260426T101500
DTSTAMP:20260424T050814
CREATED:20250924T193716Z
LAST-MODIFIED:20250925T235209Z
UID:10000797-1777194900-1777198500@uuspokane.org
SUMMARY:Sunday Worship
DESCRIPTION:Live Stream Available
URL:https://uuspokane.org/event/sunday-worship/2026-04-26/
LOCATION:Sanctuary
CATEGORIES:Worship Service
END:VEVENT
BEGIN:VEVENT
DTSTART;TZID=America/Los_Angeles:20260426T110000
DTEND;TZID=America/Los_Angeles:20260426T120000
DTSTAMP:20260424T050814
CREATED:20250924T193853Z
LAST-MODIFIED:20250925T235352Z
UID:10001058-1777201200-1777204800@uuspokane.org
SUMMARY:Sunday Worship
DESCRIPTION:Live Stream Available
URL:https://uuspokane.org/event/sunday-worship-2/2026-04-26/
LOCATION:Sanctuary
CATEGORIES:Worship Service
END:VEVENT
BEGIN:VEVENT
DTSTART;TZID=America/Los_Angeles:20260427T183000
DTEND;TZID=America/Los_Angeles:20260427T200000
DTSTAMP:20260424T050814
CREATED:20250924T194849Z
LAST-MODIFIED:20250924T194849Z
UID:10001841-1777314600-1777320000@uuspokane.org
SUMMARY:Meditation Group
DESCRIPTION:Buddhist Meditation – Sravasti Abbey
URL:https://uuspokane.org/event/meditation-group/2026-04-27/
LOCATION:Private Zoom
CATEGORIES:Meditation
END:VEVENT
BEGIN:VEVENT
DTSTART;TZID=America/Los_Angeles:20260429T100000
DTEND;TZID=America/Los_Angeles:20260429T110000
DTSTAMP:20260424T050814
CREATED:20260414T174007Z
LAST-MODIFIED:20260421T024448Z
UID:10000010-1777456800-1777460400@uuspokane.org
SUMMARY:Buildings & Grounds Coffee & Work
DESCRIPTION:A half hour for coffee and fellowship followed by 1.5 hours for small repairs\, cleaning or other odd jobs around the church. Anyone who has a little time to spare is most welcome.
URL:https://uuspokane.org/event/buildings-grounds-coffee-work-5/
LOCATION:Church Grounds
CATEGORIES:Facility Repair or Maintenance
ORGANIZER;CN="Julie Jose":MAILTO:josejj205@yahoo.com
END:VEVENT
BEGIN:VEVENT
DTSTART;TZID=America/Los_Angeles:20260429T150000
DTEND;TZID=America/Los_Angeles:20260429T150000
DTSTAMP:20260424T050814
CREATED:20250924T191050Z
LAST-MODIFIED:20250924T191050Z
UID:10000094-1777474800-1777474800@uuspokane.org
SUMMARY:Weekly SUUN Submission Deadline
DESCRIPTION:
URL:https://uuspokane.org/event/weekly-suun-submission-deadline/2026-04-29/
CATEGORIES:Other
END:VEVENT
BEGIN:VEVENT
DTSTART;TZID=America/Los_Angeles:20260430T100000
DTEND;TZID=America/Los_Angeles:20260430T120000
DTSTAMP:20260424T050814
CREATED:20260217T190138Z
LAST-MODIFIED:20260217T190138Z
UID:10004007-1777543200-1777550400@uuspokane.org
SUMMARY:Election Coalition Team- Spokane Indivisible
DESCRIPTION:
URL:https://uuspokane.org/event/election-coalition-team-spokane-indivisible/2026-04-30/
LOCATION:Thoreau Room
CATEGORIES:Social Justice
END:VEVENT
BEGIN:VEVENT
DTSTART;TZID=America/Los_Angeles:20260430T143000
DTEND;TZID=America/Los_Angeles:20260430T160000
DTSTAMP:20260424T050814
CREATED:20260331T222821Z
LAST-MODIFIED:20260331T222821Z
UID:10004303-1777559400-1777564800@uuspokane.org
SUMMARY:Art/Aesthetics Team Meeting
DESCRIPTION:
URL:https://uuspokane.org/event/art-aesthetics-team-meeting/
LOCATION:RE Zoom Account
CATEGORIES:Art Team Activity
ORGANIZER;CN="Susan Tyler-Babkirk":MAILTO:dst-b@comcast.net
END:VEVENT
BEGIN:VEVENT
DTSTART;TZID=America/Los_Angeles:20260430T160000
DTEND;TZID=America/Los_Angeles:20260430T180000
DTSTAMP:20260424T050814
CREATED:20250924T193145Z
LAST-MODIFIED:20250924T193145Z
UID:10000452-1777564800-1777572000@uuspokane.org
SUMMARY:LGBTQ+ Seniors Steering Committee Meeting
DESCRIPTION:ZOOM
URL:https://uuspokane.org/event/lgbtq-seniors-steering-committee-meeting/2026-04-30/
LOCATION:RE Zoom Account
CATEGORIES:Meeting
END:VEVENT
BEGIN:VEVENT
DTSTART;TZID=America/Los_Angeles:20260501T160000
DTEND;TZID=America/Los_Angeles:20260501T173000
DTSTAMP:20260424T050814
CREATED:20260414T155358Z
LAST-MODIFIED:20260414T155358Z
UID:10000536-1777651200-1777656600@uuspokane.org
SUMMARY:LGBTQ+ Senior Group
DESCRIPTION:ZOOM
URL:https://uuspokane.org/event/lgbtq-senior-group-2-2/2026-05-01/
LOCATION:ZOOM
CATEGORIES:Meeting
ORGANIZER;CN="Nancy Avery":MAILTO:NancyTavery@comcast.net
END:VEVENT
BEGIN:VEVENT
DTSTART;TZID=America/Los_Angeles:20260502T080000
DTEND;TZID=America/Los_Angeles:20260502T123000
DTSTAMP:20260424T050814
CREATED:20250929T211922Z
LAST-MODIFIED:20250929T211922Z
UID:10003437-1777708800-1777725000@uuspokane.org
SUMMARY:Stephanie Dance Recital
DESCRIPTION:
URL:https://uuspokane.org/event/stephanie-dance-recital/
LOCATION:Friendship Hall
CATEGORIES:Private Event
ORGANIZER;CN="Stephanie Gronholz":MAILTO:re@uuspokane.org
END:VEVENT
BEGIN:VEVENT
DTSTART;TZID=America/Los_Angeles:20260502T100000
DTEND;TZID=America/Los_Angeles:20260502T120000
DTSTAMP:20260424T050814
CREATED:20260126T194651Z
LAST-MODIFIED:20260126T194651Z
UID:10003982-1777716000-1777723200@uuspokane.org
SUMMARY:Spokane Indivisible Meeting
DESCRIPTION:
URL:https://uuspokane.org/event/spokane-indivisible-meeting/2026-05-02/
LOCATION:Potter Room
CATEGORIES:Social Justice
END:VEVENT
BEGIN:VEVENT
DTSTART;TZID=America/Los_Angeles:20260502T160000
DTEND;TZID=America/Los_Angeles:20260502T213000
DTSTAMP:20260424T050814
CREATED:20250925T165921Z
LAST-MODIFIED:20250925T165921Z
UID:10002325-1777737600-1777757400@uuspokane.org
SUMMARY:INWBMA Meeting
DESCRIPTION:
URL:https://uuspokane.org/event/inwbma-meeting/2026-05-02/
LOCATION:Sanctuary
CATEGORIES:Meeting
END:VEVENT
BEGIN:VEVENT
DTSTART;VALUE=DATE:20260503
DTEND;VALUE=DATE:20260504
DTSTAMP:20260424T050814
CREATED:20260423T172947Z
LAST-MODIFIED:20260423T173054Z
UID:10000798-1777766400-1777852799@uuspokane.org
SUMMARY:No Services - Happy Bloomsday!
DESCRIPTION:
URL:https://uuspokane.org/event/sunday-worship-3/
LOCATION:Sanctuary
END:VEVENT
BEGIN:VEVENT
DTSTART;TZID=America/Los_Angeles:20260504T183000
DTEND;TZID=America/Los_Angeles:20260504T200000
DTSTAMP:20260424T050814
CREATED:20250924T194849Z
LAST-MODIFIED:20250924T194849Z
UID:10001842-1777919400-1777924800@uuspokane.org
SUMMARY:Meditation Group
DESCRIPTION:Buddhist Meditation – Sravasti Abbey
URL:https://uuspokane.org/event/meditation-group/2026-05-04/
LOCATION:Private Zoom
CATEGORIES:Meditation
END:VEVENT
BEGIN:VEVENT
DTSTART;TZID=America/Los_Angeles:20260505T180000
DTEND;TZID=America/Los_Angeles:20260505T193000
DTSTAMP:20260424T050814
CREATED:20260107T233950Z
LAST-MODIFIED:20260107T234217Z
UID:10003870-1778004000-1778009400@uuspokane.org
SUMMARY:Choir Rehearsal
DESCRIPTION:
URL:https://uuspokane.org/event/choir-rehearsal-5/2026-05-05/
LOCATION:Sanctuary
CATEGORIES:Choir Rehearsal
END:VEVENT
BEGIN:VEVENT
DTSTART;TZID=America/Los_Angeles:20260506T100000
DTEND;TZID=America/Los_Angeles:20260506T110000
DTSTAMP:20260424T050814
CREATED:20251203T172547Z
LAST-MODIFIED:20251203T172547Z
UID:10003668-1778061600-1778065200@uuspokane.org
SUMMARY:Staff Meeting
DESCRIPTION:
URL:https://uuspokane.org/event/staff-meeting/2026-05-06/
LOCATION:UUCS Office
CATEGORIES:Meeting
END:VEVENT
END:VCALENDAR