BEGIN:VCALENDAR
VERSION:2.0
PRODID:-//Unitarian Universalist Church of Spokane - ECPv6.15.20//NONSGML v1.0//EN
CALSCALE:GREGORIAN
METHOD:PUBLISH
X-ORIGINAL-URL:https://uuspokane.org
X-WR-CALDESC:Events for Unitarian Universalist Church of Spokane
REFRESH-INTERVAL;VALUE=DURATION:PT1H
X-Robots-Tag:noindex
X-PUBLISHED-TTL:PT1H
BEGIN:VTIMEZONE
TZID:America/Los_Angeles
BEGIN:DAYLIGHT
TZOFFSETFROM:-0800
TZOFFSETTO:-0700
TZNAME:PDT
DTSTART:20260308T100000
END:DAYLIGHT
BEGIN:STANDARD
TZOFFSETFROM:-0700
TZOFFSETTO:-0800
TZNAME:PST
DTSTART:20261101T090000
END:STANDARD
BEGIN:DAYLIGHT
TZOFFSETFROM:-0800
TZOFFSETTO:-0700
TZNAME:PDT
DTSTART:20270314T100000
END:DAYLIGHT
BEGIN:STANDARD
TZOFFSETFROM:-0700
TZOFFSETTO:-0800
TZNAME:PST
DTSTART:20271107T090000
END:STANDARD
BEGIN:DAYLIGHT
TZOFFSETFROM:-0800
TZOFFSETTO:-0700
TZNAME:PDT
DTSTART:20280312T100000
END:DAYLIGHT
BEGIN:STANDARD
TZOFFSETFROM:-0700
TZOFFSETTO:-0800
TZNAME:PST
DTSTART:20281105T090000
END:STANDARD
END:VTIMEZONE
BEGIN:VEVENT
DTSTART;TZID=America/Los_Angeles:20270620T123000
DTEND;TZID=America/Los_Angeles:20270620T140000
DTSTAMP:20260425T041353
CREATED:20260204T193727Z
LAST-MODIFIED:20260204T193727Z
UID:10003139-1813494600-1813500000@uuspokane.org
SUMMARY:Church Potluck
DESCRIPTION:
URL:https://uuspokane.org/event/church-potluck-5/2027-06-20/
LOCATION:Friendship Hall
CATEGORIES:Fellowship
END:VEVENT
BEGIN:VEVENT
DTSTART;TZID=America/Los_Angeles:20270621T183000
DTEND;TZID=America/Los_Angeles:20270621T200000
DTSTAMP:20260425T041353
CREATED:20250924T194849Z
LAST-MODIFIED:20250924T194849Z
UID:10001901-1813602600-1813608000@uuspokane.org
SUMMARY:Meditation Group
DESCRIPTION:Buddhist Meditation – Sravasti Abbey
URL:https://uuspokane.org/event/meditation-group/2027-06-21/
LOCATION:Private Zoom
CATEGORIES:Meditation
END:VEVENT
BEGIN:VEVENT
DTSTART;TZID=America/Los_Angeles:20270621T183000
DTEND;TZID=America/Los_Angeles:20270621T200000
DTSTAMP:20260425T041353
CREATED:20250925T180231Z
LAST-MODIFIED:20250925T231548Z
UID:10003200-1813602600-1813608000@uuspokane.org
SUMMARY:Social Justice Coordinating Council
DESCRIPTION:
URL:https://uuspokane.org/event/social-justice-coordinating-council/2027-06-21/
LOCATION:RE Zoom Account
CATEGORIES:Meeting
END:VEVENT
BEGIN:VEVENT
DTSTART;TZID=America/Los_Angeles:20270623T150000
DTEND;TZID=America/Los_Angeles:20270623T150000
DTSTAMP:20260425T041353
CREATED:20250924T191050Z
LAST-MODIFIED:20250924T191050Z
UID:10000154-1813762800-1813762800@uuspokane.org
SUMMARY:Weekly SUUN Submission Deadline
DESCRIPTION:
URL:https://uuspokane.org/event/weekly-suun-submission-deadline/2027-06-23/
CATEGORIES:Other
END:VEVENT
BEGIN:VEVENT
DTSTART;TZID=America/Los_Angeles:20270623T160000
DTEND;TZID=America/Los_Angeles:20270623T173000
DTSTAMP:20260425T041353
CREATED:20251204T221746Z
LAST-MODIFIED:20251204T221844Z
UID:10003803-1813766400-1813771800@uuspokane.org
SUMMARY:Board of Trustees Meeting
DESCRIPTION:
URL:https://uuspokane.org/event/board-of-trustees-meeting-2/2027-06-23/
LOCATION:RE Zoom Account
CATEGORIES:Meeting
END:VEVENT
BEGIN:VEVENT
DTSTART;TZID=America/Los_Angeles:20270624T160000
DTEND;TZID=America/Los_Angeles:20270624T170000
DTSTAMP:20260425T041353
CREATED:20250924T192847Z
LAST-MODIFIED:20250924T192920Z
UID:10000406-1813852800-1813856400@uuspokane.org
SUMMARY:Endowment Team Meeting
DESCRIPTION:Zoom
URL:https://uuspokane.org/event/endowment-team-meeting/2027-06-24/
LOCATION:ZOOM
CATEGORIES:Meeting
END:VEVENT
BEGIN:VEVENT
DTSTART;TZID=America/Los_Angeles:20270624T160000
DTEND;TZID=America/Los_Angeles:20270624T180000
DTSTAMP:20260425T041353
CREATED:20250924T193145Z
LAST-MODIFIED:20250924T193145Z
UID:10000466-1813852800-1813860000@uuspokane.org
SUMMARY:LGBTQ+ Seniors Steering Committee Meeting
DESCRIPTION:ZOOM
URL:https://uuspokane.org/event/lgbtq-seniors-steering-committee-meeting/2027-06-24/
LOCATION:RE Zoom Account
CATEGORIES:Meeting
END:VEVENT
BEGIN:VEVENT
DTSTART;TZID=America/Los_Angeles:20270625T160000
DTEND;TZID=America/Los_Angeles:20270625T173000
DTSTAMP:20260425T041353
CREATED:20260414T155358Z
LAST-MODIFIED:20260414T155358Z
UID:10000596-1813939200-1813944600@uuspokane.org
SUMMARY:LGBTQ+ Senior Group
DESCRIPTION:ZOOM
URL:https://uuspokane.org/event/lgbtq-senior-group-2-2/2027-06-25/
LOCATION:ZOOM
CATEGORIES:Meeting
ORGANIZER;CN="Nancy Avery":MAILTO:NancyTavery@comcast.net
END:VEVENT
BEGIN:VEVENT
DTSTART;TZID=America/Los_Angeles:20270627T091500
DTEND;TZID=America/Los_Angeles:20270627T101500
DTSTAMP:20260425T041353
CREATED:20250924T193716Z
LAST-MODIFIED:20250925T235209Z
UID:10000858-1814087700-1814091300@uuspokane.org
SUMMARY:Sunday Worship
DESCRIPTION:Live Stream Available
URL:https://uuspokane.org/event/sunday-worship/2027-06-27/
LOCATION:Sanctuary
CATEGORIES:Worship Service
END:VEVENT
BEGIN:VEVENT
DTSTART;TZID=America/Los_Angeles:20270627T110000
DTEND;TZID=America/Los_Angeles:20270627T120000
DTSTAMP:20260425T041353
CREATED:20250924T193853Z
LAST-MODIFIED:20250925T235352Z
UID:10001119-1814094000-1814097600@uuspokane.org
SUMMARY:Sunday Worship
DESCRIPTION:Live Stream Available
URL:https://uuspokane.org/event/sunday-worship-2/2027-06-27/
LOCATION:Sanctuary
CATEGORIES:Worship Service
END:VEVENT
BEGIN:VEVENT
DTSTART;TZID=America/Los_Angeles:20270627T110000
DTEND;TZID=America/Los_Angeles:20270627T121500
DTSTAMP:20260425T041353
CREATED:20250924T194449Z
LAST-MODIFIED:20250925T235502Z
UID:10001380-1814094000-1814098500@uuspokane.org
SUMMARY:Childcare for Sunday Services
DESCRIPTION:
URL:https://uuspokane.org/event/childcare-for-sunday-services/2027-06-27/
LOCATION:Channing Room (Nursery)
CATEGORIES:Childcare
END:VEVENT
BEGIN:VEVENT
DTSTART;TZID=America/Los_Angeles:20270628T183000
DTEND;TZID=America/Los_Angeles:20270628T200000
DTSTAMP:20260425T041353
CREATED:20250924T194849Z
LAST-MODIFIED:20250924T194849Z
UID:10001902-1814207400-1814212800@uuspokane.org
SUMMARY:Meditation Group
DESCRIPTION:Buddhist Meditation – Sravasti Abbey
URL:https://uuspokane.org/event/meditation-group/2027-06-28/
LOCATION:Private Zoom
CATEGORIES:Meditation
END:VEVENT
BEGIN:VEVENT
DTSTART;TZID=America/Los_Angeles:20270630T100000
DTEND;TZID=America/Los_Angeles:20270630T120000
DTSTAMP:20260425T041353
CREATED:20260421T024544Z
LAST-MODIFIED:20260421T024544Z
UID:10004348-1814349600-1814356800@uuspokane.org
SUMMARY:Buildings & Grounds Coffee & Work
DESCRIPTION:A half hour for coffee and fellowship followed by 1.5 hours for small repairs\, cleaning or other odd jobs around the church. Anyone who has a little time to spare is most welcome. \n 
URL:https://uuspokane.org/event/buildings-grounds-coffee-work-4-2/2027-06-30/
LOCATION:Church Grounds
CATEGORIES:Facility Repair or Maintenance
ORGANIZER;CN="Julie Jose":MAILTO:josejj205@yahoo.com
END:VEVENT
BEGIN:VEVENT
DTSTART;TZID=America/Los_Angeles:20270630T150000
DTEND;TZID=America/Los_Angeles:20270630T150000
DTSTAMP:20260425T041353
CREATED:20250924T191050Z
LAST-MODIFIED:20250924T191050Z
UID:10000155-1814367600-1814367600@uuspokane.org
SUMMARY:Weekly SUUN Submission Deadline
DESCRIPTION:
URL:https://uuspokane.org/event/weekly-suun-submission-deadline/2027-06-30/
CATEGORIES:Other
END:VEVENT
BEGIN:VEVENT
DTSTART;TZID=America/Los_Angeles:20270701T140000
DTEND;TZID=America/Los_Angeles:20270701T160000
DTSTAMP:20260425T041353
CREATED:20260122T180054Z
LAST-MODIFIED:20260122T180054Z
UID:10003922-1814450400-1814457600@uuspokane.org
SUMMARY:Retirement Group (closed meeting)
DESCRIPTION:
URL:https://uuspokane.org/event/retirement-group-closed-meeting-2/2027-07-01/
LOCATION:ZOOM
CATEGORIES:Meeting
END:VEVENT
BEGIN:VEVENT
DTSTART;TZID=America/Los_Angeles:20270702T160000
DTEND;TZID=America/Los_Angeles:20270702T173000
DTSTAMP:20260425T041353
CREATED:20260414T155358Z
LAST-MODIFIED:20260414T155358Z
UID:10000597-1814544000-1814549400@uuspokane.org
SUMMARY:LGBTQ+ Senior Group
DESCRIPTION:ZOOM
URL:https://uuspokane.org/event/lgbtq-senior-group-2-2/2027-07-02/
LOCATION:ZOOM
CATEGORIES:Meeting
ORGANIZER;CN="Nancy Avery":MAILTO:NancyTavery@comcast.net
END:VEVENT
BEGIN:VEVENT
DTSTART;TZID=America/Los_Angeles:20270704T091500
DTEND;TZID=America/Los_Angeles:20270704T101500
DTSTAMP:20260425T041353
CREATED:20250924T193716Z
LAST-MODIFIED:20250925T235209Z
UID:10000859-1814692500-1814696100@uuspokane.org
SUMMARY:Sunday Worship
DESCRIPTION:Live Stream Available
URL:https://uuspokane.org/event/sunday-worship/2027-07-04/
LOCATION:Sanctuary
CATEGORIES:Worship Service
END:VEVENT
BEGIN:VEVENT
DTSTART;TZID=America/Los_Angeles:20270704T110000
DTEND;TZID=America/Los_Angeles:20270704T120000
DTSTAMP:20260425T041353
CREATED:20250924T193853Z
LAST-MODIFIED:20250925T235352Z
UID:10001120-1814698800-1814702400@uuspokane.org
SUMMARY:Sunday Worship
DESCRIPTION:Live Stream Available
URL:https://uuspokane.org/event/sunday-worship-2/2027-07-04/
LOCATION:Sanctuary
CATEGORIES:Worship Service
END:VEVENT
BEGIN:VEVENT
DTSTART;TZID=America/Los_Angeles:20270704T110000
DTEND;TZID=America/Los_Angeles:20270704T121500
DTSTAMP:20260425T041353
CREATED:20250924T194449Z
LAST-MODIFIED:20250925T235502Z
UID:10001381-1814698800-1814703300@uuspokane.org
SUMMARY:Childcare for Sunday Services
DESCRIPTION:
URL:https://uuspokane.org/event/childcare-for-sunday-services/2027-07-04/
LOCATION:Channing Room (Nursery)
CATEGORIES:Childcare
END:VEVENT
BEGIN:VEVENT
DTSTART;TZID=America/Los_Angeles:20270705T183000
DTEND;TZID=America/Los_Angeles:20270705T200000
DTSTAMP:20260425T041353
CREATED:20250924T194849Z
LAST-MODIFIED:20250924T194849Z
UID:10001903-1814812200-1814817600@uuspokane.org
SUMMARY:Meditation Group
DESCRIPTION:Buddhist Meditation – Sravasti Abbey
URL:https://uuspokane.org/event/meditation-group/2027-07-05/
LOCATION:Private Zoom
CATEGORIES:Meditation
END:VEVENT
BEGIN:VEVENT
DTSTART;TZID=America/Los_Angeles:20270707T100000
DTEND;TZID=America/Los_Angeles:20270707T110000
DTSTAMP:20260425T041353
CREATED:20251203T172547Z
LAST-MODIFIED:20251203T172547Z
UID:10003682-1814954400-1814958000@uuspokane.org
SUMMARY:Staff Meeting
DESCRIPTION:
URL:https://uuspokane.org/event/staff-meeting/2027-07-07/
LOCATION:UUCS Office
CATEGORIES:Meeting
END:VEVENT
BEGIN:VEVENT
DTSTART;TZID=America/Los_Angeles:20270707T140000
DTEND;TZID=America/Los_Angeles:20270707T160000
DTSTAMP:20260425T041353
CREATED:20250925T232509Z
LAST-MODIFIED:20250925T232509Z
UID:10003323-1814968800-1814976000@uuspokane.org
SUMMARY:Pastoral Care Team Planning Meeting
DESCRIPTION:
URL:https://uuspokane.org/event/pastoral-care-team-planning-meeting/2027-07-07/
LOCATION:ZOOM
CATEGORIES:Meeting
END:VEVENT
BEGIN:VEVENT
DTSTART;TZID=America/Los_Angeles:20270707T150000
DTEND;TZID=America/Los_Angeles:20270707T150000
DTSTAMP:20260425T041353
CREATED:20250924T191050Z
LAST-MODIFIED:20250924T191050Z
UID:10000156-1814972400-1814972400@uuspokane.org
SUMMARY:Weekly SUUN Submission Deadline
DESCRIPTION:
URL:https://uuspokane.org/event/weekly-suun-submission-deadline/2027-07-07/
CATEGORIES:Other
END:VEVENT
BEGIN:VEVENT
DTSTART;TZID=America/Los_Angeles:20270709T160000
DTEND;TZID=America/Los_Angeles:20270709T173000
DTSTAMP:20260425T041353
CREATED:20260414T155358Z
LAST-MODIFIED:20260414T155358Z
UID:10000598-1815148800-1815154200@uuspokane.org
SUMMARY:LGBTQ+ Senior Group
DESCRIPTION:ZOOM
URL:https://uuspokane.org/event/lgbtq-senior-group-2-2/2027-07-09/
LOCATION:ZOOM
CATEGORIES:Meeting
ORGANIZER;CN="Nancy Avery":MAILTO:NancyTavery@comcast.net
END:VEVENT
BEGIN:VEVENT
DTSTART;TZID=America/Los_Angeles:20270709T170000
DTEND;TZID=America/Los_Angeles:20270709T183000
DTSTAMP:20260425T041353
CREATED:20260305T213814Z
LAST-MODIFIED:20260305T213814Z
UID:10004185-1815152400-1815157800@uuspokane.org
SUMMARY:Meaningful Movies - Set Up
DESCRIPTION:
URL:https://uuspokane.org/event/meaningful-movies-set-up-2/2027-07-09/
LOCATION:Friendship Hall
CATEGORIES:Event Set Up,Social Justice
ORGANIZER;CN="Barb Stuebing":MAILTO:barbstuebing@gmail.com
END:VEVENT
BEGIN:VEVENT
DTSTART;TZID=America/Los_Angeles:20270709T180000
DTEND;TZID=America/Los_Angeles:20270709T210000
DTSTAMP:20260425T041353
CREATED:20251208T220636Z
LAST-MODIFIED:20260305T213645Z
UID:10004126-1815156000-1815166800@uuspokane.org
SUMMARY:Meaningful Movies
DESCRIPTION:
URL:https://uuspokane.org/event/meaningful-movies-4/2027-07-09/
LOCATION:Chapel
CATEGORIES:Social Justice
ORGANIZER;CN="Barb Stuebing":MAILTO:barbstuebing@gmail.com
END:VEVENT
BEGIN:VEVENT
DTSTART;TZID=America/Los_Angeles:20270709T210000
DTEND;TZID=America/Los_Angeles:20270709T220000
DTSTAMP:20260425T041353
CREATED:20260305T213857Z
LAST-MODIFIED:20260305T213857Z
UID:10004244-1815166800-1815170400@uuspokane.org
SUMMARY:Meaningful Movies - Cleanup
DESCRIPTION:
URL:https://uuspokane.org/event/meaningful-movies-cleanup-2/2027-07-09/
LOCATION:Chapel
CATEGORIES:Event Tear Down and Clean Up,Social Justice
ORGANIZER;CN="Barb Stuebing":MAILTO:barbstuebing@gmail.com
END:VEVENT
BEGIN:VEVENT
DTSTART;TZID=America/Los_Angeles:20270710T083000
DTEND;TZID=America/Los_Angeles:20270710T103000
DTSTAMP:20260425T041353
CREATED:20250925T172416Z
LAST-MODIFIED:20251001T030203Z
UID:10002468-1815208200-1815215400@uuspokane.org
SUMMARY:UU Men's Group at Rockwood Retirement
DESCRIPTION:Please join us for breakfast and conversation in the Livingston Dining Area of the Summit building at the Rockwood South Hill Retirement Community \n\nQuestions? Contact Tom Mosher at 509-220-1879. \nTake me to a map of the location.
URL:https://uuspokane.org/event/uu-mens-group-at-rockwood-retirement/2027-07-10/
LOCATION:Offsite
CATEGORIES:Fellowship
END:VEVENT
BEGIN:VEVENT
DTSTART;TZID=America/Los_Angeles:20270710T113000
DTEND;TZID=America/Los_Angeles:20270710T140000
DTSTAMP:20260425T041353
CREATED:20260204T203641Z
LAST-MODIFIED:20260204T203641Z
UID:10002528-1815219000-1815228000@uuspokane.org
SUMMARY:LGBTQ+ Seniors of the Inland Northwest Potluck
DESCRIPTION:Join us for food\, fellowship and conversation.
URL:https://uuspokane.org/event/lgbtq-seniors-of-the-inland-northwest-potluck-2/2027-07-10/
LOCATION:Friendship Hall
CATEGORIES:Other
ORGANIZER;CN="Nancy Avery":MAILTO:NancyTavery@comcast.net
END:VEVENT
BEGIN:VEVENT
DTSTART;TZID=America/Los_Angeles:20270711T091500
DTEND;TZID=America/Los_Angeles:20270711T101500
DTSTAMP:20260425T041353
CREATED:20250924T193716Z
LAST-MODIFIED:20250925T235209Z
UID:10000860-1815297300-1815300900@uuspokane.org
SUMMARY:Sunday Worship
DESCRIPTION:Live Stream Available
URL:https://uuspokane.org/event/sunday-worship/2027-07-11/
LOCATION:Sanctuary
CATEGORIES:Worship Service
END:VEVENT
END:VCALENDAR