BEGIN:VCALENDAR
VERSION:2.0
PRODID:-//Unitarian Universalist Church of Spokane - ECPv6.15.20//NONSGML v1.0//EN
CALSCALE:GREGORIAN
METHOD:PUBLISH
X-ORIGINAL-URL:https://uuspokane.org
X-WR-CALDESC:Events for Unitarian Universalist Church of Spokane
REFRESH-INTERVAL;VALUE=DURATION:PT1H
X-Robots-Tag:noindex
X-PUBLISHED-TTL:PT1H
BEGIN:VTIMEZONE
TZID:America/Los_Angeles
BEGIN:DAYLIGHT
TZOFFSETFROM:-0800
TZOFFSETTO:-0700
TZNAME:PDT
DTSTART:20250309T100000
END:DAYLIGHT
BEGIN:STANDARD
TZOFFSETFROM:-0700
TZOFFSETTO:-0800
TZNAME:PST
DTSTART:20251102T090000
END:STANDARD
BEGIN:DAYLIGHT
TZOFFSETFROM:-0800
TZOFFSETTO:-0700
TZNAME:PDT
DTSTART:20260308T100000
END:DAYLIGHT
BEGIN:STANDARD
TZOFFSETFROM:-0700
TZOFFSETTO:-0800
TZNAME:PST
DTSTART:20261101T090000
END:STANDARD
BEGIN:DAYLIGHT
TZOFFSETFROM:-0800
TZOFFSETTO:-0700
TZNAME:PDT
DTSTART:20270314T100000
END:DAYLIGHT
BEGIN:STANDARD
TZOFFSETFROM:-0700
TZOFFSETTO:-0800
TZNAME:PST
DTSTART:20271107T090000
END:STANDARD
END:VTIMEZONE
BEGIN:VEVENT
DTSTART;TZID=America/Los_Angeles:20260205T140000
DTEND;TZID=America/Los_Angeles:20260205T160000
DTSTAMP:20260423T143358
CREATED:20260122T180054Z
LAST-MODIFIED:20260122T180054Z
UID:10002202-1770300000-1770307200@uuspokane.org
SUMMARY:Retirement Group (closed meeting)
DESCRIPTION:
URL:https://uuspokane.org/event/retirement-group-closed-meeting-2/2026-02-05/
LOCATION:ZOOM
CATEGORIES:Meeting
END:VEVENT
BEGIN:VEVENT
DTSTART;TZID=America/Los_Angeles:20260206T160000
DTEND;TZID=America/Los_Angeles:20260206T173000
DTSTAMP:20260423T143358
CREATED:20250924T193300Z
LAST-MODIFIED:20250924T193300Z
UID:10000524-1770393600-1770399000@uuspokane.org
SUMMARY:LGBTQ+ Senior Group
DESCRIPTION:ZOOM
URL:https://uuspokane.org/event/lgbtq-senior-group/2026-02-06/
LOCATION:RE Zoom Account
CATEGORIES:Meeting
END:VEVENT
BEGIN:VEVENT
DTSTART;TZID=America/Los_Angeles:20260207T100000
DTEND;TZID=America/Los_Angeles:20260207T120000
DTSTAMP:20260423T143358
CREATED:20260126T194651Z
LAST-MODIFIED:20260126T194651Z
UID:10003979-1770458400-1770465600@uuspokane.org
SUMMARY:Spokane Indivisible Meeting
DESCRIPTION:
URL:https://uuspokane.org/event/spokane-indivisible-meeting/2026-02-07/
LOCATION:Potter Room
CATEGORIES:Social Justice
END:VEVENT
BEGIN:VEVENT
DTSTART;TZID=America/Los_Angeles:20260207T160000
DTEND;TZID=America/Los_Angeles:20260207T213000
DTSTAMP:20260423T143358
CREATED:20250925T165921Z
LAST-MODIFIED:20250925T165921Z
UID:10002322-1770480000-1770499800@uuspokane.org
SUMMARY:INWBMA Meeting
DESCRIPTION:
URL:https://uuspokane.org/event/inwbma-meeting/2026-02-07/
LOCATION:Sanctuary
CATEGORIES:Meeting
END:VEVENT
BEGIN:VEVENT
DTSTART;TZID=America/Los_Angeles:20260208T091500
DTEND;TZID=America/Los_Angeles:20260208T101500
DTSTAMP:20260423T143358
CREATED:20250924T193716Z
LAST-MODIFIED:20250925T235209Z
UID:10000786-1770542100-1770545700@uuspokane.org
SUMMARY:Sunday Worship
DESCRIPTION:Live Stream Available
URL:https://uuspokane.org/event/sunday-worship/2026-02-08/
LOCATION:Sanctuary
CATEGORIES:Worship Service
END:VEVENT
BEGIN:VEVENT
DTSTART;TZID=America/Los_Angeles:20260208T110000
DTEND;TZID=America/Los_Angeles:20260208T120000
DTSTAMP:20260423T143358
CREATED:20250924T193853Z
LAST-MODIFIED:20250925T235352Z
UID:10001047-1770548400-1770552000@uuspokane.org
SUMMARY:Sunday Worship
DESCRIPTION:Live Stream Available
URL:https://uuspokane.org/event/sunday-worship-2/2026-02-08/
LOCATION:Sanctuary
CATEGORIES:Worship Service
END:VEVENT
BEGIN:VEVENT
DTSTART;TZID=America/Los_Angeles:20260208T110000
DTEND;TZID=America/Los_Angeles:20260208T121500
DTSTAMP:20260423T143358
CREATED:20250924T194449Z
LAST-MODIFIED:20250925T235502Z
UID:10001308-1770548400-1770552900@uuspokane.org
SUMMARY:Childcare for Sunday Services
DESCRIPTION:
URL:https://uuspokane.org/event/childcare-for-sunday-services/2026-02-08/
LOCATION:Channing Room (Nursery)
CATEGORIES:Childcare
END:VEVENT
BEGIN:VEVENT
DTSTART;TZID=America/Los_Angeles:20260208T123000
DTEND;TZID=America/Los_Angeles:20260208T133000
DTSTAMP:20260423T143358
CREATED:20251120T162222Z
LAST-MODIFIED:20251120T162222Z
UID:10002752-1770553800-1770557400@uuspokane.org
SUMMARY:Poetry Sharing Circle
DESCRIPTION:Have you ever stumbled upon a poem — whether found in a book\, heard in passing\, or written yourself — that felt too meaningful to keep to yourself? Our Poetry Sharing Circle is a gentle\, welcoming hour created just for that. \nThis is not a workshop\, class\, or writers’ critique group. Instead\, it’s a simple in-person gathering where we come together to share poems that move us\, comfort us\, surprise us\, or make us think. Bring a poem you love and a few words about why it speaks to you — or simply come to listen and enjoy the company of others who appreciate the magic of poetry. \nNo pressure … no preparation … no expectations. \nJust people\, poems\, and a peaceful moment in community.
URL:https://uuspokane.org/event/poetry-sharing-circle-2/2026-02-08/
LOCATION:Chapel
CATEGORIES:Adult Enrichment
ORGANIZER;CN="Lynn Jinishian":MAILTO:jinishian@comcast.net
END:VEVENT
BEGIN:VEVENT
DTSTART;TZID=America/Los_Angeles:20260208T130000
DTEND;TZID=America/Los_Angeles:20260208T160000
DTSTAMP:20260423T143358
CREATED:20250925T174023Z
LAST-MODIFIED:20250925T174023Z
UID:10002812-1770555600-1770566400@uuspokane.org
SUMMARY:Spokane Handweaver's Guild
DESCRIPTION:
URL:https://uuspokane.org/event/spokane-handweavers-guild/2026-02-08/
LOCATION:Thoreau Room
CATEGORIES:Private Event
END:VEVENT
BEGIN:VEVENT
DTSTART;TZID=America/Los_Angeles:20260209T183000
DTEND;TZID=America/Los_Angeles:20260209T200000
DTSTAMP:20260423T143358
CREATED:20250924T194849Z
LAST-MODIFIED:20250924T194849Z
UID:10001830-1770661800-1770667200@uuspokane.org
SUMMARY:Meditation Group
DESCRIPTION:Buddhist Meditation – Sravasti Abbey
URL:https://uuspokane.org/event/meditation-group/2026-02-09/
LOCATION:Private Zoom
CATEGORIES:Meditation
END:VEVENT
BEGIN:VEVENT
DTSTART;TZID=America/Los_Angeles:20260210T110000
DTEND;TZID=America/Los_Angeles:20260210T130000
DTSTAMP:20260423T143358
CREATED:20250925T173256Z
LAST-MODIFIED:20250925T173256Z
UID:10002572-1770721200-1770728400@uuspokane.org
SUMMARY:Ops Team Meeting
DESCRIPTION:
URL:https://uuspokane.org/event/ops-team-meeting/2026-02-10/
LOCATION:RE Zoom Account
CATEGORIES:Meeting
END:VEVENT
BEGIN:VEVENT
DTSTART;TZID=America/Los_Angeles:20260211T113000
DTEND;TZID=America/Los_Angeles:20260211T123000
DTSTAMP:20260423T143358
CREATED:20260204T055317Z
LAST-MODIFIED:20260204T190701Z
UID:10002390-1770809400-1770813000@uuspokane.org
SUMMARY:UU Women 2nd Wednesday Lunch - Zullee Mediterranean Grill
DESCRIPTION:Plenty of parking! RSVP to Jan Wingenroth at Jan_dennis@msn.com so we have a big enough table. \n  \nTake me to the menu. \nTake me to a map of the location.
URL:https://uuspokane.org/event/uu-women-2nd-wednesday-lunch-5/
LOCATION:Offsite
CATEGORIES:Fellowship
END:VEVENT
BEGIN:VEVENT
DTSTART;TZID=America/Los_Angeles:20260211T150000
DTEND;TZID=America/Los_Angeles:20260211T150000
DTSTAMP:20260423T143358
CREATED:20250924T191050Z
LAST-MODIFIED:20250924T191050Z
UID:10000083-1770822000-1770822000@uuspokane.org
SUMMARY:Weekly SUUN Submission Deadline
DESCRIPTION:
URL:https://uuspokane.org/event/weekly-suun-submission-deadline/2026-02-11/
CATEGORIES:Other
END:VEVENT
BEGIN:VEVENT
DTSTART;TZID=America/Los_Angeles:20260211T183000
DTEND;TZID=America/Los_Angeles:20260211T200000
DTSTAMP:20260423T143358
CREATED:20260112T190936Z
LAST-MODIFIED:20260112T190936Z
UID:10003893-1770834600-1770840000@uuspokane.org
SUMMARY:Spokane Camera Club Seminar
DESCRIPTION:
URL:https://uuspokane.org/event/spokane-camera-club-seminar/
LOCATION:Friendship Hall
CATEGORIES:Private Event
END:VEVENT
BEGIN:VEVENT
DTSTART;TZID=America/Los_Angeles:20260212T180000
DTEND;TZID=America/Los_Angeles:20260212T190000
DTSTAMP:20260423T143358
CREATED:20260129T181522Z
LAST-MODIFIED:20260129T181522Z
UID:10003984-1770919200-1770922800@uuspokane.org
SUMMARY:Salish School Spokane Storytelling - Set up
DESCRIPTION:Building Use 6 – 10 p.m.
URL:https://uuspokane.org/event/salish-school-spokane-storytelling-set-up/
LOCATION:Friendship Hall
CATEGORIES:Event Set Up
ORGANIZER;CN="Joy Peltier":MAILTO:joy@salishschoolofspokane.org
END:VEVENT
BEGIN:VEVENT
DTSTART;TZID=America/Los_Angeles:20260212T190000
DTEND;TZID=America/Los_Angeles:20260212T210000
DTSTAMP:20260423T143358
CREATED:20260121T225947Z
LAST-MODIFIED:20260203T223503Z
UID:10003897-1770922800-1770930000@uuspokane.org
SUMMARY:Let's Tell Stories (kʷu ksčaptíkʷlaʔx) - Salish School Spokane
DESCRIPTION:Čaptíkʷɬ are the literature\, law\, and scripture of Southern Interior Salish culture\, and winter is an important time to share čaptíkʷɬ. Traditionally\, in the wintertime\, people were gathered together in their permanent homes after a long season of managing and harvesting their root\, fish\, berry and game resources throughout their territory. The short days and long nights of winter provided opportunity for teaching and entertaining with čaptíkʷɬ\, our traditional stories. \nSalish School of Spokane presents an evening of Southern Interior Salish storytelling.  We will share our čaptíkʷɬ\, traditional creation and Coyote stories\, through both traditional and modern means. Stories will be shared in n̓səl̓xčin̓ (Colville Salish) with interpretation to English. All are welcome with complimentary ticketing. \n  \nSeating is limited. Please reserve a seat and free ticket here.
URL:https://uuspokane.org/event/private-event/
LOCATION:Friendship Hall
CATEGORIES:Private Event
ORGANIZER;CN="Joy Peltier":MAILTO:joy@salishschoolofspokane.org
END:VEVENT
BEGIN:VEVENT
DTSTART;TZID=America/Los_Angeles:20260212T210000
DTEND;TZID=America/Los_Angeles:20260212T220000
DTSTAMP:20260423T143358
CREATED:20260129T181655Z
LAST-MODIFIED:20260129T181655Z
UID:10003985-1770930000-1770933600@uuspokane.org
SUMMARY:Salish School Spokane Storytelling - Clean up
DESCRIPTION:
URL:https://uuspokane.org/event/salish-school-spokane-storytelling-clean-up/
LOCATION:Friendship Hall
CATEGORIES:Event Tear Down and Clean Up
ORGANIZER;CN="Joy Peltier":MAILTO:joy@salishschoolofspokane.org
END:VEVENT
BEGIN:VEVENT
DTSTART;TZID=America/Los_Angeles:20260213T160000
DTEND;TZID=America/Los_Angeles:20260213T173000
DTSTAMP:20260423T143358
CREATED:20250924T193300Z
LAST-MODIFIED:20250924T193300Z
UID:10000525-1770998400-1771003800@uuspokane.org
SUMMARY:LGBTQ+ Senior Group
DESCRIPTION:ZOOM
URL:https://uuspokane.org/event/lgbtq-senior-group/2026-02-13/
LOCATION:RE Zoom Account
CATEGORIES:Meeting
END:VEVENT
BEGIN:VEVENT
DTSTART;TZID=America/Los_Angeles:20260213T180000
DTEND;TZID=America/Los_Angeles:20260213T183000
DTSTAMP:20260423T143358
CREATED:20260204T191927Z
LAST-MODIFIED:20260204T191927Z
UID:10003991-1771005600-1771007400@uuspokane.org
SUMMARY:Meaningful Movies - Setup
DESCRIPTION:Join us in Spokane for a Screening of Is this Black Enough for You?!? \nFrom celebrated writer and film historian Elvis Mitchell\, Is That Black Enough for You?!? is a documentary and a deeply personal essay. The film examines the craft and power of cinema from a perspective often overlooked: the African American contribution to films released from the landmark era of the 70s. It is a deep dive into the impact that point of view had on movies\, as well as popular culture\, and serves as a love letter to film\, posing questions that have never been asked\, let alone answered. Crucial artistic voices\, including director Charles Burnett\, Samuel L. Jackson\, Whoopi Goldberg\, Laurence Fishburne\, Zendaya and others\, offer their distinctive prism on the creators and films that dazzled and inspired. The film provides insight into the history of Black representation going back to the earliest days of cinema\, and the cultural impact of witnessing unapologetic Blackness. Produced by Steven Soderbergh\, David Fincher\, Angus Wall and Ciara Lacy\, Is That Black Enough for You?!? marks Mitchell’s directorial debut. \n\nFacebook Page: https://facebook.com/events/s/is-that-black-enough-for-you/1608945116933855/?
URL:https://uuspokane.org/event/meaningful-movies-setup-2/
LOCATION:Chapel
CATEGORIES:Event Set Up
ORGANIZER;CN="Barb Stuebing":MAILTO:barbstuebing@gmail.com
END:VEVENT
BEGIN:VEVENT
DTSTART;TZID=America/Los_Angeles:20260213T183000
DTEND;TZID=America/Los_Angeles:20260213T210000
DTSTAMP:20260423T143358
CREATED:20251208T220320Z
LAST-MODIFIED:20260204T191958Z
UID:10003846-1771007400-1771016400@uuspokane.org
SUMMARY:Meaningful Movies - Is That Black Enough for You?!?
DESCRIPTION:Join us in Spokane for a Screening of Is this Black Enough for You?!? \nFrom celebrated writer and film historian Elvis Mitchell\, Is That Black Enough for You?!? is a documentary and a deeply personal essay. The film examines the craft and power of cinema from a perspective often overlooked: the African American contribution to films released from the landmark era of the 70s. It is a deep dive into the impact that point of view had on movies\, as well as popular culture\, and serves as a love letter to film\, posing questions that have never been asked\, let alone answered. Crucial artistic voices\, including director Charles Burnett\, Samuel L. Jackson\, Whoopi Goldberg\, Laurence Fishburne\, Zendaya and others\, offer their distinctive prism on the creators and films that dazzled and inspired. The film provides insight into the history of Black representation going back to the earliest days of cinema\, and the cultural impact of witnessing unapologetic Blackness. Produced by Steven Soderbergh\, David Fincher\, Angus Wall and Ciara Lacy\, Is That Black Enough for You?!? marks Mitchell’s directorial debut. \n\nFacebook Page: https://facebook.com/events/s/is-that-black-enough-for-you/1608945116933855/?
URL:https://uuspokane.org/event/meaningful-movies-2/
LOCATION:Chapel
CATEGORIES:Social Justice
ORGANIZER;CN="Barb Stuebing":MAILTO:barbstuebing@gmail.com
END:VEVENT
BEGIN:VEVENT
DTSTART;TZID=America/Los_Angeles:20260214T080000
DTEND;TZID=America/Los_Angeles:20260214T110000
DTSTAMP:20260423T143358
CREATED:20251204T210356Z
LAST-MODIFIED:20251204T210356Z
UID:10003725-1771056000-1771066800@uuspokane.org
SUMMARY:Memorial Service Set Up
DESCRIPTION:
URL:https://uuspokane.org/event/memorial-service-set-up/
LOCATION:Friendship Hall
CATEGORIES:Event Set Up
END:VEVENT
BEGIN:VEVENT
DTSTART;TZID=America/Los_Angeles:20260214T083000
DTEND;TZID=America/Los_Angeles:20260214T103000
DTSTAMP:20260423T143358
CREATED:20250925T172416Z
LAST-MODIFIED:20251001T030203Z
UID:10002451-1771057800-1771065000@uuspokane.org
SUMMARY:UU Men's Group at Rockwood Retirement
DESCRIPTION:Please join us for breakfast and conversation in the Livingston Dining Area of the Summit building at the Rockwood South Hill Retirement Community \n\nQuestions? Contact Tom Mosher at 509-220-1879. \nTake me to a map of the location.
URL:https://uuspokane.org/event/uu-mens-group-at-rockwood-retirement/2026-02-14/
LOCATION:Offsite
CATEGORIES:Fellowship
END:VEVENT
BEGIN:VEVENT
DTSTART;TZID=America/Los_Angeles:20260214T113000
DTEND;TZID=America/Los_Angeles:20260214T140000
DTSTAMP:20260423T143358
CREATED:20260204T203732Z
LAST-MODIFIED:20260204T203732Z
UID:10002511-1771068600-1771077600@uuspokane.org
SUMMARY:LGBTQ+ Seniors of the Inland Northwest Potluck
DESCRIPTION:Join us for food\, fellowship and conversation.
URL:https://uuspokane.org/event/lgbtq-seniors-of-the-inland-northwest-potluck-2-2/
LOCATION:Thoreau Room
CATEGORIES:Other
ORGANIZER;CN="Nancy Avery":MAILTO:NancyTavery@comcast.net
END:VEVENT
BEGIN:VEVENT
DTSTART;TZID=America/Los_Angeles:20260214T160000
DTEND;TZID=America/Los_Angeles:20260214T190000
DTSTAMP:20260423T143358
CREATED:20260115T195048Z
LAST-MODIFIED:20260122T200240Z
UID:10003895-1771084800-1771095600@uuspokane.org
SUMMARY:Valentine's Dance - Setup
DESCRIPTION:
URL:https://uuspokane.org/event/sweetheart-dance-setup/
LOCATION:Friendship Hall
CATEGORIES:Event Set Up
ORGANIZER;CN="Nancy Avery":MAILTO:NancyTavery@comcast.net
END:VEVENT
BEGIN:VEVENT
DTSTART;TZID=America/Los_Angeles:20260214T190000
DTEND;TZID=America/Los_Angeles:20260214T210000
DTSTAMP:20260423T143358
CREATED:20251208T220437Z
LAST-MODIFIED:20260211T190127Z
UID:10003847-1771095600-1771102800@uuspokane.org
SUMMARY:Hearts & Soles Valentine's Dance
DESCRIPTION:Celebrate love\, friendship\, and community with us at Hearts & Soles: A Valentine’s Day Dance! Whether you come with a partner\, a friend\, or on your own\, this evening is for everyone who enjoys music\, movement\, and good company. Dress up\, dress down\, or come as you are — just bring your enthusiasm and your dancing shoes. We look forward to sharing this festive and heart-warming evening with you! \nEnjoy an evening of dancing\, tasty snacks and a sweet chocolate fountain. Wine and beer will be available for a suggested $5.00 donation. Music for the evening will be brought to you by our very own DJ\, Susan Tyler Babkirk\, keeping the dance floor lively all night long. \nTickets will be on sale after church on January 25 and February 1\, or you may purchase tickets at the door. Ticket prices are $15.00 for one or $25.00 for two. \nVolunteers Needed:  We could use help with ticket sales\, set-up on Friday\, and clean-up after the dance. Even a short time makes a big difference! Contact Nancy Avery at Nancytavery@comcast.net if you’re able to help.
URL:https://uuspokane.org/event/sweetheart-dance/
LOCATION:Friendship Hall
CATEGORIES:Adult Enrichment,Fellowship
ORGANIZER;CN="Nancy Avery":MAILTO:NancyTavery@comcast.net
END:VEVENT
BEGIN:VEVENT
DTSTART;TZID=America/Los_Angeles:20260214T210000
DTEND;TZID=America/Los_Angeles:20260214T220000
DTSTAMP:20260423T143358
CREATED:20260115T195145Z
LAST-MODIFIED:20260122T200214Z
UID:10003896-1771102800-1771106400@uuspokane.org
SUMMARY:Valentine's Dance - Cleanup
DESCRIPTION:
URL:https://uuspokane.org/event/sweetheart-dance-cleanup/
LOCATION:Friendship Hall
CATEGORIES:Event Tear Down and Clean Up
ORGANIZER;CN="Nancy Avery":MAILTO:NancyTavery@comcast.net
END:VEVENT
BEGIN:VEVENT
DTSTART;TZID=America/Los_Angeles:20260215T091500
DTEND;TZID=America/Los_Angeles:20260215T101500
DTSTAMP:20260423T143358
CREATED:20250924T193716Z
LAST-MODIFIED:20250925T235209Z
UID:10000787-1771146900-1771150500@uuspokane.org
SUMMARY:Sunday Worship
DESCRIPTION:Live Stream Available
URL:https://uuspokane.org/event/sunday-worship/2026-02-15/
LOCATION:Sanctuary
CATEGORIES:Worship Service
END:VEVENT
BEGIN:VEVENT
DTSTART;TZID=America/Los_Angeles:20260215T110000
DTEND;TZID=America/Los_Angeles:20260215T120000
DTSTAMP:20260423T143358
CREATED:20250924T193853Z
LAST-MODIFIED:20250925T235352Z
UID:10001048-1771153200-1771156800@uuspokane.org
SUMMARY:Sunday Worship
DESCRIPTION:Live Stream Available
URL:https://uuspokane.org/event/sunday-worship-2/2026-02-15/
LOCATION:Sanctuary
CATEGORIES:Worship Service
END:VEVENT
BEGIN:VEVENT
DTSTART;TZID=America/Los_Angeles:20260215T110000
DTEND;TZID=America/Los_Angeles:20260215T121500
DTSTAMP:20260423T143358
CREATED:20250924T194449Z
LAST-MODIFIED:20250925T235502Z
UID:10001309-1771153200-1771157700@uuspokane.org
SUMMARY:Childcare for Sunday Services
DESCRIPTION:
URL:https://uuspokane.org/event/childcare-for-sunday-services/2026-02-15/
LOCATION:Channing Room (Nursery)
CATEGORIES:Childcare
END:VEVENT
BEGIN:VEVENT
DTSTART;TZID=America/Los_Angeles:20260215T123000
DTEND;TZID=America/Los_Angeles:20260215T140000
DTSTAMP:20260423T143358
CREATED:20260204T193727Z
LAST-MODIFIED:20260204T193727Z
UID:10003123-1771158600-1771164000@uuspokane.org
SUMMARY:Church Potluck
DESCRIPTION:
URL:https://uuspokane.org/event/church-potluck-5/2026-02-15/
LOCATION:Friendship Hall
CATEGORIES:Fellowship
END:VEVENT
END:VCALENDAR