BEGIN:VCALENDAR
VERSION:2.0
PRODID:-//Unitarian Universalist Church of Spokane - ECPv6.15.20//NONSGML v1.0//EN
CALSCALE:GREGORIAN
METHOD:PUBLISH
X-ORIGINAL-URL:https://uuspokane.org
X-WR-CALDESC:Events for Unitarian Universalist Church of Spokane
REFRESH-INTERVAL;VALUE=DURATION:PT1H
X-Robots-Tag:noindex
X-PUBLISHED-TTL:PT1H
BEGIN:VTIMEZONE
TZID:America/Los_Angeles
BEGIN:DAYLIGHT
TZOFFSETFROM:-0800
TZOFFSETTO:-0700
TZNAME:PDT
DTSTART:20250309T100000
END:DAYLIGHT
BEGIN:STANDARD
TZOFFSETFROM:-0700
TZOFFSETTO:-0800
TZNAME:PST
DTSTART:20251102T090000
END:STANDARD
BEGIN:DAYLIGHT
TZOFFSETFROM:-0800
TZOFFSETTO:-0700
TZNAME:PDT
DTSTART:20260308T100000
END:DAYLIGHT
BEGIN:STANDARD
TZOFFSETFROM:-0700
TZOFFSETTO:-0800
TZNAME:PST
DTSTART:20261101T090000
END:STANDARD
BEGIN:DAYLIGHT
TZOFFSETFROM:-0800
TZOFFSETTO:-0700
TZNAME:PDT
DTSTART:20270314T100000
END:DAYLIGHT
BEGIN:STANDARD
TZOFFSETFROM:-0700
TZOFFSETTO:-0800
TZNAME:PST
DTSTART:20271107T090000
END:STANDARD
END:VTIMEZONE
BEGIN:VEVENT
DTSTART;TZID=America/Los_Angeles:20260607T110000
DTEND;TZID=America/Los_Angeles:20260607T120000
DTSTAMP:20260423T143358
CREATED:20250924T193853Z
LAST-MODIFIED:20250925T235352Z
UID:10001064-1780830000-1780833600@uuspokane.org
SUMMARY:Sunday Worship
DESCRIPTION:Live Stream Available
URL:https://uuspokane.org/event/sunday-worship-2/2026-06-07/
LOCATION:Sanctuary
CATEGORIES:Worship Service
END:VEVENT
BEGIN:VEVENT
DTSTART;TZID=America/Los_Angeles:20260607T110000
DTEND;TZID=America/Los_Angeles:20260607T121500
DTSTAMP:20260423T143358
CREATED:20250924T194449Z
LAST-MODIFIED:20250925T235502Z
UID:10001325-1780830000-1780834500@uuspokane.org
SUMMARY:Childcare for Sunday Services
DESCRIPTION:
URL:https://uuspokane.org/event/childcare-for-sunday-services/2026-06-07/
LOCATION:Channing Room (Nursery)
CATEGORIES:Childcare
END:VEVENT
BEGIN:VEVENT
DTSTART;TZID=America/Los_Angeles:20260608T183000
DTEND;TZID=America/Los_Angeles:20260608T200000
DTSTAMP:20260423T143358
CREATED:20250924T194849Z
LAST-MODIFIED:20250924T194849Z
UID:10001847-1780943400-1780948800@uuspokane.org
SUMMARY:Meditation Group
DESCRIPTION:Buddhist Meditation – Sravasti Abbey
URL:https://uuspokane.org/event/meditation-group/2026-06-08/
LOCATION:Private Zoom
CATEGORIES:Meditation
END:VEVENT
BEGIN:VEVENT
DTSTART;TZID=America/Los_Angeles:20260609T110000
DTEND;TZID=America/Los_Angeles:20260609T130000
DTSTAMP:20260423T143358
CREATED:20250925T173256Z
LAST-MODIFIED:20250925T173256Z
UID:10002576-1781002800-1781010000@uuspokane.org
SUMMARY:Ops Team Meeting
DESCRIPTION:
URL:https://uuspokane.org/event/ops-team-meeting/2026-06-09/
LOCATION:RE Zoom Account
CATEGORIES:Meeting
END:VEVENT
BEGIN:VEVENT
DTSTART;TZID=America/Los_Angeles:20260609T160000
DTEND;TZID=America/Los_Angeles:20260609T170000
DTSTAMP:20260423T143358
CREATED:20260305T212112Z
LAST-MODIFIED:20260305T212112Z
UID:10004055-1781020800-1781024400@uuspokane.org
SUMMARY:Monthly Family Service Project - Teen & Kid Closet
DESCRIPTION:One of the reasons our church exists is to work for justice/live justly. Opportunities for children and youths to do this can feel limited\, but we have arranged for UUCS families to volunteer at Teen & Kid Closet. They do incredibly work for vulnerable children in Spokane — read more about them on their website. A parent/guardian is expected to stay with their child(ren) the entire session. \n  \nTake me to the registration page.
URL:https://uuspokane.org/event/monthly-family-service-project-teen-kid-closet-3/2026-06-09/
LOCATION:Offsite
CATEGORIES:RE Event
ORGANIZER;CN="Stephanie Gronholz":MAILTO:re@uuspokane.org
END:VEVENT
BEGIN:VEVENT
DTSTART;TZID=America/Los_Angeles:20260610T113000
DTEND;TZID=America/Los_Angeles:20260610T123000
DTSTAMP:20260423T143358
CREATED:20250925T172123Z
LAST-MODIFIED:20250930T175456Z
UID:10002394-1781091000-1781094600@uuspokane.org
SUMMARY:UU Women 2nd Wednesday Lunch
DESCRIPTION:Location varies
URL:https://uuspokane.org/event/uu-women-2nd-wednesday-lunch/2026-06-10/
LOCATION:Offsite
CATEGORIES:Fellowship
END:VEVENT
BEGIN:VEVENT
DTSTART;TZID=America/Los_Angeles:20260610T150000
DTEND;TZID=America/Los_Angeles:20260610T150000
DTSTAMP:20260423T143358
CREATED:20250924T191050Z
LAST-MODIFIED:20250924T191050Z
UID:10000100-1781103600-1781103600@uuspokane.org
SUMMARY:Weekly SUUN Submission Deadline
DESCRIPTION:
URL:https://uuspokane.org/event/weekly-suun-submission-deadline/2026-06-10/
CATEGORIES:Other
END:VEVENT
BEGIN:VEVENT
DTSTART;TZID=America/Los_Angeles:20260611T100000
DTEND;TZID=America/Los_Angeles:20260611T120000
DTSTAMP:20260423T143358
CREATED:20260217T190138Z
LAST-MODIFIED:20260217T190138Z
UID:10004013-1781172000-1781179200@uuspokane.org
SUMMARY:Election Coalition Team- Spokane Indivisible
DESCRIPTION:
URL:https://uuspokane.org/event/election-coalition-team-spokane-indivisible/2026-06-11/
LOCATION:Thoreau Room
CATEGORIES:Social Justice
END:VEVENT
BEGIN:VEVENT
DTSTART;TZID=America/Los_Angeles:20260612T140000
DTEND;TZID=America/Los_Angeles:20260612T180000
DTSTAMP:20260423T143358
CREATED:20250929T212404Z
LAST-MODIFIED:20260323T215532Z
UID:10003439-1781272800-1781287200@uuspokane.org
SUMMARY:Milne Wedding Set Up & Rehearsal
DESCRIPTION:
URL:https://uuspokane.org/event/milne-wedding-rehearsal/
LOCATION:Sanctuary
CATEGORIES:Wedding Rehearsal and Setup
END:VEVENT
BEGIN:VEVENT
DTSTART;TZID=America/Los_Angeles:20260612T160000
DTEND;TZID=America/Los_Angeles:20260612T173000
DTSTAMP:20260423T143358
CREATED:20260414T155358Z
LAST-MODIFIED:20260414T155358Z
UID:10000542-1781280000-1781285400@uuspokane.org
SUMMARY:LGBTQ+ Senior Group
DESCRIPTION:ZOOM
URL:https://uuspokane.org/event/lgbtq-senior-group-2-2/2026-06-12/
LOCATION:ZOOM
CATEGORIES:Meeting
ORGANIZER;CN="Nancy Avery":MAILTO:NancyTavery@comcast.net
END:VEVENT
BEGIN:VEVENT
DTSTART;TZID=America/Los_Angeles:20260612T170000
DTEND;TZID=America/Los_Angeles:20260612T183000
DTSTAMP:20260423T143358
CREATED:20260305T213814Z
LAST-MODIFIED:20260305T213814Z
UID:10004172-1781283600-1781289000@uuspokane.org
SUMMARY:Meaningful Movies - Set Up
DESCRIPTION:
URL:https://uuspokane.org/event/meaningful-movies-set-up-2/2026-06-12/
LOCATION:Friendship Hall
CATEGORIES:Event Set Up,Social Justice
ORGANIZER;CN="Barb Stuebing":MAILTO:barbstuebing@gmail.com
END:VEVENT
BEGIN:VEVENT
DTSTART;TZID=America/Los_Angeles:20260612T180000
DTEND;TZID=America/Los_Angeles:20260612T210000
DTSTAMP:20260423T143358
CREATED:20251208T220636Z
LAST-MODIFIED:20260305T213645Z
UID:10004113-1781287200-1781298000@uuspokane.org
SUMMARY:Meaningful Movies
DESCRIPTION:
URL:https://uuspokane.org/event/meaningful-movies-4/2026-06-12/
LOCATION:Chapel
CATEGORIES:Social Justice
ORGANIZER;CN="Barb Stuebing":MAILTO:barbstuebing@gmail.com
END:VEVENT
BEGIN:VEVENT
DTSTART;TZID=America/Los_Angeles:20260612T210000
DTEND;TZID=America/Los_Angeles:20260612T220000
DTSTAMP:20260423T143358
CREATED:20260305T213857Z
LAST-MODIFIED:20260305T213857Z
UID:10004231-1781298000-1781301600@uuspokane.org
SUMMARY:Meaningful Movies - Cleanup
DESCRIPTION:
URL:https://uuspokane.org/event/meaningful-movies-cleanup-2/2026-06-12/
LOCATION:Chapel
CATEGORIES:Event Tear Down and Clean Up,Social Justice
ORGANIZER;CN="Barb Stuebing":MAILTO:barbstuebing@gmail.com
END:VEVENT
BEGIN:VEVENT
DTSTART;TZID=America/Los_Angeles:20260613T083000
DTEND;TZID=America/Los_Angeles:20260613T103000
DTSTAMP:20260423T143358
CREATED:20250925T172416Z
LAST-MODIFIED:20251001T030203Z
UID:10002455-1781339400-1781346600@uuspokane.org
SUMMARY:UU Men's Group at Rockwood Retirement
DESCRIPTION:Please join us for breakfast and conversation in the Livingston Dining Area of the Summit building at the Rockwood South Hill Retirement Community \n\nQuestions? Contact Tom Mosher at 509-220-1879. \nTake me to a map of the location.
URL:https://uuspokane.org/event/uu-mens-group-at-rockwood-retirement/2026-06-13/
LOCATION:Offsite
CATEGORIES:Fellowship
END:VEVENT
BEGIN:VEVENT
DTSTART;TZID=America/Los_Angeles:20260613T113000
DTEND;TZID=America/Los_Angeles:20260613T140000
DTSTAMP:20260423T143358
CREATED:20260204T203641Z
LAST-MODIFIED:20260204T203641Z
UID:10002515-1781350200-1781359200@uuspokane.org
SUMMARY:LGBTQ+ Seniors of the Inland Northwest Potluck
DESCRIPTION:Join us for food\, fellowship and conversation.
URL:https://uuspokane.org/event/lgbtq-seniors-of-the-inland-northwest-potluck-2/2026-06-13/
LOCATION:Friendship Hall
CATEGORIES:Other
ORGANIZER;CN="Nancy Avery":MAILTO:NancyTavery@comcast.net
END:VEVENT
BEGIN:VEVENT
DTSTART;TZID=America/Los_Angeles:20260613T130000
DTEND;TZID=America/Los_Angeles:20260613T210000
DTSTAMP:20260423T143358
CREATED:20250929T212307Z
LAST-MODIFIED:20260323T215606Z
UID:10003438-1781355600-1781384400@uuspokane.org
SUMMARY:Milne Family Wedding
DESCRIPTION:
URL:https://uuspokane.org/event/milne-wedding/
LOCATION:Chapel
CATEGORIES:Wedding Reception,Wedding Service
END:VEVENT
BEGIN:VEVENT
DTSTART;TZID=America/Los_Angeles:20260614T091500
DTEND;TZID=America/Los_Angeles:20260614T101500
DTSTAMP:20260423T143358
CREATED:20250924T193716Z
LAST-MODIFIED:20250925T235209Z
UID:10000804-1781428500-1781432100@uuspokane.org
SUMMARY:Sunday Worship
DESCRIPTION:Live Stream Available
URL:https://uuspokane.org/event/sunday-worship/2026-06-14/
LOCATION:Sanctuary
CATEGORIES:Worship Service
END:VEVENT
BEGIN:VEVENT
DTSTART;TZID=America/Los_Angeles:20260614T110000
DTEND;TZID=America/Los_Angeles:20260614T120000
DTSTAMP:20260423T143358
CREATED:20250924T193853Z
LAST-MODIFIED:20250925T235352Z
UID:10001065-1781434800-1781438400@uuspokane.org
SUMMARY:Sunday Worship
DESCRIPTION:Live Stream Available
URL:https://uuspokane.org/event/sunday-worship-2/2026-06-14/
LOCATION:Sanctuary
CATEGORIES:Worship Service
END:VEVENT
BEGIN:VEVENT
DTSTART;TZID=America/Los_Angeles:20260614T110000
DTEND;TZID=America/Los_Angeles:20260614T121500
DTSTAMP:20260423T143358
CREATED:20250924T194449Z
LAST-MODIFIED:20250925T235502Z
UID:10001326-1781434800-1781439300@uuspokane.org
SUMMARY:Childcare for Sunday Services
DESCRIPTION:
URL:https://uuspokane.org/event/childcare-for-sunday-services/2026-06-14/
LOCATION:Channing Room (Nursery)
CATEGORIES:Childcare
END:VEVENT
BEGIN:VEVENT
DTSTART;TZID=America/Los_Angeles:20260614T123000
DTEND;TZID=America/Los_Angeles:20260614T133000
DTSTAMP:20260423T143358
CREATED:20251120T162222Z
LAST-MODIFIED:20251120T162222Z
UID:10002756-1781440200-1781443800@uuspokane.org
SUMMARY:Poetry Sharing Circle
DESCRIPTION:Have you ever stumbled upon a poem — whether found in a book\, heard in passing\, or written yourself — that felt too meaningful to keep to yourself? Our Poetry Sharing Circle is a gentle\, welcoming hour created just for that. \nThis is not a workshop\, class\, or writers’ critique group. Instead\, it’s a simple in-person gathering where we come together to share poems that move us\, comfort us\, surprise us\, or make us think. Bring a poem you love and a few words about why it speaks to you — or simply come to listen and enjoy the company of others who appreciate the magic of poetry. \nNo pressure … no preparation … no expectations. \nJust people\, poems\, and a peaceful moment in community.
URL:https://uuspokane.org/event/poetry-sharing-circle-2/2026-06-14/
LOCATION:Chapel
CATEGORIES:Adult Enrichment
ORGANIZER;CN="Lynn Jinishian":MAILTO:jinishian@comcast.net
END:VEVENT
BEGIN:VEVENT
DTSTART;TZID=America/Los_Angeles:20260614T123000
DTEND;TZID=America/Los_Angeles:20260614T150000
DTSTAMP:20260423T143358
CREATED:20250929T212533Z
LAST-MODIFIED:20250929T212533Z
UID:10003440-1781440200-1781449200@uuspokane.org
SUMMARY:Annual Meeting
DESCRIPTION:
URL:https://uuspokane.org/event/annual-meeting/
LOCATION:Sanctuary
CATEGORIES:Congregational Business Meeting
END:VEVENT
BEGIN:VEVENT
DTSTART;TZID=America/Los_Angeles:20260614T130000
DTEND;TZID=America/Los_Angeles:20260614T160000
DTSTAMP:20260423T143358
CREATED:20250925T174023Z
LAST-MODIFIED:20250925T174023Z
UID:10002816-1781442000-1781452800@uuspokane.org
SUMMARY:Spokane Handweaver's Guild
DESCRIPTION:
URL:https://uuspokane.org/event/spokane-handweavers-guild/2026-06-14/
LOCATION:Thoreau Room
CATEGORIES:Private Event
END:VEVENT
BEGIN:VEVENT
DTSTART;TZID=America/Los_Angeles:20260615T183000
DTEND;TZID=America/Los_Angeles:20260615T200000
DTSTAMP:20260423T143358
CREATED:20250924T194849Z
LAST-MODIFIED:20250924T194849Z
UID:10001848-1781548200-1781553600@uuspokane.org
SUMMARY:Meditation Group
DESCRIPTION:Buddhist Meditation – Sravasti Abbey
URL:https://uuspokane.org/event/meditation-group/2026-06-15/
LOCATION:Private Zoom
CATEGORIES:Meditation
END:VEVENT
BEGIN:VEVENT
DTSTART;TZID=America/Los_Angeles:20260615T183000
DTEND;TZID=America/Los_Angeles:20260615T200000
DTSTAMP:20260423T143358
CREATED:20250925T180231Z
LAST-MODIFIED:20250925T231548Z
UID:10003188-1781548200-1781553600@uuspokane.org
SUMMARY:Social Justice Coordinating Council
DESCRIPTION:
URL:https://uuspokane.org/event/social-justice-coordinating-council/2026-06-15/
LOCATION:RE Zoom Account
CATEGORIES:Meeting
END:VEVENT
BEGIN:VEVENT
DTSTART;TZID=America/Los_Angeles:20260616T180000
DTEND;TZID=America/Los_Angeles:20260616T193000
DTSTAMP:20260423T143358
CREATED:20260107T233841Z
LAST-MODIFIED:20260107T234027Z
UID:10003889-1781632800-1781638200@uuspokane.org
SUMMARY:Choir Rehearsal
DESCRIPTION:
URL:https://uuspokane.org/event/choir-rehearsal-4/2026-06-16/
LOCATION:Sanctuary
CATEGORIES:Choir Rehearsal
END:VEVENT
BEGIN:VEVENT
DTSTART;TZID=America/Los_Angeles:20260617T150000
DTEND;TZID=America/Los_Angeles:20260617T150000
DTSTAMP:20260423T143358
CREATED:20250924T191050Z
LAST-MODIFIED:20250924T191050Z
UID:10000101-1781708400-1781708400@uuspokane.org
SUMMARY:Weekly SUUN Submission Deadline
DESCRIPTION:
URL:https://uuspokane.org/event/weekly-suun-submission-deadline/2026-06-17/
CATEGORIES:Other
END:VEVENT
BEGIN:VEVENT
DTSTART;TZID=America/Los_Angeles:20260617T160000
DTEND;TZID=America/Los_Angeles:20260617T170000
DTSTAMP:20260423T143358
CREATED:20250925T173505Z
LAST-MODIFIED:20250925T173505Z
UID:10002636-1781712000-1781715600@uuspokane.org
SUMMARY:Board Agenda Meeting
DESCRIPTION:
URL:https://uuspokane.org/event/board-agenda-meeting/2026-06-17/
LOCATION:RE Zoom Account
CATEGORIES:Meeting
END:VEVENT
BEGIN:VEVENT
DTSTART;TZID=America/Los_Angeles:20260618T100000
DTEND;TZID=America/Los_Angeles:20260618T120000
DTSTAMP:20260423T143358
CREATED:20260217T190138Z
LAST-MODIFIED:20260217T190138Z
UID:10004014-1781776800-1781784000@uuspokane.org
SUMMARY:Election Coalition Team- Spokane Indivisible
DESCRIPTION:
URL:https://uuspokane.org/event/election-coalition-team-spokane-indivisible/2026-06-18/
LOCATION:Thoreau Room
CATEGORIES:Social Justice
END:VEVENT
BEGIN:VEVENT
DTSTART;TZID=America/Los_Angeles:20260618T130000
DTEND;TZID=America/Los_Angeles:20260618T150000
DTSTAMP:20260423T143358
CREATED:20250925T231947Z
LAST-MODIFIED:20250925T231947Z
UID:10003249-1781787600-1781794800@uuspokane.org
SUMMARY:Third Thursday Book Group
DESCRIPTION:
URL:https://uuspokane.org/event/third-thursday-book-group/2026-06-18/
LOCATION:Offsite
CATEGORIES:Adult Enrichment
END:VEVENT
BEGIN:VEVENT
DTSTART;TZID=America/Los_Angeles:20260619T160000
DTEND;TZID=America/Los_Angeles:20260619T173000
DTSTAMP:20260423T143358
CREATED:20260414T155358Z
LAST-MODIFIED:20260414T155358Z
UID:10000543-1781884800-1781890200@uuspokane.org
SUMMARY:LGBTQ+ Senior Group
DESCRIPTION:ZOOM
URL:https://uuspokane.org/event/lgbtq-senior-group-2-2/2026-06-19/
LOCATION:ZOOM
CATEGORIES:Meeting
ORGANIZER;CN="Nancy Avery":MAILTO:NancyTavery@comcast.net
END:VEVENT
END:VCALENDAR