BEGIN:VCALENDAR
VERSION:2.0
PRODID:-//Unitarian Universalist Church of Spokane - ECPv6.15.20//NONSGML v1.0//EN
CALSCALE:GREGORIAN
METHOD:PUBLISH
X-ORIGINAL-URL:https://uuspokane.org
X-WR-CALDESC:Events for Unitarian Universalist Church of Spokane
REFRESH-INTERVAL;VALUE=DURATION:PT1H
X-Robots-Tag:noindex
X-PUBLISHED-TTL:PT1H
BEGIN:VTIMEZONE
TZID:America/Los_Angeles
BEGIN:DAYLIGHT
TZOFFSETFROM:-0800
TZOFFSETTO:-0700
TZNAME:PDT
DTSTART:20260308T100000
END:DAYLIGHT
BEGIN:STANDARD
TZOFFSETFROM:-0700
TZOFFSETTO:-0800
TZNAME:PST
DTSTART:20261101T090000
END:STANDARD
BEGIN:DAYLIGHT
TZOFFSETFROM:-0800
TZOFFSETTO:-0700
TZNAME:PDT
DTSTART:20270314T100000
END:DAYLIGHT
BEGIN:STANDARD
TZOFFSETFROM:-0700
TZOFFSETTO:-0800
TZNAME:PST
DTSTART:20271107T090000
END:STANDARD
BEGIN:DAYLIGHT
TZOFFSETFROM:-0800
TZOFFSETTO:-0700
TZNAME:PDT
DTSTART:20280312T100000
END:DAYLIGHT
BEGIN:STANDARD
TZOFFSETFROM:-0700
TZOFFSETTO:-0800
TZNAME:PST
DTSTART:20281105T090000
END:STANDARD
END:VTIMEZONE
BEGIN:VEVENT
DTSTART;TZID=America/Los_Angeles:20270309T110000
DTEND;TZID=America/Los_Angeles:20270309T130000
DTSTAMP:20260424T062551
CREATED:20250925T173256Z
LAST-MODIFIED:20250925T173256Z
UID:10002585-1804590000-1804597200@uuspokane.org
SUMMARY:Ops Team Meeting
DESCRIPTION:
URL:https://uuspokane.org/event/ops-team-meeting/2027-03-09/
LOCATION:RE Zoom Account
CATEGORIES:Meeting
END:VEVENT
BEGIN:VEVENT
DTSTART;TZID=America/Los_Angeles:20270309T160000
DTEND;TZID=America/Los_Angeles:20270309T170000
DTSTAMP:20260424T062551
CREATED:20260305T212112Z
LAST-MODIFIED:20260305T212112Z
UID:10004064-1804608000-1804611600@uuspokane.org
SUMMARY:Monthly Family Service Project - Teen & Kid Closet
DESCRIPTION:One of the reasons our church exists is to work for justice/live justly. Opportunities for children and youths to do this can feel limited\, but we have arranged for UUCS families to volunteer at Teen & Kid Closet. They do incredibly work for vulnerable children in Spokane — read more about them on their website. A parent/guardian is expected to stay with their child(ren) the entire session. \n  \nTake me to the registration page.
URL:https://uuspokane.org/event/monthly-family-service-project-teen-kid-closet-3/2027-03-09/
LOCATION:Offsite
CATEGORIES:RE Event
ORGANIZER;CN="Stephanie Gronholz":MAILTO:re@uuspokane.org
END:VEVENT
BEGIN:VEVENT
DTSTART;TZID=America/Los_Angeles:20270310T113000
DTEND;TZID=America/Los_Angeles:20270310T123000
DTSTAMP:20260424T062551
CREATED:20250925T172123Z
LAST-MODIFIED:20250930T175456Z
UID:10002403-1804678200-1804681800@uuspokane.org
SUMMARY:UU Women 2nd Wednesday Lunch
DESCRIPTION:Location varies
URL:https://uuspokane.org/event/uu-women-2nd-wednesday-lunch/2027-03-10/
LOCATION:Offsite
CATEGORIES:Fellowship
END:VEVENT
BEGIN:VEVENT
DTSTART;TZID=America/Los_Angeles:20270310T150000
DTEND;TZID=America/Los_Angeles:20270310T150000
DTSTAMP:20260424T062551
CREATED:20250924T191050Z
LAST-MODIFIED:20250924T191050Z
UID:10000139-1804690800-1804690800@uuspokane.org
SUMMARY:Weekly SUUN Submission Deadline
DESCRIPTION:
URL:https://uuspokane.org/event/weekly-suun-submission-deadline/2027-03-10/
CATEGORIES:Other
END:VEVENT
BEGIN:VEVENT
DTSTART;TZID=America/Los_Angeles:20270312T160000
DTEND;TZID=America/Los_Angeles:20270312T173000
DTSTAMP:20260424T062551
CREATED:20260414T155358Z
LAST-MODIFIED:20260414T155358Z
UID:10000581-1804867200-1804872600@uuspokane.org
SUMMARY:LGBTQ+ Senior Group
DESCRIPTION:ZOOM
URL:https://uuspokane.org/event/lgbtq-senior-group-2-2/2027-03-12/
LOCATION:ZOOM
CATEGORIES:Meeting
ORGANIZER;CN="Nancy Avery":MAILTO:NancyTavery@comcast.net
END:VEVENT
BEGIN:VEVENT
DTSTART;TZID=America/Los_Angeles:20270312T170000
DTEND;TZID=America/Los_Angeles:20270312T183000
DTSTAMP:20260424T062551
CREATED:20260305T213814Z
LAST-MODIFIED:20260305T213814Z
UID:10004181-1804870800-1804876200@uuspokane.org
SUMMARY:Meaningful Movies - Set Up
DESCRIPTION:
URL:https://uuspokane.org/event/meaningful-movies-set-up-2/2027-03-12/
LOCATION:Friendship Hall
CATEGORIES:Event Set Up,Social Justice
ORGANIZER;CN="Barb Stuebing":MAILTO:barbstuebing@gmail.com
END:VEVENT
BEGIN:VEVENT
DTSTART;TZID=America/Los_Angeles:20270312T180000
DTEND;TZID=America/Los_Angeles:20270312T210000
DTSTAMP:20260424T062551
CREATED:20251208T220636Z
LAST-MODIFIED:20260305T213645Z
UID:10004122-1804874400-1804885200@uuspokane.org
SUMMARY:Meaningful Movies
DESCRIPTION:
URL:https://uuspokane.org/event/meaningful-movies-4/2027-03-12/
LOCATION:Chapel
CATEGORIES:Social Justice
ORGANIZER;CN="Barb Stuebing":MAILTO:barbstuebing@gmail.com
END:VEVENT
BEGIN:VEVENT
DTSTART;TZID=America/Los_Angeles:20270312T210000
DTEND;TZID=America/Los_Angeles:20270312T220000
DTSTAMP:20260424T062551
CREATED:20260305T213857Z
LAST-MODIFIED:20260305T213857Z
UID:10004240-1804885200-1804888800@uuspokane.org
SUMMARY:Meaningful Movies - Cleanup
DESCRIPTION:
URL:https://uuspokane.org/event/meaningful-movies-cleanup-2/2027-03-12/
LOCATION:Chapel
CATEGORIES:Event Tear Down and Clean Up,Social Justice
ORGANIZER;CN="Barb Stuebing":MAILTO:barbstuebing@gmail.com
END:VEVENT
BEGIN:VEVENT
DTSTART;TZID=America/Los_Angeles:20270313T083000
DTEND;TZID=America/Los_Angeles:20270313T103000
DTSTAMP:20260424T062551
CREATED:20250925T172416Z
LAST-MODIFIED:20251001T030203Z
UID:10002464-1804926600-1804933800@uuspokane.org
SUMMARY:UU Men's Group at Rockwood Retirement
DESCRIPTION:Please join us for breakfast and conversation in the Livingston Dining Area of the Summit building at the Rockwood South Hill Retirement Community \n\nQuestions? Contact Tom Mosher at 509-220-1879. \nTake me to a map of the location.
URL:https://uuspokane.org/event/uu-mens-group-at-rockwood-retirement/2027-03-13/
LOCATION:Offsite
CATEGORIES:Fellowship
END:VEVENT
BEGIN:VEVENT
DTSTART;TZID=America/Los_Angeles:20270313T113000
DTEND;TZID=America/Los_Angeles:20270313T140000
DTSTAMP:20260424T062551
CREATED:20260204T203641Z
LAST-MODIFIED:20260204T203641Z
UID:10002524-1804937400-1804946400@uuspokane.org
SUMMARY:LGBTQ+ Seniors of the Inland Northwest Potluck
DESCRIPTION:Join us for food\, fellowship and conversation.
URL:https://uuspokane.org/event/lgbtq-seniors-of-the-inland-northwest-potluck-2/2027-03-13/
LOCATION:Friendship Hall
CATEGORIES:Other
ORGANIZER;CN="Nancy Avery":MAILTO:NancyTavery@comcast.net
END:VEVENT
BEGIN:VEVENT
DTSTART;TZID=America/Los_Angeles:20270314T091500
DTEND;TZID=America/Los_Angeles:20270314T101500
DTSTAMP:20260424T062551
CREATED:20250924T193716Z
LAST-MODIFIED:20250925T235209Z
UID:10000843-1805015700-1805019300@uuspokane.org
SUMMARY:Sunday Worship
DESCRIPTION:Live Stream Available
URL:https://uuspokane.org/event/sunday-worship/2027-03-14/
LOCATION:Sanctuary
CATEGORIES:Worship Service
END:VEVENT
BEGIN:VEVENT
DTSTART;TZID=America/Los_Angeles:20270314T110000
DTEND;TZID=America/Los_Angeles:20270314T120000
DTSTAMP:20260424T062551
CREATED:20250924T193853Z
LAST-MODIFIED:20250925T235352Z
UID:10001104-1805022000-1805025600@uuspokane.org
SUMMARY:Sunday Worship
DESCRIPTION:Live Stream Available
URL:https://uuspokane.org/event/sunday-worship-2/2027-03-14/
LOCATION:Sanctuary
CATEGORIES:Worship Service
END:VEVENT
BEGIN:VEVENT
DTSTART;TZID=America/Los_Angeles:20270314T110000
DTEND;TZID=America/Los_Angeles:20270314T121500
DTSTAMP:20260424T062551
CREATED:20250924T194449Z
LAST-MODIFIED:20250925T235502Z
UID:10001365-1805022000-1805026500@uuspokane.org
SUMMARY:Childcare for Sunday Services
DESCRIPTION:
URL:https://uuspokane.org/event/childcare-for-sunday-services/2027-03-14/
LOCATION:Channing Room (Nursery)
CATEGORIES:Childcare
END:VEVENT
BEGIN:VEVENT
DTSTART;TZID=America/Los_Angeles:20270314T123000
DTEND;TZID=America/Los_Angeles:20270314T133000
DTSTAMP:20260424T062551
CREATED:20251120T162222Z
LAST-MODIFIED:20251120T162222Z
UID:10002765-1805027400-1805031000@uuspokane.org
SUMMARY:Poetry Sharing Circle
DESCRIPTION:Have you ever stumbled upon a poem — whether found in a book\, heard in passing\, or written yourself — that felt too meaningful to keep to yourself? Our Poetry Sharing Circle is a gentle\, welcoming hour created just for that. \nThis is not a workshop\, class\, or writers’ critique group. Instead\, it’s a simple in-person gathering where we come together to share poems that move us\, comfort us\, surprise us\, or make us think. Bring a poem you love and a few words about why it speaks to you — or simply come to listen and enjoy the company of others who appreciate the magic of poetry. \nNo pressure … no preparation … no expectations. \nJust people\, poems\, and a peaceful moment in community.
URL:https://uuspokane.org/event/poetry-sharing-circle-2/2027-03-14/
LOCATION:Chapel
CATEGORIES:Adult Enrichment
ORGANIZER;CN="Lynn Jinishian":MAILTO:jinishian@comcast.net
END:VEVENT
BEGIN:VEVENT
DTSTART;TZID=America/Los_Angeles:20270314T130000
DTEND;TZID=America/Los_Angeles:20270314T160000
DTSTAMP:20260424T062551
CREATED:20250925T174023Z
LAST-MODIFIED:20250925T174023Z
UID:10002825-1805029200-1805040000@uuspokane.org
SUMMARY:Spokane Handweaver's Guild
DESCRIPTION:
URL:https://uuspokane.org/event/spokane-handweavers-guild/2027-03-14/
LOCATION:Thoreau Room
CATEGORIES:Private Event
END:VEVENT
BEGIN:VEVENT
DTSTART;TZID=America/Los_Angeles:20270315T183000
DTEND;TZID=America/Los_Angeles:20270315T200000
DTSTAMP:20260424T062551
CREATED:20250924T194849Z
LAST-MODIFIED:20250924T194849Z
UID:10001887-1805135400-1805140800@uuspokane.org
SUMMARY:Meditation Group
DESCRIPTION:Buddhist Meditation – Sravasti Abbey
URL:https://uuspokane.org/event/meditation-group/2027-03-15/
LOCATION:Private Zoom
CATEGORIES:Meditation
END:VEVENT
BEGIN:VEVENT
DTSTART;TZID=America/Los_Angeles:20270315T183000
DTEND;TZID=America/Los_Angeles:20270315T200000
DTSTAMP:20260424T062551
CREATED:20250925T180231Z
LAST-MODIFIED:20250925T231548Z
UID:10003197-1805135400-1805140800@uuspokane.org
SUMMARY:Social Justice Coordinating Council
DESCRIPTION:
URL:https://uuspokane.org/event/social-justice-coordinating-council/2027-03-15/
LOCATION:RE Zoom Account
CATEGORIES:Meeting
END:VEVENT
BEGIN:VEVENT
DTSTART;TZID=America/Los_Angeles:20270317T150000
DTEND;TZID=America/Los_Angeles:20270317T150000
DTSTAMP:20260424T062551
CREATED:20250924T191050Z
LAST-MODIFIED:20250924T191050Z
UID:10000140-1805295600-1805295600@uuspokane.org
SUMMARY:Weekly SUUN Submission Deadline
DESCRIPTION:
URL:https://uuspokane.org/event/weekly-suun-submission-deadline/2027-03-17/
CATEGORIES:Other
END:VEVENT
BEGIN:VEVENT
DTSTART;TZID=America/Los_Angeles:20270317T160000
DTEND;TZID=America/Los_Angeles:20270317T170000
DTSTAMP:20260424T062551
CREATED:20250925T173505Z
LAST-MODIFIED:20250925T173505Z
UID:10002645-1805299200-1805302800@uuspokane.org
SUMMARY:Board Agenda Meeting
DESCRIPTION:
URL:https://uuspokane.org/event/board-agenda-meeting/2027-03-17/
LOCATION:RE Zoom Account
CATEGORIES:Meeting
END:VEVENT
BEGIN:VEVENT
DTSTART;TZID=America/Los_Angeles:20270318T130000
DTEND;TZID=America/Los_Angeles:20270318T150000
DTSTAMP:20260424T062551
CREATED:20250925T231947Z
LAST-MODIFIED:20250925T231947Z
UID:10003258-1805374800-1805382000@uuspokane.org
SUMMARY:Third Thursday Book Group
DESCRIPTION:
URL:https://uuspokane.org/event/third-thursday-book-group/2027-03-18/
LOCATION:Offsite
CATEGORIES:Adult Enrichment
END:VEVENT
BEGIN:VEVENT
DTSTART;TZID=America/Los_Angeles:20270319T160000
DTEND;TZID=America/Los_Angeles:20270319T173000
DTSTAMP:20260424T062551
CREATED:20260414T155358Z
LAST-MODIFIED:20260414T155358Z
UID:10000582-1805472000-1805477400@uuspokane.org
SUMMARY:LGBTQ+ Senior Group
DESCRIPTION:ZOOM
URL:https://uuspokane.org/event/lgbtq-senior-group-2-2/2027-03-19/
LOCATION:ZOOM
CATEGORIES:Meeting
ORGANIZER;CN="Nancy Avery":MAILTO:NancyTavery@comcast.net
END:VEVENT
BEGIN:VEVENT
DTSTART;TZID=America/Los_Angeles:20270320T100000
DTEND;TZID=America/Los_Angeles:20270320T120000
DTSTAMP:20260424T062551
CREATED:20260217T231342Z
LAST-MODIFIED:20260217T231342Z
UID:10002705-1805536800-1805544000@uuspokane.org
SUMMARY:NAUA Monthly Service - ZOOM Only
DESCRIPTION:
URL:https://uuspokane.org/event/naua-monthly-service-zoom-only-2/2027-03-20/
LOCATION:Private Zoom
CATEGORIES:Worship Service
ORGANIZER;CN="Roy Dickerson":MAILTO:info@naunitarians.org
END:VEVENT
BEGIN:VEVENT
DTSTART;TZID=America/Los_Angeles:20270321T091500
DTEND;TZID=America/Los_Angeles:20270321T101500
DTSTAMP:20260424T062551
CREATED:20250924T193716Z
LAST-MODIFIED:20250925T235209Z
UID:10000844-1805620500-1805624100@uuspokane.org
SUMMARY:Sunday Worship
DESCRIPTION:Live Stream Available
URL:https://uuspokane.org/event/sunday-worship/2027-03-21/
LOCATION:Sanctuary
CATEGORIES:Worship Service
END:VEVENT
BEGIN:VEVENT
DTSTART;TZID=America/Los_Angeles:20270321T110000
DTEND;TZID=America/Los_Angeles:20270321T120000
DTSTAMP:20260424T062551
CREATED:20250924T193853Z
LAST-MODIFIED:20250925T235352Z
UID:10001105-1805626800-1805630400@uuspokane.org
SUMMARY:Sunday Worship
DESCRIPTION:Live Stream Available
URL:https://uuspokane.org/event/sunday-worship-2/2027-03-21/
LOCATION:Sanctuary
CATEGORIES:Worship Service
END:VEVENT
BEGIN:VEVENT
DTSTART;TZID=America/Los_Angeles:20270321T110000
DTEND;TZID=America/Los_Angeles:20270321T121500
DTSTAMP:20260424T062551
CREATED:20250924T194449Z
LAST-MODIFIED:20250925T235502Z
UID:10001366-1805626800-1805631300@uuspokane.org
SUMMARY:Childcare for Sunday Services
DESCRIPTION:
URL:https://uuspokane.org/event/childcare-for-sunday-services/2027-03-21/
LOCATION:Channing Room (Nursery)
CATEGORIES:Childcare
END:VEVENT
BEGIN:VEVENT
DTSTART;TZID=America/Los_Angeles:20270321T123000
DTEND;TZID=America/Los_Angeles:20270321T140000
DTSTAMP:20260424T062551
CREATED:20260204T193727Z
LAST-MODIFIED:20260204T193727Z
UID:10003136-1805632200-1805637600@uuspokane.org
SUMMARY:Church Potluck
DESCRIPTION:
URL:https://uuspokane.org/event/church-potluck-5/2027-03-21/
LOCATION:Friendship Hall
CATEGORIES:Fellowship
END:VEVENT
BEGIN:VEVENT
DTSTART;TZID=America/Los_Angeles:20270322T183000
DTEND;TZID=America/Los_Angeles:20270322T200000
DTSTAMP:20260424T062551
CREATED:20250924T194849Z
LAST-MODIFIED:20250924T194849Z
UID:10001888-1805740200-1805745600@uuspokane.org
SUMMARY:Meditation Group
DESCRIPTION:Buddhist Meditation – Sravasti Abbey
URL:https://uuspokane.org/event/meditation-group/2027-03-22/
LOCATION:Private Zoom
CATEGORIES:Meditation
END:VEVENT
BEGIN:VEVENT
DTSTART;TZID=America/Los_Angeles:20270324T150000
DTEND;TZID=America/Los_Angeles:20270324T150000
DTSTAMP:20260424T062551
CREATED:20250924T191050Z
LAST-MODIFIED:20250924T191050Z
UID:10000141-1805900400-1805900400@uuspokane.org
SUMMARY:Weekly SUUN Submission Deadline
DESCRIPTION:
URL:https://uuspokane.org/event/weekly-suun-submission-deadline/2027-03-24/
CATEGORIES:Other
END:VEVENT
BEGIN:VEVENT
DTSTART;TZID=America/Los_Angeles:20270324T160000
DTEND;TZID=America/Los_Angeles:20270324T173000
DTSTAMP:20260424T062551
CREATED:20251204T221746Z
LAST-MODIFIED:20251204T221844Z
UID:10003800-1805904000-1805909400@uuspokane.org
SUMMARY:Board of Trustees Meeting
DESCRIPTION:
URL:https://uuspokane.org/event/board-of-trustees-meeting-2/2027-03-24/
LOCATION:RE Zoom Account
CATEGORIES:Meeting
END:VEVENT
BEGIN:VEVENT
DTSTART;TZID=America/Los_Angeles:20270325T160000
DTEND;TZID=America/Los_Angeles:20270325T170000
DTSTAMP:20260424T062551
CREATED:20250924T192847Z
LAST-MODIFIED:20250924T192920Z
UID:10000403-1805990400-1805994000@uuspokane.org
SUMMARY:Endowment Team Meeting
DESCRIPTION:Zoom
URL:https://uuspokane.org/event/endowment-team-meeting/2027-03-25/
LOCATION:ZOOM
CATEGORIES:Meeting
END:VEVENT
END:VCALENDAR