BEGIN:VCALENDAR
VERSION:2.0
PRODID:-//Unitarian Universalist Church of Spokane - ECPv6.15.20//NONSGML v1.0//EN
CALSCALE:GREGORIAN
METHOD:PUBLISH
X-ORIGINAL-URL:https://uuspokane.org
X-WR-CALDESC:Events for Unitarian Universalist Church of Spokane
REFRESH-INTERVAL;VALUE=DURATION:PT1H
X-Robots-Tag:noindex
X-PUBLISHED-TTL:PT1H
BEGIN:VTIMEZONE
TZID:America/Los_Angeles
BEGIN:DAYLIGHT
TZOFFSETFROM:-0800
TZOFFSETTO:-0700
TZNAME:PDT
DTSTART:20250309T100000
END:DAYLIGHT
BEGIN:STANDARD
TZOFFSETFROM:-0700
TZOFFSETTO:-0800
TZNAME:PST
DTSTART:20251102T090000
END:STANDARD
BEGIN:DAYLIGHT
TZOFFSETFROM:-0800
TZOFFSETTO:-0700
TZNAME:PDT
DTSTART:20260308T100000
END:DAYLIGHT
BEGIN:STANDARD
TZOFFSETFROM:-0700
TZOFFSETTO:-0800
TZNAME:PST
DTSTART:20261101T090000
END:STANDARD
BEGIN:DAYLIGHT
TZOFFSETFROM:-0800
TZOFFSETTO:-0700
TZNAME:PDT
DTSTART:20270314T100000
END:DAYLIGHT
BEGIN:STANDARD
TZOFFSETFROM:-0700
TZOFFSETTO:-0800
TZNAME:PST
DTSTART:20271107T090000
END:STANDARD
END:VTIMEZONE
BEGIN:VEVENT
DTSTART;TZID=America/Los_Angeles:20260413T183000
DTEND;TZID=America/Los_Angeles:20260413T200000
DTSTAMP:20260423T141039
CREATED:20250924T194849Z
LAST-MODIFIED:20250924T194849Z
UID:10001839-1776105000-1776110400@uuspokane.org
SUMMARY:Meditation Group
DESCRIPTION:Buddhist Meditation – Sravasti Abbey
URL:https://uuspokane.org/event/meditation-group/2026-04-13/
LOCATION:Private Zoom
CATEGORIES:Meditation
END:VEVENT
BEGIN:VEVENT
DTSTART;TZID=America/Los_Angeles:20260412T130000
DTEND;TZID=America/Los_Angeles:20260412T160000
DTSTAMP:20260423T141039
CREATED:20250925T174023Z
LAST-MODIFIED:20250925T174023Z
UID:10002814-1775998800-1776009600@uuspokane.org
SUMMARY:Spokane Handweaver's Guild
DESCRIPTION:
URL:https://uuspokane.org/event/spokane-handweavers-guild/2026-04-12/
LOCATION:Thoreau Room
CATEGORIES:Private Event
END:VEVENT
BEGIN:VEVENT
DTSTART;TZID=America/Los_Angeles:20260412T123000
DTEND;TZID=America/Los_Angeles:20260412T133000
DTSTAMP:20260423T141039
CREATED:20251120T162222Z
LAST-MODIFIED:20251120T162222Z
UID:10002754-1775997000-1776000600@uuspokane.org
SUMMARY:Poetry Sharing Circle
DESCRIPTION:Have you ever stumbled upon a poem — whether found in a book\, heard in passing\, or written yourself — that felt too meaningful to keep to yourself? Our Poetry Sharing Circle is a gentle\, welcoming hour created just for that. \nThis is not a workshop\, class\, or writers’ critique group. Instead\, it’s a simple in-person gathering where we come together to share poems that move us\, comfort us\, surprise us\, or make us think. Bring a poem you love and a few words about why it speaks to you — or simply come to listen and enjoy the company of others who appreciate the magic of poetry. \nNo pressure … no preparation … no expectations. \nJust people\, poems\, and a peaceful moment in community.
URL:https://uuspokane.org/event/poetry-sharing-circle-2/2026-04-12/
LOCATION:Chapel
CATEGORIES:Adult Enrichment
ORGANIZER;CN="Lynn Jinishian":MAILTO:jinishian@comcast.net
END:VEVENT
BEGIN:VEVENT
DTSTART;TZID=America/Los_Angeles:20260412T110000
DTEND;TZID=America/Los_Angeles:20260412T121500
DTSTAMP:20260423T141039
CREATED:20250924T194449Z
LAST-MODIFIED:20250925T235502Z
UID:10001317-1775991600-1775996100@uuspokane.org
SUMMARY:Childcare for Sunday Services
DESCRIPTION:
URL:https://uuspokane.org/event/childcare-for-sunday-services/2026-04-12/
LOCATION:Channing Room (Nursery)
CATEGORIES:Childcare
END:VEVENT
BEGIN:VEVENT
DTSTART;TZID=America/Los_Angeles:20260412T110000
DTEND;TZID=America/Los_Angeles:20260412T120000
DTSTAMP:20260423T141039
CREATED:20250924T193853Z
LAST-MODIFIED:20250925T235352Z
UID:10001056-1775991600-1775995200@uuspokane.org
SUMMARY:Sunday Worship
DESCRIPTION:Live Stream Available
URL:https://uuspokane.org/event/sunday-worship-2/2026-04-12/
LOCATION:Sanctuary
CATEGORIES:Worship Service
END:VEVENT
BEGIN:VEVENT
DTSTART;TZID=America/Los_Angeles:20260412T091500
DTEND;TZID=America/Los_Angeles:20260412T101500
DTSTAMP:20260423T141039
CREATED:20250924T193716Z
LAST-MODIFIED:20250925T235209Z
UID:10000795-1775985300-1775988900@uuspokane.org
SUMMARY:Sunday Worship
DESCRIPTION:Live Stream Available
URL:https://uuspokane.org/event/sunday-worship/2026-04-12/
LOCATION:Sanctuary
CATEGORIES:Worship Service
END:VEVENT
BEGIN:VEVENT
DTSTART;TZID=America/Los_Angeles:20260411T113000
DTEND;TZID=America/Los_Angeles:20260411T140000
DTSTAMP:20260423T141039
CREATED:20260204T203641Z
LAST-MODIFIED:20260204T203641Z
UID:10002513-1775907000-1775916000@uuspokane.org
SUMMARY:LGBTQ+ Seniors of the Inland Northwest Potluck
DESCRIPTION:Join us for food\, fellowship and conversation.
URL:https://uuspokane.org/event/lgbtq-seniors-of-the-inland-northwest-potluck-2/2026-04-11/
LOCATION:Friendship Hall
CATEGORIES:Other
ORGANIZER;CN="Nancy Avery":MAILTO:NancyTavery@comcast.net
END:VEVENT
BEGIN:VEVENT
DTSTART;TZID=America/Los_Angeles:20260411T083000
DTEND;TZID=America/Los_Angeles:20260411T103000
DTSTAMP:20260423T141039
CREATED:20250925T172416Z
LAST-MODIFIED:20251001T030203Z
UID:10002453-1775896200-1775903400@uuspokane.org
SUMMARY:UU Men's Group at Rockwood Retirement
DESCRIPTION:Please join us for breakfast and conversation in the Livingston Dining Area of the Summit building at the Rockwood South Hill Retirement Community \n\nQuestions? Contact Tom Mosher at 509-220-1879. \nTake me to a map of the location.
URL:https://uuspokane.org/event/uu-mens-group-at-rockwood-retirement/2026-04-11/
LOCATION:Offsite
CATEGORIES:Fellowship
END:VEVENT
BEGIN:VEVENT
DTSTART;TZID=America/Los_Angeles:20260410T160000
DTEND;TZID=America/Los_Angeles:20260410T210000
DTSTAMP:20260423T141039
CREATED:20251008T171357Z
LAST-MODIFIED:20260319T175459Z
UID:10003446-1775836800-1775854800@uuspokane.org
SUMMARY:Blues Brews and BBQ
DESCRIPTION:Enjoy an afternoon and evening of Blues\, Brews\, and BBQ at the Unitarian Universalist Church of Spokane. \nLyle Morse\, local Blues sensation\, will provide his sensational Blues guitar and vocals\, followed by a BBQ dinner of Longhorn BBQ pork with sides. Dinner will be served at 6:00 p.m. \nWe’ll also be serving snacks\, non-alcoholic drinks\, wine and beer. The beer is proudly provided by Aslan Brewing (Bellingham\, WA)\, an award-winning brewery offering a wide selection of organic beers. Aslan is co-owned and operated by Layne Carter. \nTickets are $30.00 each. Take me to the UUCS donation page to purchase tickets.
URL:https://uuspokane.org/event/blues-brews-and-bbq/
LOCATION:Friendship Hall
CATEGORIES:Auction Item
ORGANIZER;CN="Nancy Avery":MAILTO:NancyTavery@comcast.net
END:VEVENT
BEGIN:VEVENT
DTSTART;TZID=America/Los_Angeles:20260410T160000
DTEND;TZID=America/Los_Angeles:20260410T173000
DTSTAMP:20260423T141039
CREATED:20260402T154326Z
LAST-MODIFIED:20260402T154327Z
UID:10000533-1775836800-1775842200@uuspokane.org
SUMMARY:LGBTQ+ Senior Group
DESCRIPTION:ZOOM
URL:https://uuspokane.org/event/lgbtq-senior-group-2/2026-04-10/
LOCATION:ZOOM
CATEGORIES:Meeting
END:VEVENT
BEGIN:VEVENT
DTSTART;TZID=America/Los_Angeles:20260410T110000
DTEND;TZID=America/Los_Angeles:20260410T160000
DTSTAMP:20260423T141039
CREATED:20251008T171502Z
LAST-MODIFIED:20251008T171502Z
UID:10003447-1775818800-1775836800@uuspokane.org
SUMMARY:BBB Set Up
DESCRIPTION:
URL:https://uuspokane.org/event/bbb-set-up/
LOCATION:Friendship Hall
CATEGORIES:Event Set Up
ORGANIZER;CN="Nancy Avery":MAILTO:NancyTavery@comcast.net
END:VEVENT
BEGIN:VEVENT
DTSTART;TZID=America/Los_Angeles:20260409T140000
DTEND;TZID=America/Los_Angeles:20260409T160000
DTSTAMP:20260423T141039
CREATED:20260325T173759Z
LAST-MODIFIED:20260325T173759Z
UID:10004298-1775743200-1775750400@uuspokane.org
SUMMARY:BBB Set Up
DESCRIPTION:
URL:https://uuspokane.org/event/bbb-set-up-2/
LOCATION:Friendship Hall
CATEGORIES:Event Set Up
END:VEVENT
BEGIN:VEVENT
DTSTART;TZID=America/Los_Angeles:20260409T100000
DTEND;TZID=America/Los_Angeles:20260409T120000
DTSTAMP:20260423T141039
CREATED:20260217T190138Z
LAST-MODIFIED:20260217T190138Z
UID:10004004-1775728800-1775736000@uuspokane.org
SUMMARY:Election Coalition Team- Spokane Indivisible
DESCRIPTION:
URL:https://uuspokane.org/event/election-coalition-team-spokane-indivisible/2026-04-09/
LOCATION:Thoreau Room
CATEGORIES:Social Justice
END:VEVENT
BEGIN:VEVENT
DTSTART;TZID=America/Los_Angeles:20260408T150000
DTEND;TZID=America/Los_Angeles:20260408T150000
DTSTAMP:20260423T141039
CREATED:20250924T191050Z
LAST-MODIFIED:20250924T191050Z
UID:10000091-1775660400-1775660400@uuspokane.org
SUMMARY:Weekly SUUN Submission Deadline
DESCRIPTION:
URL:https://uuspokane.org/event/weekly-suun-submission-deadline/2026-04-08/
CATEGORIES:Other
END:VEVENT
BEGIN:VEVENT
DTSTART;TZID=America/Los_Angeles:20260408T113000
DTEND;TZID=America/Los_Angeles:20260408T123000
DTSTAMP:20260423T141039
CREATED:20260401T043328Z
LAST-MODIFIED:20260401T043753Z
UID:10002392-1775647800-1775651400@uuspokane.org
SUMMARY:UU Women 2nd Wednesday Lunch - Emran Restaurant & Market
DESCRIPTION:UU Women dined at Emran shortly after the restaurant opened. None of the items on the menu were familiar to us but they were all tasty. See the reviews. Please join with us in another dining adventure. RSVP to Jan Wingenroth at jan_dennis@msn.com. \n  \nTake me to a map of the location.
URL:https://uuspokane.org/event/uu-women-2nd-wednesday-lunch-7/
LOCATION:Offsite
CATEGORIES:Fellowship
ORGANIZER;CN="Jan Wingeroth":MAILTO:jan_dennis@msn.com
END:VEVENT
BEGIN:VEVENT
DTSTART;TZID=America/Los_Angeles:20260407T180000
DTEND;TZID=America/Los_Angeles:20260407T193000
DTSTAMP:20260423T141039
CREATED:20260107T233950Z
LAST-MODIFIED:20260107T234217Z
UID:10003869-1775584800-1775590200@uuspokane.org
SUMMARY:Choir Rehearsal
DESCRIPTION:
URL:https://uuspokane.org/event/choir-rehearsal-5/2026-04-07/
LOCATION:Sanctuary
CATEGORIES:Choir Rehearsal
END:VEVENT
BEGIN:VEVENT
DTSTART;TZID=America/Los_Angeles:20260406T183000
DTEND;TZID=America/Los_Angeles:20260406T200000
DTSTAMP:20260423T141039
CREATED:20250924T194849Z
LAST-MODIFIED:20250924T194849Z
UID:10001838-1775500200-1775505600@uuspokane.org
SUMMARY:Meditation Group
DESCRIPTION:Buddhist Meditation – Sravasti Abbey
URL:https://uuspokane.org/event/meditation-group/2026-04-06/
LOCATION:Private Zoom
CATEGORIES:Meditation
END:VEVENT
BEGIN:VEVENT
DTSTART;TZID=America/Los_Angeles:20260405T110000
DTEND;TZID=America/Los_Angeles:20260405T121500
DTSTAMP:20260423T141039
CREATED:20250924T194449Z
LAST-MODIFIED:20250925T235502Z
UID:10001316-1775386800-1775391300@uuspokane.org
SUMMARY:Childcare for Sunday Services
DESCRIPTION:
URL:https://uuspokane.org/event/childcare-for-sunday-services/2026-04-05/
LOCATION:Channing Room (Nursery)
CATEGORIES:Childcare
END:VEVENT
BEGIN:VEVENT
DTSTART;TZID=America/Los_Angeles:20260405T110000
DTEND;TZID=America/Los_Angeles:20260405T120000
DTSTAMP:20260423T141039
CREATED:20250924T193853Z
LAST-MODIFIED:20250925T235352Z
UID:10001055-1775386800-1775390400@uuspokane.org
SUMMARY:Sunday Worship
DESCRIPTION:Live Stream Available
URL:https://uuspokane.org/event/sunday-worship-2/2026-04-05/
LOCATION:Sanctuary
CATEGORIES:Worship Service
END:VEVENT
BEGIN:VEVENT
DTSTART;TZID=America/Los_Angeles:20260405T091500
DTEND;TZID=America/Los_Angeles:20260405T101500
DTSTAMP:20260423T141039
CREATED:20250924T193716Z
LAST-MODIFIED:20250925T235209Z
UID:10000794-1775380500-1775384100@uuspokane.org
SUMMARY:Sunday Worship
DESCRIPTION:Live Stream Available
URL:https://uuspokane.org/event/sunday-worship/2026-04-05/
LOCATION:Sanctuary
CATEGORIES:Worship Service
END:VEVENT
BEGIN:VEVENT
DTSTART;TZID=America/Los_Angeles:20260404T160000
DTEND;TZID=America/Los_Angeles:20260404T213000
DTSTAMP:20260423T141039
CREATED:20260324T233110Z
LAST-MODIFIED:20260324T233541Z
UID:10002324-1775318400-1775338200@uuspokane.org
SUMMARY:INWBMA Meeting
DESCRIPTION:Another exciting Bluegrass Showcase is coming up on here at the Church. The late Dr. Kirk Rowbotham’s band Poor Boys Delight starts the show at 6:30 p.m. Then at 7:30 we are thrilled to have back a wonderful singer-songwriter\, Patrice Webb and her group. Patrice has toured throughout the United States playing festivals such as the Seldovia Folk Festival in Alaska\, the Tucson Folk Festival in Arizona\, the Podunk Bluegrass Festival in Goshen\, Connecticut\, and the American River Music Festival in Coloma\, California. She has also played theaters and concert venues throughout the U.S. It all starts at 4:00 pm with jamming and snacks and Dan Gore as emcee.
URL:https://uuspokane.org/event/inwbma-meeting-2/
LOCATION:Sanctuary
CATEGORIES:Meeting
ORGANIZER;CN="Daniel Gore":MAILTO:danielcgore@msn.com
END:VEVENT
BEGIN:VEVENT
DTSTART;TZID=America/Los_Angeles:20260404T100000
DTEND;TZID=America/Los_Angeles:20260404T120000
DTSTAMP:20260423T141039
CREATED:20260126T194651Z
LAST-MODIFIED:20260126T194651Z
UID:10003981-1775296800-1775304000@uuspokane.org
SUMMARY:Spokane Indivisible Meeting
DESCRIPTION:
URL:https://uuspokane.org/event/spokane-indivisible-meeting/2026-04-04/
LOCATION:Potter Room
CATEGORIES:Social Justice
END:VEVENT
BEGIN:VEVENT
DTSTART;TZID=America/Los_Angeles:20260403T160000
DTEND;TZID=America/Los_Angeles:20260403T173000
DTSTAMP:20260423T141039
CREATED:20260402T154326Z
LAST-MODIFIED:20260402T154327Z
UID:10000532-1775232000-1775237400@uuspokane.org
SUMMARY:LGBTQ+ Senior Group
DESCRIPTION:ZOOM
URL:https://uuspokane.org/event/lgbtq-senior-group-2/2026-04-03/
LOCATION:ZOOM
CATEGORIES:Meeting
END:VEVENT
BEGIN:VEVENT
DTSTART;TZID=America/Los_Angeles:20260402T140000
DTEND;TZID=America/Los_Angeles:20260402T160000
DTSTAMP:20260423T141039
CREATED:20260122T180054Z
LAST-MODIFIED:20260122T180054Z
UID:10003907-1775138400-1775145600@uuspokane.org
SUMMARY:Retirement Group (closed meeting)
DESCRIPTION:
URL:https://uuspokane.org/event/retirement-group-closed-meeting-2/2026-04-02/
LOCATION:ZOOM
CATEGORIES:Meeting
END:VEVENT
BEGIN:VEVENT
DTSTART;TZID=America/Los_Angeles:20260402T100000
DTEND;TZID=America/Los_Angeles:20260402T120000
DTSTAMP:20260423T141039
CREATED:20260217T190138Z
LAST-MODIFIED:20260217T190138Z
UID:10004003-1775124000-1775131200@uuspokane.org
SUMMARY:Election Coalition Team- Spokane Indivisible
DESCRIPTION:
URL:https://uuspokane.org/event/election-coalition-team-spokane-indivisible/2026-04-02/
LOCATION:Thoreau Room
CATEGORIES:Social Justice
END:VEVENT
BEGIN:VEVENT
DTSTART;TZID=America/Los_Angeles:20260401T180000
DTEND;TZID=America/Los_Angeles:20260401T220000
DTSTAMP:20260423T141039
CREATED:20250925T165107Z
LAST-MODIFIED:20250925T165225Z
UID:10002138-1775066400-1775080800@uuspokane.org
SUMMARY:Spokane Camera Club
DESCRIPTION:
URL:https://uuspokane.org/event/spokane-camera-club/2026-04-01/
LOCATION:Friendship Hall
CATEGORIES:Meeting
END:VEVENT
BEGIN:VEVENT
DTSTART;TZID=America/Los_Angeles:20260401T150000
DTEND;TZID=America/Los_Angeles:20260401T150000
DTSTAMP:20260423T141039
CREATED:20250924T191050Z
LAST-MODIFIED:20250924T191050Z
UID:10000090-1775055600-1775055600@uuspokane.org
SUMMARY:Weekly SUUN Submission Deadline
DESCRIPTION:
URL:https://uuspokane.org/event/weekly-suun-submission-deadline/2026-04-01/
CATEGORIES:Other
END:VEVENT
BEGIN:VEVENT
DTSTART;TZID=America/Los_Angeles:20260401T140000
DTEND;TZID=America/Los_Angeles:20260401T160000
DTSTAMP:20260423T141039
CREATED:20250925T232509Z
LAST-MODIFIED:20250925T232509Z
UID:10003308-1775052000-1775059200@uuspokane.org
SUMMARY:Pastoral Care Team Planning Meeting
DESCRIPTION:
URL:https://uuspokane.org/event/pastoral-care-team-planning-meeting/2026-04-01/
LOCATION:ZOOM
CATEGORIES:Meeting
END:VEVENT
BEGIN:VEVENT
DTSTART;TZID=America/Los_Angeles:20260401T100000
DTEND;TZID=America/Los_Angeles:20260401T110000
DTSTAMP:20260423T141039
CREATED:20251203T172547Z
LAST-MODIFIED:20251203T172547Z
UID:10003667-1775037600-1775041200@uuspokane.org
SUMMARY:Staff Meeting
DESCRIPTION:
URL:https://uuspokane.org/event/staff-meeting/2026-04-01/
LOCATION:UUCS Office
CATEGORIES:Meeting
END:VEVENT
BEGIN:VEVENT
DTSTART;TZID=America/Los_Angeles:20260330T183000
DTEND;TZID=America/Los_Angeles:20260330T200000
DTSTAMP:20260423T141039
CREATED:20250924T194849Z
LAST-MODIFIED:20250924T194849Z
UID:10001837-1774895400-1774900800@uuspokane.org
SUMMARY:Meditation Group
DESCRIPTION:Buddhist Meditation – Sravasti Abbey
URL:https://uuspokane.org/event/meditation-group/2026-03-30/
LOCATION:Private Zoom
CATEGORIES:Meditation
END:VEVENT
END:VCALENDAR