BEGIN:VCALENDAR
VERSION:2.0
PRODID:-//Unitarian Universalist Church of Spokane - ECPv6.15.20//NONSGML v1.0//EN
CALSCALE:GREGORIAN
METHOD:PUBLISH
X-ORIGINAL-URL:https://uuspokane.org
X-WR-CALDESC:Events for Unitarian Universalist Church of Spokane
REFRESH-INTERVAL;VALUE=DURATION:PT1H
X-Robots-Tag:noindex
X-PUBLISHED-TTL:PT1H
BEGIN:VTIMEZONE
TZID:America/Los_Angeles
BEGIN:DAYLIGHT
TZOFFSETFROM:-0800
TZOFFSETTO:-0700
TZNAME:PDT
DTSTART:20250309T100000
END:DAYLIGHT
BEGIN:STANDARD
TZOFFSETFROM:-0700
TZOFFSETTO:-0800
TZNAME:PST
DTSTART:20251102T090000
END:STANDARD
BEGIN:DAYLIGHT
TZOFFSETFROM:-0800
TZOFFSETTO:-0700
TZNAME:PDT
DTSTART:20260308T100000
END:DAYLIGHT
BEGIN:STANDARD
TZOFFSETFROM:-0700
TZOFFSETTO:-0800
TZNAME:PST
DTSTART:20261101T090000
END:STANDARD
BEGIN:DAYLIGHT
TZOFFSETFROM:-0800
TZOFFSETTO:-0700
TZNAME:PDT
DTSTART:20270314T100000
END:DAYLIGHT
BEGIN:STANDARD
TZOFFSETFROM:-0700
TZOFFSETTO:-0800
TZNAME:PST
DTSTART:20271107T090000
END:STANDARD
END:VTIMEZONE
BEGIN:VEVENT
DTSTART;TZID=America/Los_Angeles:20261123T183000
DTEND;TZID=America/Los_Angeles:20261123T200000
DTSTAMP:20260424T031310
CREATED:20250924T194849Z
LAST-MODIFIED:20250924T194849Z
UID:10001871-1795458600-1795464000@uuspokane.org
SUMMARY:Meditation Group
DESCRIPTION:Buddhist Meditation – Sravasti Abbey
URL:https://uuspokane.org/event/meditation-group/2026-11-23/
LOCATION:Private Zoom
CATEGORIES:Meditation
END:VEVENT
BEGIN:VEVENT
DTSTART;TZID=America/Los_Angeles:20261125T100000
DTEND;TZID=America/Los_Angeles:20261125T120000
DTSTAMP:20260424T031310
CREATED:20260421T024544Z
LAST-MODIFIED:20260421T024544Z
UID:10000017-1795600800-1795608000@uuspokane.org
SUMMARY:Buildings & Grounds Coffee & Work
DESCRIPTION:A half hour for coffee and fellowship followed by 1.5 hours for small repairs\, cleaning or other odd jobs around the church. Anyone who has a little time to spare is most welcome. \n 
URL:https://uuspokane.org/event/buildings-grounds-coffee-work-4-2/2026-11-25/
LOCATION:Church Grounds
CATEGORIES:Facility Repair or Maintenance
ORGANIZER;CN="Julie Jose":MAILTO:josejj205@yahoo.com
END:VEVENT
BEGIN:VEVENT
DTSTART;TZID=America/Los_Angeles:20261125T150000
DTEND;TZID=America/Los_Angeles:20261125T150000
DTSTAMP:20260424T031310
CREATED:20250924T191050Z
LAST-MODIFIED:20250924T191050Z
UID:10000124-1795618800-1795618800@uuspokane.org
SUMMARY:Weekly SUUN Submission Deadline
DESCRIPTION:
URL:https://uuspokane.org/event/weekly-suun-submission-deadline/2026-11-25/
CATEGORIES:Other
END:VEVENT
BEGIN:VEVENT
DTSTART;TZID=America/Los_Angeles:20261125T160000
DTEND;TZID=America/Los_Angeles:20261125T173000
DTSTAMP:20260424T031310
CREATED:20251204T221746Z
LAST-MODIFIED:20251204T221844Z
UID:10003796-1795622400-1795627800@uuspokane.org
SUMMARY:Board of Trustees Meeting
DESCRIPTION:
URL:https://uuspokane.org/event/board-of-trustees-meeting-2/2026-11-25/
LOCATION:RE Zoom Account
CATEGORIES:Meeting
END:VEVENT
BEGIN:VEVENT
DTSTART;TZID=America/Los_Angeles:20261126T160000
DTEND;TZID=America/Los_Angeles:20261126T170000
DTSTAMP:20260424T031310
CREATED:20250924T192847Z
LAST-MODIFIED:20250924T192920Z
UID:10000399-1795708800-1795712400@uuspokane.org
SUMMARY:Endowment Team Meeting
DESCRIPTION:Zoom
URL:https://uuspokane.org/event/endowment-team-meeting/2026-11-26/
LOCATION:ZOOM
CATEGORIES:Meeting
END:VEVENT
BEGIN:VEVENT
DTSTART;TZID=America/Los_Angeles:20261126T160000
DTEND;TZID=America/Los_Angeles:20261126T180000
DTSTAMP:20260424T031310
CREATED:20250924T193145Z
LAST-MODIFIED:20250924T193145Z
UID:10000459-1795708800-1795716000@uuspokane.org
SUMMARY:LGBTQ+ Seniors Steering Committee Meeting
DESCRIPTION:ZOOM
URL:https://uuspokane.org/event/lgbtq-seniors-steering-committee-meeting/2026-11-26/
LOCATION:RE Zoom Account
CATEGORIES:Meeting
END:VEVENT
BEGIN:VEVENT
DTSTART;TZID=America/Los_Angeles:20261127T160000
DTEND;TZID=America/Los_Angeles:20261127T173000
DTSTAMP:20260424T031310
CREATED:20260414T155358Z
LAST-MODIFIED:20260414T155358Z
UID:10000566-1795795200-1795800600@uuspokane.org
SUMMARY:LGBTQ+ Senior Group
DESCRIPTION:ZOOM
URL:https://uuspokane.org/event/lgbtq-senior-group-2-2/2026-11-27/
LOCATION:ZOOM
CATEGORIES:Meeting
ORGANIZER;CN="Nancy Avery":MAILTO:NancyTavery@comcast.net
END:VEVENT
BEGIN:VEVENT
DTSTART;TZID=America/Los_Angeles:20261129T091500
DTEND;TZID=America/Los_Angeles:20261129T101500
DTSTAMP:20260424T031310
CREATED:20250924T193716Z
LAST-MODIFIED:20250925T235209Z
UID:10000828-1795943700-1795947300@uuspokane.org
SUMMARY:Sunday Worship
DESCRIPTION:Live Stream Available
URL:https://uuspokane.org/event/sunday-worship/2026-11-29/
LOCATION:Sanctuary
CATEGORIES:Worship Service
END:VEVENT
BEGIN:VEVENT
DTSTART;TZID=America/Los_Angeles:20261129T110000
DTEND;TZID=America/Los_Angeles:20261129T120000
DTSTAMP:20260424T031310
CREATED:20250924T193853Z
LAST-MODIFIED:20250925T235352Z
UID:10001089-1795950000-1795953600@uuspokane.org
SUMMARY:Sunday Worship
DESCRIPTION:Live Stream Available
URL:https://uuspokane.org/event/sunday-worship-2/2026-11-29/
LOCATION:Sanctuary
CATEGORIES:Worship Service
END:VEVENT
BEGIN:VEVENT
DTSTART;TZID=America/Los_Angeles:20261129T110000
DTEND;TZID=America/Los_Angeles:20261129T121500
DTSTAMP:20260424T031310
CREATED:20250924T194449Z
LAST-MODIFIED:20250925T235502Z
UID:10001350-1795950000-1795954500@uuspokane.org
SUMMARY:Childcare for Sunday Services
DESCRIPTION:
URL:https://uuspokane.org/event/childcare-for-sunday-services/2026-11-29/
LOCATION:Channing Room (Nursery)
CATEGORIES:Childcare
END:VEVENT
BEGIN:VEVENT
DTSTART;TZID=America/Los_Angeles:20261130T183000
DTEND;TZID=America/Los_Angeles:20261130T200000
DTSTAMP:20260424T031310
CREATED:20250924T194849Z
LAST-MODIFIED:20250924T194849Z
UID:10001872-1796063400-1796068800@uuspokane.org
SUMMARY:Meditation Group
DESCRIPTION:Buddhist Meditation – Sravasti Abbey
URL:https://uuspokane.org/event/meditation-group/2026-11-30/
LOCATION:Private Zoom
CATEGORIES:Meditation
END:VEVENT
BEGIN:VEVENT
DTSTART;TZID=America/Los_Angeles:20261202T100000
DTEND;TZID=America/Los_Angeles:20261202T110000
DTSTAMP:20260424T031310
CREATED:20251203T172547Z
LAST-MODIFIED:20251203T172547Z
UID:10003675-1796205600-1796209200@uuspokane.org
SUMMARY:Staff Meeting
DESCRIPTION:
URL:https://uuspokane.org/event/staff-meeting/2026-12-02/
LOCATION:UUCS Office
CATEGORIES:Meeting
END:VEVENT
BEGIN:VEVENT
DTSTART;TZID=America/Los_Angeles:20261202T140000
DTEND;TZID=America/Los_Angeles:20261202T160000
DTSTAMP:20260424T031310
CREATED:20250925T232509Z
LAST-MODIFIED:20250925T232509Z
UID:10003316-1796220000-1796227200@uuspokane.org
SUMMARY:Pastoral Care Team Planning Meeting
DESCRIPTION:
URL:https://uuspokane.org/event/pastoral-care-team-planning-meeting/2026-12-02/
LOCATION:ZOOM
CATEGORIES:Meeting
END:VEVENT
BEGIN:VEVENT
DTSTART;TZID=America/Los_Angeles:20261202T150000
DTEND;TZID=America/Los_Angeles:20261202T150000
DTSTAMP:20260424T031310
CREATED:20250924T191050Z
LAST-MODIFIED:20250924T191050Z
UID:10000125-1796223600-1796223600@uuspokane.org
SUMMARY:Weekly SUUN Submission Deadline
DESCRIPTION:
URL:https://uuspokane.org/event/weekly-suun-submission-deadline/2026-12-02/
CATEGORIES:Other
END:VEVENT
BEGIN:VEVENT
DTSTART;TZID=America/Los_Angeles:20261203T140000
DTEND;TZID=America/Los_Angeles:20261203T160000
DTSTAMP:20260424T031310
CREATED:20260122T180054Z
LAST-MODIFIED:20260122T180054Z
UID:10003915-1796306400-1796313600@uuspokane.org
SUMMARY:Retirement Group (closed meeting)
DESCRIPTION:
URL:https://uuspokane.org/event/retirement-group-closed-meeting-2/2026-12-03/
LOCATION:ZOOM
CATEGORIES:Meeting
END:VEVENT
BEGIN:VEVENT
DTSTART;TZID=America/Los_Angeles:20261204T160000
DTEND;TZID=America/Los_Angeles:20261204T173000
DTSTAMP:20260424T031310
CREATED:20260414T155358Z
LAST-MODIFIED:20260414T155358Z
UID:10000567-1796400000-1796405400@uuspokane.org
SUMMARY:LGBTQ+ Senior Group
DESCRIPTION:ZOOM
URL:https://uuspokane.org/event/lgbtq-senior-group-2-2/2026-12-04/
LOCATION:ZOOM
CATEGORIES:Meeting
ORGANIZER;CN="Nancy Avery":MAILTO:NancyTavery@comcast.net
END:VEVENT
BEGIN:VEVENT
DTSTART;TZID=America/Los_Angeles:20261206T091500
DTEND;TZID=America/Los_Angeles:20261206T101500
DTSTAMP:20260424T031310
CREATED:20250924T193716Z
LAST-MODIFIED:20250925T235209Z
UID:10000829-1796548500-1796552100@uuspokane.org
SUMMARY:Sunday Worship
DESCRIPTION:Live Stream Available
URL:https://uuspokane.org/event/sunday-worship/2026-12-06/
LOCATION:Sanctuary
CATEGORIES:Worship Service
END:VEVENT
BEGIN:VEVENT
DTSTART;TZID=America/Los_Angeles:20261206T110000
DTEND;TZID=America/Los_Angeles:20261206T120000
DTSTAMP:20260424T031310
CREATED:20250924T193853Z
LAST-MODIFIED:20250925T235352Z
UID:10001090-1796554800-1796558400@uuspokane.org
SUMMARY:Sunday Worship
DESCRIPTION:Live Stream Available
URL:https://uuspokane.org/event/sunday-worship-2/2026-12-06/
LOCATION:Sanctuary
CATEGORIES:Worship Service
END:VEVENT
BEGIN:VEVENT
DTSTART;TZID=America/Los_Angeles:20261206T110000
DTEND;TZID=America/Los_Angeles:20261206T121500
DTSTAMP:20260424T031310
CREATED:20250924T194449Z
LAST-MODIFIED:20250925T235502Z
UID:10001351-1796554800-1796559300@uuspokane.org
SUMMARY:Childcare for Sunday Services
DESCRIPTION:
URL:https://uuspokane.org/event/childcare-for-sunday-services/2026-12-06/
LOCATION:Channing Room (Nursery)
CATEGORIES:Childcare
END:VEVENT
BEGIN:VEVENT
DTSTART;TZID=America/Los_Angeles:20261207T183000
DTEND;TZID=America/Los_Angeles:20261207T200000
DTSTAMP:20260424T031310
CREATED:20250924T194849Z
LAST-MODIFIED:20250924T194849Z
UID:10001873-1796668200-1796673600@uuspokane.org
SUMMARY:Meditation Group
DESCRIPTION:Buddhist Meditation – Sravasti Abbey
URL:https://uuspokane.org/event/meditation-group/2026-12-07/
LOCATION:Private Zoom
CATEGORIES:Meditation
END:VEVENT
BEGIN:VEVENT
DTSTART;TZID=America/Los_Angeles:20261208T110000
DTEND;TZID=America/Los_Angeles:20261208T130000
DTSTAMP:20260424T031310
CREATED:20250925T173256Z
LAST-MODIFIED:20250925T173256Z
UID:10002582-1796727600-1796734800@uuspokane.org
SUMMARY:Ops Team Meeting
DESCRIPTION:
URL:https://uuspokane.org/event/ops-team-meeting/2026-12-08/
LOCATION:RE Zoom Account
CATEGORIES:Meeting
END:VEVENT
BEGIN:VEVENT
DTSTART;TZID=America/Los_Angeles:20261208T160000
DTEND;TZID=America/Los_Angeles:20261208T170000
DTSTAMP:20260424T031310
CREATED:20260305T212112Z
LAST-MODIFIED:20260305T212112Z
UID:10004061-1796745600-1796749200@uuspokane.org
SUMMARY:Monthly Family Service Project - Teen & Kid Closet
DESCRIPTION:One of the reasons our church exists is to work for justice/live justly. Opportunities for children and youths to do this can feel limited\, but we have arranged for UUCS families to volunteer at Teen & Kid Closet. They do incredibly work for vulnerable children in Spokane — read more about them on their website. A parent/guardian is expected to stay with their child(ren) the entire session. \n  \nTake me to the registration page.
URL:https://uuspokane.org/event/monthly-family-service-project-teen-kid-closet-3/2026-12-08/
LOCATION:Offsite
CATEGORIES:RE Event
ORGANIZER;CN="Stephanie Gronholz":MAILTO:re@uuspokane.org
END:VEVENT
BEGIN:VEVENT
DTSTART;TZID=America/Los_Angeles:20261209T113000
DTEND;TZID=America/Los_Angeles:20261209T123000
DTSTAMP:20260424T031310
CREATED:20250925T172123Z
LAST-MODIFIED:20250930T175456Z
UID:10002400-1796815800-1796819400@uuspokane.org
SUMMARY:UU Women 2nd Wednesday Lunch
DESCRIPTION:Location varies
URL:https://uuspokane.org/event/uu-women-2nd-wednesday-lunch/2026-12-09/
LOCATION:Offsite
CATEGORIES:Fellowship
END:VEVENT
BEGIN:VEVENT
DTSTART;TZID=America/Los_Angeles:20261209T150000
DTEND;TZID=America/Los_Angeles:20261209T150000
DTSTAMP:20260424T031310
CREATED:20250924T191050Z
LAST-MODIFIED:20250924T191050Z
UID:10000126-1796828400-1796828400@uuspokane.org
SUMMARY:Weekly SUUN Submission Deadline
DESCRIPTION:
URL:https://uuspokane.org/event/weekly-suun-submission-deadline/2026-12-09/
CATEGORIES:Other
END:VEVENT
BEGIN:VEVENT
DTSTART;TZID=America/Los_Angeles:20261211T160000
DTEND;TZID=America/Los_Angeles:20261211T173000
DTSTAMP:20260424T031310
CREATED:20260414T155358Z
LAST-MODIFIED:20260414T155358Z
UID:10000568-1797004800-1797010200@uuspokane.org
SUMMARY:LGBTQ+ Senior Group
DESCRIPTION:ZOOM
URL:https://uuspokane.org/event/lgbtq-senior-group-2-2/2026-12-11/
LOCATION:ZOOM
CATEGORIES:Meeting
ORGANIZER;CN="Nancy Avery":MAILTO:NancyTavery@comcast.net
END:VEVENT
BEGIN:VEVENT
DTSTART;TZID=America/Los_Angeles:20261211T170000
DTEND;TZID=America/Los_Angeles:20261211T183000
DTSTAMP:20260424T031310
CREATED:20260305T213814Z
LAST-MODIFIED:20260305T213814Z
UID:10004178-1797008400-1797013800@uuspokane.org
SUMMARY:Meaningful Movies - Set Up
DESCRIPTION:
URL:https://uuspokane.org/event/meaningful-movies-set-up-2/2026-12-11/
LOCATION:Friendship Hall
CATEGORIES:Event Set Up,Social Justice
ORGANIZER;CN="Barb Stuebing":MAILTO:barbstuebing@gmail.com
END:VEVENT
BEGIN:VEVENT
DTSTART;TZID=America/Los_Angeles:20261211T180000
DTEND;TZID=America/Los_Angeles:20261211T210000
DTSTAMP:20260424T031310
CREATED:20251208T220636Z
LAST-MODIFIED:20260305T213645Z
UID:10004119-1797012000-1797022800@uuspokane.org
SUMMARY:Meaningful Movies
DESCRIPTION:
URL:https://uuspokane.org/event/meaningful-movies-4/2026-12-11/
LOCATION:Chapel
CATEGORIES:Social Justice
ORGANIZER;CN="Barb Stuebing":MAILTO:barbstuebing@gmail.com
END:VEVENT
BEGIN:VEVENT
DTSTART;TZID=America/Los_Angeles:20261211T210000
DTEND;TZID=America/Los_Angeles:20261211T220000
DTSTAMP:20260424T031310
CREATED:20260305T213857Z
LAST-MODIFIED:20260305T213857Z
UID:10004237-1797022800-1797026400@uuspokane.org
SUMMARY:Meaningful Movies - Cleanup
DESCRIPTION:
URL:https://uuspokane.org/event/meaningful-movies-cleanup-2/2026-12-11/
LOCATION:Chapel
CATEGORIES:Event Tear Down and Clean Up,Social Justice
ORGANIZER;CN="Barb Stuebing":MAILTO:barbstuebing@gmail.com
END:VEVENT
BEGIN:VEVENT
DTSTART;TZID=America/Los_Angeles:20261212T083000
DTEND;TZID=America/Los_Angeles:20261212T103000
DTSTAMP:20260424T031310
CREATED:20250925T172416Z
LAST-MODIFIED:20251001T030203Z
UID:10002461-1797064200-1797071400@uuspokane.org
SUMMARY:UU Men's Group at Rockwood Retirement
DESCRIPTION:Please join us for breakfast and conversation in the Livingston Dining Area of the Summit building at the Rockwood South Hill Retirement Community \n\nQuestions? Contact Tom Mosher at 509-220-1879. \nTake me to a map of the location.
URL:https://uuspokane.org/event/uu-mens-group-at-rockwood-retirement/2026-12-12/
LOCATION:Offsite
CATEGORIES:Fellowship
END:VEVENT
BEGIN:VEVENT
DTSTART;TZID=America/Los_Angeles:20261212T113000
DTEND;TZID=America/Los_Angeles:20261212T140000
DTSTAMP:20260424T031310
CREATED:20260204T203641Z
LAST-MODIFIED:20260204T203641Z
UID:10002521-1797075000-1797084000@uuspokane.org
SUMMARY:LGBTQ+ Seniors of the Inland Northwest Potluck
DESCRIPTION:Join us for food\, fellowship and conversation.
URL:https://uuspokane.org/event/lgbtq-seniors-of-the-inland-northwest-potluck-2/2026-12-12/
LOCATION:Friendship Hall
CATEGORIES:Other
ORGANIZER;CN="Nancy Avery":MAILTO:NancyTavery@comcast.net
END:VEVENT
END:VCALENDAR