BEGIN:VCALENDAR
VERSION:2.0
PRODID:-//Unitarian Universalist Church of Spokane - ECPv6.15.20//NONSGML v1.0//EN
CALSCALE:GREGORIAN
METHOD:PUBLISH
X-ORIGINAL-URL:https://uuspokane.org
X-WR-CALDESC:Events for Unitarian Universalist Church of Spokane
REFRESH-INTERVAL;VALUE=DURATION:PT1H
X-Robots-Tag:noindex
X-PUBLISHED-TTL:PT1H
BEGIN:VTIMEZONE
TZID:America/Los_Angeles
BEGIN:DAYLIGHT
TZOFFSETFROM:-0800
TZOFFSETTO:-0700
TZNAME:PDT
DTSTART:20250309T100000
END:DAYLIGHT
BEGIN:STANDARD
TZOFFSETFROM:-0700
TZOFFSETTO:-0800
TZNAME:PST
DTSTART:20251102T090000
END:STANDARD
BEGIN:DAYLIGHT
TZOFFSETFROM:-0800
TZOFFSETTO:-0700
TZNAME:PDT
DTSTART:20260308T100000
END:DAYLIGHT
BEGIN:STANDARD
TZOFFSETFROM:-0700
TZOFFSETTO:-0800
TZNAME:PST
DTSTART:20261101T090000
END:STANDARD
BEGIN:DAYLIGHT
TZOFFSETFROM:-0800
TZOFFSETTO:-0700
TZNAME:PDT
DTSTART:20270314T100000
END:DAYLIGHT
BEGIN:STANDARD
TZOFFSETFROM:-0700
TZOFFSETTO:-0800
TZNAME:PST
DTSTART:20271107T090000
END:STANDARD
END:VTIMEZONE
BEGIN:VEVENT
DTSTART;TZID=America/Los_Angeles:20260220T160000
DTEND;TZID=America/Los_Angeles:20260220T173000
DTSTAMP:20260423T210457
CREATED:20250924T193300Z
LAST-MODIFIED:20250924T193300Z
UID:10000526-1771603200-1771608600@uuspokane.org
SUMMARY:LGBTQ+ Senior Group
DESCRIPTION:ZOOM
URL:https://uuspokane.org/event/lgbtq-senior-group/2026-02-20/
LOCATION:RE Zoom Account
CATEGORIES:Meeting
END:VEVENT
BEGIN:VEVENT
DTSTART;TZID=America/Los_Angeles:20260221T100000
DTEND;TZID=America/Los_Angeles:20260221T120000
DTSTAMP:20260423T210457
CREATED:20260126T194217Z
LAST-MODIFIED:20260126T194217Z
UID:10003972-1771668000-1771675200@uuspokane.org
SUMMARY:Spokane Indivisible Meeting
DESCRIPTION:
URL:https://uuspokane.org/event/spokane-indivisible-meeting-2/2026-02-21/
LOCATION:Potter Room
CATEGORIES:Social Justice
END:VEVENT
BEGIN:VEVENT
DTSTART;TZID=America/Los_Angeles:20260221T100000
DTEND;TZID=America/Los_Angeles:20260221T120000
DTSTAMP:20260423T210457
CREATED:20260217T231342Z
LAST-MODIFIED:20260217T231342Z
UID:10002692-1771668000-1771675200@uuspokane.org
SUMMARY:NAUA Monthly Service - ZOOM Only
DESCRIPTION:
URL:https://uuspokane.org/event/naua-monthly-service-zoom-only-2/2026-02-21/
LOCATION:Private Zoom
CATEGORIES:Worship Service
ORGANIZER;CN="Roy Dickerson":MAILTO:info@naunitarians.org
END:VEVENT
BEGIN:VEVENT
DTSTART;TZID=America/Los_Angeles:20260222T091500
DTEND;TZID=America/Los_Angeles:20260222T101500
DTSTAMP:20260423T210457
CREATED:20250924T193716Z
LAST-MODIFIED:20250925T235209Z
UID:10000788-1771751700-1771755300@uuspokane.org
SUMMARY:Sunday Worship
DESCRIPTION:Live Stream Available
URL:https://uuspokane.org/event/sunday-worship/2026-02-22/
LOCATION:Sanctuary
CATEGORIES:Worship Service
END:VEVENT
BEGIN:VEVENT
DTSTART;TZID=America/Los_Angeles:20260222T110000
DTEND;TZID=America/Los_Angeles:20260222T120000
DTSTAMP:20260423T210457
CREATED:20250924T193853Z
LAST-MODIFIED:20250925T235352Z
UID:10001049-1771758000-1771761600@uuspokane.org
SUMMARY:Sunday Worship
DESCRIPTION:Live Stream Available
URL:https://uuspokane.org/event/sunday-worship-2/2026-02-22/
LOCATION:Sanctuary
CATEGORIES:Worship Service
END:VEVENT
BEGIN:VEVENT
DTSTART;TZID=America/Los_Angeles:20260222T110000
DTEND;TZID=America/Los_Angeles:20260222T121500
DTSTAMP:20260423T210457
CREATED:20250924T194449Z
LAST-MODIFIED:20250925T235502Z
UID:10001310-1771758000-1771762500@uuspokane.org
SUMMARY:Childcare for Sunday Services
DESCRIPTION:
URL:https://uuspokane.org/event/childcare-for-sunday-services/2026-02-22/
LOCATION:Channing Room (Nursery)
CATEGORIES:Childcare
END:VEVENT
BEGIN:VEVENT
DTSTART;TZID=America/Los_Angeles:20260222T123000
DTEND;TZID=America/Los_Angeles:20260222T153000
DTSTAMP:20260423T210457
CREATED:20260126T181517Z
LAST-MODIFIED:20260126T181517Z
UID:10003965-1771763400-1771774200@uuspokane.org
SUMMARY:Partner Church Baking Day
DESCRIPTION:
URL:https://uuspokane.org/event/partner-church-baking-day/
LOCATION:Friendship Hall
CATEGORIES:Other
END:VEVENT
BEGIN:VEVENT
DTSTART;TZID=America/Los_Angeles:20260223T183000
DTEND;TZID=America/Los_Angeles:20260223T200000
DTSTAMP:20260423T210457
CREATED:20250924T194849Z
LAST-MODIFIED:20250924T194849Z
UID:10001832-1771871400-1771876800@uuspokane.org
SUMMARY:Meditation Group
DESCRIPTION:Buddhist Meditation – Sravasti Abbey
URL:https://uuspokane.org/event/meditation-group/2026-02-23/
LOCATION:Private Zoom
CATEGORIES:Meditation
END:VEVENT
BEGIN:VEVENT
DTSTART;TZID=America/Los_Angeles:20260225T100000
DTEND;TZID=America/Los_Angeles:20260225T120000
DTSTAMP:20260423T210457
CREATED:20251118T171545Z
LAST-MODIFIED:20251118T171545Z
UID:10000008-1772013600-1772020800@uuspokane.org
SUMMARY:Buildings & Grounds Coffee & Work
DESCRIPTION:A half hour for coffee and fellowship followed by 1.5 hours for small repairs\, cleaning or other odd jobs around the church. Anyone who has a little time to spare is most welcome. \n 
URL:https://uuspokane.org/event/buildings-grounds-coffee-work-4/2026-02-25/
LOCATION:Church Grounds
CATEGORIES:Facility Repair or Maintenance
ORGANIZER;CN="Julie Jose":MAILTO:josejj205@yahoo.com
END:VEVENT
BEGIN:VEVENT
DTSTART;TZID=America/Los_Angeles:20260225T150000
DTEND;TZID=America/Los_Angeles:20260225T150000
DTSTAMP:20260423T210457
CREATED:20250924T191050Z
LAST-MODIFIED:20250924T191050Z
UID:10000085-1772031600-1772031600@uuspokane.org
SUMMARY:Weekly SUUN Submission Deadline
DESCRIPTION:
URL:https://uuspokane.org/event/weekly-suun-submission-deadline/2026-02-25/
CATEGORIES:Other
END:VEVENT
BEGIN:VEVENT
DTSTART;TZID=America/Los_Angeles:20260225T160000
DTEND;TZID=America/Los_Angeles:20260225T173000
DTSTAMP:20260423T210457
CREATED:20251204T221746Z
LAST-MODIFIED:20251204T221844Z
UID:10003787-1772035200-1772040600@uuspokane.org
SUMMARY:Board of Trustees Meeting
DESCRIPTION:
URL:https://uuspokane.org/event/board-of-trustees-meeting-2/2026-02-25/
LOCATION:RE Zoom Account
CATEGORIES:Meeting
END:VEVENT
BEGIN:VEVENT
DTSTART;TZID=America/Los_Angeles:20260226T100000
DTEND;TZID=America/Los_Angeles:20260226T120000
DTSTAMP:20260423T210457
CREATED:20260217T190138Z
LAST-MODIFIED:20260217T190138Z
UID:10003998-1772100000-1772107200@uuspokane.org
SUMMARY:Election Coalition Team- Spokane Indivisible
DESCRIPTION:
URL:https://uuspokane.org/event/election-coalition-team-spokane-indivisible/2026-02-26/
LOCATION:Thoreau Room
CATEGORIES:Social Justice
END:VEVENT
BEGIN:VEVENT
DTSTART;TZID=America/Los_Angeles:20260226T160000
DTEND;TZID=America/Los_Angeles:20260226T170000
DTSTAMP:20260423T210457
CREATED:20250924T192847Z
LAST-MODIFIED:20250924T192920Z
UID:10000390-1772121600-1772125200@uuspokane.org
SUMMARY:Endowment Team Meeting
DESCRIPTION:Zoom
URL:https://uuspokane.org/event/endowment-team-meeting/2026-02-26/
LOCATION:ZOOM
CATEGORIES:Meeting
END:VEVENT
BEGIN:VEVENT
DTSTART;TZID=America/Los_Angeles:20260226T160000
DTEND;TZID=America/Los_Angeles:20260226T180000
DTSTAMP:20260423T210457
CREATED:20250924T193145Z
LAST-MODIFIED:20250924T193145Z
UID:10000450-1772121600-1772128800@uuspokane.org
SUMMARY:LGBTQ+ Seniors Steering Committee Meeting
DESCRIPTION:ZOOM
URL:https://uuspokane.org/event/lgbtq-seniors-steering-committee-meeting/2026-02-26/
LOCATION:RE Zoom Account
CATEGORIES:Meeting
END:VEVENT
BEGIN:VEVENT
DTSTART;TZID=America/Los_Angeles:20260227T160000
DTEND;TZID=America/Los_Angeles:20260227T173000
DTSTAMP:20260423T210457
CREATED:20250924T193300Z
LAST-MODIFIED:20250924T193300Z
UID:10000527-1772208000-1772213400@uuspokane.org
SUMMARY:LGBTQ+ Senior Group
DESCRIPTION:ZOOM
URL:https://uuspokane.org/event/lgbtq-senior-group/2026-02-27/
LOCATION:RE Zoom Account
CATEGORIES:Meeting
END:VEVENT
BEGIN:VEVENT
DTSTART;TZID=America/Los_Angeles:20260301T091500
DTEND;TZID=America/Los_Angeles:20260301T101500
DTSTAMP:20260423T210457
CREATED:20250924T193716Z
LAST-MODIFIED:20250925T235209Z
UID:10000789-1772356500-1772360100@uuspokane.org
SUMMARY:Sunday Worship
DESCRIPTION:Live Stream Available
URL:https://uuspokane.org/event/sunday-worship/2026-03-01/
LOCATION:Sanctuary
CATEGORIES:Worship Service
END:VEVENT
BEGIN:VEVENT
DTSTART;TZID=America/Los_Angeles:20260301T110000
DTEND;TZID=America/Los_Angeles:20260301T120000
DTSTAMP:20260423T210457
CREATED:20250924T193853Z
LAST-MODIFIED:20250925T235352Z
UID:10001050-1772362800-1772366400@uuspokane.org
SUMMARY:Sunday Worship
DESCRIPTION:Live Stream Available
URL:https://uuspokane.org/event/sunday-worship-2/2026-03-01/
LOCATION:Sanctuary
CATEGORIES:Worship Service
END:VEVENT
BEGIN:VEVENT
DTSTART;TZID=America/Los_Angeles:20260301T110000
DTEND;TZID=America/Los_Angeles:20260301T121500
DTSTAMP:20260423T210457
CREATED:20250924T194449Z
LAST-MODIFIED:20250925T235502Z
UID:10001311-1772362800-1772367300@uuspokane.org
SUMMARY:Childcare for Sunday Services
DESCRIPTION:
URL:https://uuspokane.org/event/childcare-for-sunday-services/2026-03-01/
LOCATION:Channing Room (Nursery)
CATEGORIES:Childcare
END:VEVENT
BEGIN:VEVENT
DTSTART;TZID=America/Los_Angeles:20260302T183000
DTEND;TZID=America/Los_Angeles:20260302T200000
DTSTAMP:20260423T210457
CREATED:20250924T194849Z
LAST-MODIFIED:20250924T194849Z
UID:10001833-1772476200-1772481600@uuspokane.org
SUMMARY:Meditation Group
DESCRIPTION:Buddhist Meditation – Sravasti Abbey
URL:https://uuspokane.org/event/meditation-group/2026-03-02/
LOCATION:Private Zoom
CATEGORIES:Meditation
END:VEVENT
BEGIN:VEVENT
DTSTART;TZID=America/Los_Angeles:20260303T180000
DTEND;TZID=America/Los_Angeles:20260303T193000
DTSTAMP:20260423T210457
CREATED:20260107T233950Z
LAST-MODIFIED:20260107T234217Z
UID:10003868-1772560800-1772566200@uuspokane.org
SUMMARY:Choir Rehearsal
DESCRIPTION:
URL:https://uuspokane.org/event/choir-rehearsal-5/2026-03-03/
LOCATION:Sanctuary
CATEGORIES:Choir Rehearsal
END:VEVENT
BEGIN:VEVENT
DTSTART;TZID=America/Los_Angeles:20260303T180000
DTEND;TZID=America/Los_Angeles:20260303T200000
DTSTAMP:20260423T210457
CREATED:20251106T183045Z
LAST-MODIFIED:20251120T162642Z
UID:10003583-1772560800-1772568000@uuspokane.org
SUMMARY:Silent Reading Club
DESCRIPTION:Looking for a quiet\, cozy place to read — and a community that celebrates the joy of reading for its own sake? Join us for the Secret Readers Society Silent Reading Club\, our monthly gathering for anyone who loves books\, stories\, or simply the idea of setting aside intentional time to read. \nWe settle in between 6:00 and 6:15 p.m.\, find our favorite spots\, and then enjoy 30 minutes of peaceful\, silent reading together. Bring whatever you like — print\, digital\, or audio (with headphones). No required book\, no assigned pages\, no pressure. Just you\, your book\, and a room full of fellow readers doing the same. \nAfterward\, we spend a little time sharing what we’re reading\, what we hope to read next\, or how we’re building a reading life that nourishes us. There’s a monthly reading prompt for inspiration\, but participation is entirely optional. \nAll are welcome (as long as a 30-minute attention span is doable!). Everyone reads whatever they want. And yes — there are usually homemade treats and hot water for tea or coffee. \nCome discover the quiet magic of reading in community. We wrap up organically\, always by 8:00 p.m. \nShhh…bring a book\, and join the Society. \n 
URL:https://uuspokane.org/event/secret-readers-society-2/2026-03-03/
LOCATION:Cummings Room
CATEGORIES:Meeting
ORGANIZER;CN="Lynn Jinishian":MAILTO:jinishian@comcast.net
END:VEVENT
BEGIN:VEVENT
DTSTART;TZID=America/Los_Angeles:20260304T100000
DTEND;TZID=America/Los_Angeles:20260304T110000
DTSTAMP:20260423T210457
CREATED:20251203T172547Z
LAST-MODIFIED:20251203T172547Z
UID:10003666-1772618400-1772622000@uuspokane.org
SUMMARY:Staff Meeting
DESCRIPTION:
URL:https://uuspokane.org/event/staff-meeting/2026-03-04/
LOCATION:UUCS Office
CATEGORIES:Meeting
END:VEVENT
BEGIN:VEVENT
DTSTART;TZID=America/Los_Angeles:20260304T140000
DTEND;TZID=America/Los_Angeles:20260304T160000
DTSTAMP:20260423T210457
CREATED:20250925T232509Z
LAST-MODIFIED:20250925T232509Z
UID:10003307-1772632800-1772640000@uuspokane.org
SUMMARY:Pastoral Care Team Planning Meeting
DESCRIPTION:
URL:https://uuspokane.org/event/pastoral-care-team-planning-meeting/2026-03-04/
LOCATION:ZOOM
CATEGORIES:Meeting
END:VEVENT
BEGIN:VEVENT
DTSTART;TZID=America/Los_Angeles:20260304T150000
DTEND;TZID=America/Los_Angeles:20260304T150000
DTSTAMP:20260423T210457
CREATED:20250924T191050Z
LAST-MODIFIED:20250924T191050Z
UID:10000086-1772636400-1772636400@uuspokane.org
SUMMARY:Weekly SUUN Submission Deadline
DESCRIPTION:
URL:https://uuspokane.org/event/weekly-suun-submission-deadline/2026-03-04/
CATEGORIES:Other
END:VEVENT
BEGIN:VEVENT
DTSTART;TZID=America/Los_Angeles:20260304T180000
DTEND;TZID=America/Los_Angeles:20260304T220000
DTSTAMP:20260423T210457
CREATED:20250925T165107Z
LAST-MODIFIED:20250925T165225Z
UID:10002137-1772647200-1772661600@uuspokane.org
SUMMARY:Spokane Camera Club
DESCRIPTION:
URL:https://uuspokane.org/event/spokane-camera-club/2026-03-04/
LOCATION:Friendship Hall
CATEGORIES:Meeting
END:VEVENT
BEGIN:VEVENT
DTSTART;TZID=America/Los_Angeles:20260305T100000
DTEND;TZID=America/Los_Angeles:20260305T120000
DTSTAMP:20260423T210457
CREATED:20260217T190138Z
LAST-MODIFIED:20260217T190138Z
UID:10003999-1772704800-1772712000@uuspokane.org
SUMMARY:Election Coalition Team- Spokane Indivisible
DESCRIPTION:
URL:https://uuspokane.org/event/election-coalition-team-spokane-indivisible/2026-03-05/
LOCATION:Thoreau Room
CATEGORIES:Social Justice
END:VEVENT
BEGIN:VEVENT
DTSTART;TZID=America/Los_Angeles:20260305T140000
DTEND;TZID=America/Los_Angeles:20260305T160000
DTSTAMP:20260423T210457
CREATED:20260122T180054Z
LAST-MODIFIED:20260122T180054Z
UID:10003906-1772719200-1772726400@uuspokane.org
SUMMARY:Retirement Group (closed meeting)
DESCRIPTION:
URL:https://uuspokane.org/event/retirement-group-closed-meeting-2/2026-03-05/
LOCATION:ZOOM
CATEGORIES:Meeting
END:VEVENT
BEGIN:VEVENT
DTSTART;TZID=America/Los_Angeles:20260306T160000
DTEND;TZID=America/Los_Angeles:20260306T173000
DTSTAMP:20260423T210457
CREATED:20250924T193300Z
LAST-MODIFIED:20250924T193300Z
UID:10000528-1772812800-1772818200@uuspokane.org
SUMMARY:LGBTQ+ Senior Group
DESCRIPTION:ZOOM
URL:https://uuspokane.org/event/lgbtq-senior-group/2026-03-06/
LOCATION:RE Zoom Account
CATEGORIES:Meeting
END:VEVENT
BEGIN:VEVENT
DTSTART;TZID=America/Los_Angeles:20260306T170000
DTEND;TZID=America/Los_Angeles:20260306T183000
DTSTAMP:20260423T210457
CREATED:20260303T183132Z
LAST-MODIFIED:20260303T183254Z
UID:10004045-1772816400-1772821800@uuspokane.org
SUMMARY:Meaningful Movies - Set Up
DESCRIPTION:
URL:https://uuspokane.org/event/meaningful-movies-set-up/
LOCATION:Friendship Hall
CATEGORIES:Event Set Up,Social Justice
ORGANIZER;CN="Barb Stuebing":MAILTO:barbstuebing@gmail.com
END:VEVENT
BEGIN:VEVENT
DTSTART;TZID=America/Los_Angeles:20260306T183000
DTEND;TZID=America/Los_Angeles:20260306T210000
DTSTAMP:20260423T210457
CREATED:20251208T220545Z
LAST-MODIFIED:20260303T200906Z
UID:10003848-1772821800-1772830800@uuspokane.org
SUMMARY:Meaningful Movies - The Librarians
DESCRIPTION:Meaningful Movies Spokane is excited to present the documentary The Librarians on March 6 at 6:30 p.m. at the UU Church of Spokane. And excited to be hosted by Be The Change 509\, an activist group formed by Petra Hoy doing amazing work in our community. This documentary brings to the forefront a force in our country that intends to limit freedom of speech\, along with promoting the influence of religion in ways that are unconstitutional in America. If you are concerned about keeping alive the separation of church and state\, you will want to attend this showing and discussion. Take me to The Librarians Engagement Guide.
URL:https://uuspokane.org/event/meaningful-movies-3/
LOCATION:Chapel
CATEGORIES:Social Justice
ORGANIZER;CN="Barb Stuebing":MAILTO:barbstuebing@gmail.com
END:VEVENT
END:VCALENDAR