BEGIN:VCALENDAR
VERSION:2.0
PRODID:-//Unitarian Universalist Church of Spokane - ECPv6.15.20//NONSGML v1.0//EN
CALSCALE:GREGORIAN
METHOD:PUBLISH
X-ORIGINAL-URL:https://uuspokane.org
X-WR-CALDESC:Events for Unitarian Universalist Church of Spokane
REFRESH-INTERVAL;VALUE=DURATION:PT1H
X-Robots-Tag:noindex
X-PUBLISHED-TTL:PT1H
BEGIN:VTIMEZONE
TZID:America/Los_Angeles
BEGIN:DAYLIGHT
TZOFFSETFROM:-0800
TZOFFSETTO:-0700
TZNAME:PDT
DTSTART:20260308T100000
END:DAYLIGHT
BEGIN:STANDARD
TZOFFSETFROM:-0700
TZOFFSETTO:-0800
TZNAME:PST
DTSTART:20261101T090000
END:STANDARD
BEGIN:DAYLIGHT
TZOFFSETFROM:-0800
TZOFFSETTO:-0700
TZNAME:PDT
DTSTART:20270314T100000
END:DAYLIGHT
BEGIN:STANDARD
TZOFFSETFROM:-0700
TZOFFSETTO:-0800
TZNAME:PST
DTSTART:20271107T090000
END:STANDARD
BEGIN:DAYLIGHT
TZOFFSETFROM:-0800
TZOFFSETTO:-0700
TZNAME:PDT
DTSTART:20280312T100000
END:DAYLIGHT
BEGIN:STANDARD
TZOFFSETFROM:-0700
TZOFFSETTO:-0800
TZNAME:PST
DTSTART:20281105T090000
END:STANDARD
END:VTIMEZONE
BEGIN:VEVENT
DTSTART;TZID=America/Los_Angeles:20270109T083000
DTEND;TZID=America/Los_Angeles:20270109T103000
DTSTAMP:20260424T081031
CREATED:20250925T172416Z
LAST-MODIFIED:20251001T030203Z
UID:10002462-1799483400-1799490600@uuspokane.org
SUMMARY:UU Men's Group at Rockwood Retirement
DESCRIPTION:Please join us for breakfast and conversation in the Livingston Dining Area of the Summit building at the Rockwood South Hill Retirement Community \n\nQuestions? Contact Tom Mosher at 509-220-1879. \nTake me to a map of the location.
URL:https://uuspokane.org/event/uu-mens-group-at-rockwood-retirement/2027-01-09/
LOCATION:Offsite
CATEGORIES:Fellowship
END:VEVENT
BEGIN:VEVENT
DTSTART;TZID=America/Los_Angeles:20270109T113000
DTEND;TZID=America/Los_Angeles:20270109T140000
DTSTAMP:20260424T081031
CREATED:20260204T203641Z
LAST-MODIFIED:20260204T203641Z
UID:10002522-1799494200-1799503200@uuspokane.org
SUMMARY:LGBTQ+ Seniors of the Inland Northwest Potluck
DESCRIPTION:Join us for food\, fellowship and conversation.
URL:https://uuspokane.org/event/lgbtq-seniors-of-the-inland-northwest-potluck-2/2027-01-09/
LOCATION:Friendship Hall
CATEGORIES:Other
ORGANIZER;CN="Nancy Avery":MAILTO:NancyTavery@comcast.net
END:VEVENT
BEGIN:VEVENT
DTSTART;TZID=America/Los_Angeles:20270110T091500
DTEND;TZID=America/Los_Angeles:20270110T101500
DTSTAMP:20260424T081031
CREATED:20250924T193716Z
LAST-MODIFIED:20250925T235209Z
UID:10000834-1799572500-1799576100@uuspokane.org
SUMMARY:Sunday Worship
DESCRIPTION:Live Stream Available
URL:https://uuspokane.org/event/sunday-worship/2027-01-10/
LOCATION:Sanctuary
CATEGORIES:Worship Service
END:VEVENT
BEGIN:VEVENT
DTSTART;TZID=America/Los_Angeles:20270110T110000
DTEND;TZID=America/Los_Angeles:20270110T120000
DTSTAMP:20260424T081031
CREATED:20250924T193853Z
LAST-MODIFIED:20250925T235352Z
UID:10001095-1799578800-1799582400@uuspokane.org
SUMMARY:Sunday Worship
DESCRIPTION:Live Stream Available
URL:https://uuspokane.org/event/sunday-worship-2/2027-01-10/
LOCATION:Sanctuary
CATEGORIES:Worship Service
END:VEVENT
BEGIN:VEVENT
DTSTART;TZID=America/Los_Angeles:20270110T110000
DTEND;TZID=America/Los_Angeles:20270110T121500
DTSTAMP:20260424T081031
CREATED:20250924T194449Z
LAST-MODIFIED:20250925T235502Z
UID:10001356-1799578800-1799583300@uuspokane.org
SUMMARY:Childcare for Sunday Services
DESCRIPTION:
URL:https://uuspokane.org/event/childcare-for-sunday-services/2027-01-10/
LOCATION:Channing Room (Nursery)
CATEGORIES:Childcare
END:VEVENT
BEGIN:VEVENT
DTSTART;TZID=America/Los_Angeles:20270110T123000
DTEND;TZID=America/Los_Angeles:20270110T133000
DTSTAMP:20260424T081031
CREATED:20251120T162222Z
LAST-MODIFIED:20251120T162222Z
UID:10002763-1799584200-1799587800@uuspokane.org
SUMMARY:Poetry Sharing Circle
DESCRIPTION:Have you ever stumbled upon a poem — whether found in a book\, heard in passing\, or written yourself — that felt too meaningful to keep to yourself? Our Poetry Sharing Circle is a gentle\, welcoming hour created just for that. \nThis is not a workshop\, class\, or writers’ critique group. Instead\, it’s a simple in-person gathering where we come together to share poems that move us\, comfort us\, surprise us\, or make us think. Bring a poem you love and a few words about why it speaks to you — or simply come to listen and enjoy the company of others who appreciate the magic of poetry. \nNo pressure … no preparation … no expectations. \nJust people\, poems\, and a peaceful moment in community.
URL:https://uuspokane.org/event/poetry-sharing-circle-2/2027-01-10/
LOCATION:Chapel
CATEGORIES:Adult Enrichment
ORGANIZER;CN="Lynn Jinishian":MAILTO:jinishian@comcast.net
END:VEVENT
BEGIN:VEVENT
DTSTART;TZID=America/Los_Angeles:20270110T130000
DTEND;TZID=America/Los_Angeles:20270110T160000
DTSTAMP:20260424T081031
CREATED:20250925T174023Z
LAST-MODIFIED:20250925T174023Z
UID:10002823-1799586000-1799596800@uuspokane.org
SUMMARY:Spokane Handweaver's Guild
DESCRIPTION:
URL:https://uuspokane.org/event/spokane-handweavers-guild/2027-01-10/
LOCATION:Thoreau Room
CATEGORIES:Private Event
END:VEVENT
BEGIN:VEVENT
DTSTART;TZID=America/Los_Angeles:20270111T183000
DTEND;TZID=America/Los_Angeles:20270111T200000
DTSTAMP:20260424T081031
CREATED:20250924T194849Z
LAST-MODIFIED:20250924T194849Z
UID:10001878-1799692200-1799697600@uuspokane.org
SUMMARY:Meditation Group
DESCRIPTION:Buddhist Meditation – Sravasti Abbey
URL:https://uuspokane.org/event/meditation-group/2027-01-11/
LOCATION:Private Zoom
CATEGORIES:Meditation
END:VEVENT
BEGIN:VEVENT
DTSTART;TZID=America/Los_Angeles:20270112T110000
DTEND;TZID=America/Los_Angeles:20270112T130000
DTSTAMP:20260424T081031
CREATED:20250925T173256Z
LAST-MODIFIED:20250925T173256Z
UID:10002583-1799751600-1799758800@uuspokane.org
SUMMARY:Ops Team Meeting
DESCRIPTION:
URL:https://uuspokane.org/event/ops-team-meeting/2027-01-12/
LOCATION:RE Zoom Account
CATEGORIES:Meeting
END:VEVENT
BEGIN:VEVENT
DTSTART;TZID=America/Los_Angeles:20270112T160000
DTEND;TZID=America/Los_Angeles:20270112T170000
DTSTAMP:20260424T081031
CREATED:20260305T212112Z
LAST-MODIFIED:20260305T212112Z
UID:10004062-1799769600-1799773200@uuspokane.org
SUMMARY:Monthly Family Service Project - Teen & Kid Closet
DESCRIPTION:One of the reasons our church exists is to work for justice/live justly. Opportunities for children and youths to do this can feel limited\, but we have arranged for UUCS families to volunteer at Teen & Kid Closet. They do incredibly work for vulnerable children in Spokane — read more about them on their website. A parent/guardian is expected to stay with their child(ren) the entire session. \n  \nTake me to the registration page.
URL:https://uuspokane.org/event/monthly-family-service-project-teen-kid-closet-3/2027-01-12/
LOCATION:Offsite
CATEGORIES:RE Event
ORGANIZER;CN="Stephanie Gronholz":MAILTO:re@uuspokane.org
END:VEVENT
BEGIN:VEVENT
DTSTART;TZID=America/Los_Angeles:20270113T113000
DTEND;TZID=America/Los_Angeles:20270113T123000
DTSTAMP:20260424T081031
CREATED:20250925T172123Z
LAST-MODIFIED:20250930T175456Z
UID:10002401-1799839800-1799843400@uuspokane.org
SUMMARY:UU Women 2nd Wednesday Lunch
DESCRIPTION:Location varies
URL:https://uuspokane.org/event/uu-women-2nd-wednesday-lunch/2027-01-13/
LOCATION:Offsite
CATEGORIES:Fellowship
END:VEVENT
BEGIN:VEVENT
DTSTART;TZID=America/Los_Angeles:20270113T150000
DTEND;TZID=America/Los_Angeles:20270113T150000
DTSTAMP:20260424T081031
CREATED:20250924T191050Z
LAST-MODIFIED:20250924T191050Z
UID:10000131-1799852400-1799852400@uuspokane.org
SUMMARY:Weekly SUUN Submission Deadline
DESCRIPTION:
URL:https://uuspokane.org/event/weekly-suun-submission-deadline/2027-01-13/
CATEGORIES:Other
END:VEVENT
BEGIN:VEVENT
DTSTART;TZID=America/Los_Angeles:20270115T160000
DTEND;TZID=America/Los_Angeles:20270115T173000
DTSTAMP:20260424T081031
CREATED:20260414T155358Z
LAST-MODIFIED:20260414T155358Z
UID:10000573-1800028800-1800034200@uuspokane.org
SUMMARY:LGBTQ+ Senior Group
DESCRIPTION:ZOOM
URL:https://uuspokane.org/event/lgbtq-senior-group-2-2/2027-01-15/
LOCATION:ZOOM
CATEGORIES:Meeting
ORGANIZER;CN="Nancy Avery":MAILTO:NancyTavery@comcast.net
END:VEVENT
BEGIN:VEVENT
DTSTART;TZID=America/Los_Angeles:20270116T100000
DTEND;TZID=America/Los_Angeles:20270116T120000
DTSTAMP:20260424T081031
CREATED:20260217T231342Z
LAST-MODIFIED:20260217T231342Z
UID:10002703-1800093600-1800100800@uuspokane.org
SUMMARY:NAUA Monthly Service - ZOOM Only
DESCRIPTION:
URL:https://uuspokane.org/event/naua-monthly-service-zoom-only-2/2027-01-16/
LOCATION:Private Zoom
CATEGORIES:Worship Service
ORGANIZER;CN="Roy Dickerson":MAILTO:info@naunitarians.org
END:VEVENT
BEGIN:VEVENT
DTSTART;TZID=America/Los_Angeles:20270117T091500
DTEND;TZID=America/Los_Angeles:20270117T101500
DTSTAMP:20260424T081031
CREATED:20250924T193716Z
LAST-MODIFIED:20250925T235209Z
UID:10000835-1800177300-1800180900@uuspokane.org
SUMMARY:Sunday Worship
DESCRIPTION:Live Stream Available
URL:https://uuspokane.org/event/sunday-worship/2027-01-17/
LOCATION:Sanctuary
CATEGORIES:Worship Service
END:VEVENT
BEGIN:VEVENT
DTSTART;TZID=America/Los_Angeles:20270117T110000
DTEND;TZID=America/Los_Angeles:20270117T120000
DTSTAMP:20260424T081031
CREATED:20250924T193853Z
LAST-MODIFIED:20250925T235352Z
UID:10001096-1800183600-1800187200@uuspokane.org
SUMMARY:Sunday Worship
DESCRIPTION:Live Stream Available
URL:https://uuspokane.org/event/sunday-worship-2/2027-01-17/
LOCATION:Sanctuary
CATEGORIES:Worship Service
END:VEVENT
BEGIN:VEVENT
DTSTART;TZID=America/Los_Angeles:20270117T110000
DTEND;TZID=America/Los_Angeles:20270117T121500
DTSTAMP:20260424T081031
CREATED:20250924T194449Z
LAST-MODIFIED:20250925T235502Z
UID:10001357-1800183600-1800188100@uuspokane.org
SUMMARY:Childcare for Sunday Services
DESCRIPTION:
URL:https://uuspokane.org/event/childcare-for-sunday-services/2027-01-17/
LOCATION:Channing Room (Nursery)
CATEGORIES:Childcare
END:VEVENT
BEGIN:VEVENT
DTSTART;TZID=America/Los_Angeles:20270117T123000
DTEND;TZID=America/Los_Angeles:20270117T140000
DTSTAMP:20260424T081031
CREATED:20260204T193727Z
LAST-MODIFIED:20260204T193727Z
UID:10003134-1800189000-1800194400@uuspokane.org
SUMMARY:Church Potluck
DESCRIPTION:
URL:https://uuspokane.org/event/church-potluck-5/2027-01-17/
LOCATION:Friendship Hall
CATEGORIES:Fellowship
END:VEVENT
BEGIN:VEVENT
DTSTART;TZID=America/Los_Angeles:20270118T183000
DTEND;TZID=America/Los_Angeles:20270118T200000
DTSTAMP:20260424T081031
CREATED:20250924T194849Z
LAST-MODIFIED:20250924T194849Z
UID:10001879-1800297000-1800302400@uuspokane.org
SUMMARY:Meditation Group
DESCRIPTION:Buddhist Meditation – Sravasti Abbey
URL:https://uuspokane.org/event/meditation-group/2027-01-18/
LOCATION:Private Zoom
CATEGORIES:Meditation
END:VEVENT
BEGIN:VEVENT
DTSTART;TZID=America/Los_Angeles:20270118T183000
DTEND;TZID=America/Los_Angeles:20270118T200000
DTSTAMP:20260424T081031
CREATED:20250925T180231Z
LAST-MODIFIED:20250925T231548Z
UID:10003195-1800297000-1800302400@uuspokane.org
SUMMARY:Social Justice Coordinating Council
DESCRIPTION:
URL:https://uuspokane.org/event/social-justice-coordinating-council/2027-01-18/
LOCATION:RE Zoom Account
CATEGORIES:Meeting
END:VEVENT
BEGIN:VEVENT
DTSTART;TZID=America/Los_Angeles:20270120T150000
DTEND;TZID=America/Los_Angeles:20270120T150000
DTSTAMP:20260424T081031
CREATED:20250924T191050Z
LAST-MODIFIED:20250924T191050Z
UID:10000132-1800457200-1800457200@uuspokane.org
SUMMARY:Weekly SUUN Submission Deadline
DESCRIPTION:
URL:https://uuspokane.org/event/weekly-suun-submission-deadline/2027-01-20/
CATEGORIES:Other
END:VEVENT
BEGIN:VEVENT
DTSTART;TZID=America/Los_Angeles:20270120T160000
DTEND;TZID=America/Los_Angeles:20270120T170000
DTSTAMP:20260424T081031
CREATED:20250925T173505Z
LAST-MODIFIED:20250925T173505Z
UID:10002643-1800460800-1800464400@uuspokane.org
SUMMARY:Board Agenda Meeting
DESCRIPTION:
URL:https://uuspokane.org/event/board-agenda-meeting/2027-01-20/
LOCATION:RE Zoom Account
CATEGORIES:Meeting
END:VEVENT
BEGIN:VEVENT
DTSTART;TZID=America/Los_Angeles:20270121T130000
DTEND;TZID=America/Los_Angeles:20270121T150000
DTSTAMP:20260424T081031
CREATED:20250925T231947Z
LAST-MODIFIED:20250925T231947Z
UID:10003256-1800536400-1800543600@uuspokane.org
SUMMARY:Third Thursday Book Group
DESCRIPTION:
URL:https://uuspokane.org/event/third-thursday-book-group/2027-01-21/
LOCATION:Offsite
CATEGORIES:Adult Enrichment
END:VEVENT
BEGIN:VEVENT
DTSTART;TZID=America/Los_Angeles:20270122T160000
DTEND;TZID=America/Los_Angeles:20270122T173000
DTSTAMP:20260424T081031
CREATED:20260414T155358Z
LAST-MODIFIED:20260414T155358Z
UID:10000574-1800633600-1800639000@uuspokane.org
SUMMARY:LGBTQ+ Senior Group
DESCRIPTION:ZOOM
URL:https://uuspokane.org/event/lgbtq-senior-group-2-2/2027-01-22/
LOCATION:ZOOM
CATEGORIES:Meeting
ORGANIZER;CN="Nancy Avery":MAILTO:NancyTavery@comcast.net
END:VEVENT
BEGIN:VEVENT
DTSTART;TZID=America/Los_Angeles:20270124T091500
DTEND;TZID=America/Los_Angeles:20270124T101500
DTSTAMP:20260424T081031
CREATED:20250924T193716Z
LAST-MODIFIED:20250925T235209Z
UID:10000836-1800782100-1800785700@uuspokane.org
SUMMARY:Sunday Worship
DESCRIPTION:Live Stream Available
URL:https://uuspokane.org/event/sunday-worship/2027-01-24/
LOCATION:Sanctuary
CATEGORIES:Worship Service
END:VEVENT
BEGIN:VEVENT
DTSTART;TZID=America/Los_Angeles:20270124T110000
DTEND;TZID=America/Los_Angeles:20270124T120000
DTSTAMP:20260424T081031
CREATED:20250924T193853Z
LAST-MODIFIED:20250925T235352Z
UID:10001097-1800788400-1800792000@uuspokane.org
SUMMARY:Sunday Worship
DESCRIPTION:Live Stream Available
URL:https://uuspokane.org/event/sunday-worship-2/2027-01-24/
LOCATION:Sanctuary
CATEGORIES:Worship Service
END:VEVENT
BEGIN:VEVENT
DTSTART;TZID=America/Los_Angeles:20270124T110000
DTEND;TZID=America/Los_Angeles:20270124T121500
DTSTAMP:20260424T081031
CREATED:20250924T194449Z
LAST-MODIFIED:20250925T235502Z
UID:10001358-1800788400-1800792900@uuspokane.org
SUMMARY:Childcare for Sunday Services
DESCRIPTION:
URL:https://uuspokane.org/event/childcare-for-sunday-services/2027-01-24/
LOCATION:Channing Room (Nursery)
CATEGORIES:Childcare
END:VEVENT
BEGIN:VEVENT
DTSTART;TZID=America/Los_Angeles:20270125T183000
DTEND;TZID=America/Los_Angeles:20270125T200000
DTSTAMP:20260424T081031
CREATED:20250924T194849Z
LAST-MODIFIED:20250924T194849Z
UID:10001880-1800901800-1800907200@uuspokane.org
SUMMARY:Meditation Group
DESCRIPTION:Buddhist Meditation – Sravasti Abbey
URL:https://uuspokane.org/event/meditation-group/2027-01-25/
LOCATION:Private Zoom
CATEGORIES:Meditation
END:VEVENT
BEGIN:VEVENT
DTSTART;TZID=America/Los_Angeles:20270127T100000
DTEND;TZID=America/Los_Angeles:20270127T120000
DTSTAMP:20260424T081031
CREATED:20260421T024544Z
LAST-MODIFIED:20260421T024544Z
UID:10000019-1801044000-1801051200@uuspokane.org
SUMMARY:Buildings & Grounds Coffee & Work
DESCRIPTION:A half hour for coffee and fellowship followed by 1.5 hours for small repairs\, cleaning or other odd jobs around the church. Anyone who has a little time to spare is most welcome. \n 
URL:https://uuspokane.org/event/buildings-grounds-coffee-work-4-2/2027-01-27/
LOCATION:Church Grounds
CATEGORIES:Facility Repair or Maintenance
ORGANIZER;CN="Julie Jose":MAILTO:josejj205@yahoo.com
END:VEVENT
BEGIN:VEVENT
DTSTART;TZID=America/Los_Angeles:20270127T150000
DTEND;TZID=America/Los_Angeles:20270127T150000
DTSTAMP:20260424T081031
CREATED:20250924T191050Z
LAST-MODIFIED:20250924T191050Z
UID:10000133-1801062000-1801062000@uuspokane.org
SUMMARY:Weekly SUUN Submission Deadline
DESCRIPTION:
URL:https://uuspokane.org/event/weekly-suun-submission-deadline/2027-01-27/
CATEGORIES:Other
END:VEVENT
END:VCALENDAR