BEGIN:VCALENDAR
VERSION:2.0
PRODID:-//Unitarian Universalist Church of Spokane - ECPv6.15.20//NONSGML v1.0//EN
CALSCALE:GREGORIAN
METHOD:PUBLISH
X-ORIGINAL-URL:https://uuspokane.org
X-WR-CALDESC:Events for Unitarian Universalist Church of Spokane
REFRESH-INTERVAL;VALUE=DURATION:PT1H
X-Robots-Tag:noindex
X-PUBLISHED-TTL:PT1H
BEGIN:VTIMEZONE
TZID:America/Los_Angeles
BEGIN:DAYLIGHT
TZOFFSETFROM:-0800
TZOFFSETTO:-0700
TZNAME:PDT
DTSTART:20240310T100000
END:DAYLIGHT
BEGIN:STANDARD
TZOFFSETFROM:-0700
TZOFFSETTO:-0800
TZNAME:PST
DTSTART:20241103T090000
END:STANDARD
BEGIN:DAYLIGHT
TZOFFSETFROM:-0800
TZOFFSETTO:-0700
TZNAME:PDT
DTSTART:20250309T100000
END:DAYLIGHT
BEGIN:STANDARD
TZOFFSETFROM:-0700
TZOFFSETTO:-0800
TZNAME:PST
DTSTART:20251102T090000
END:STANDARD
BEGIN:DAYLIGHT
TZOFFSETFROM:-0800
TZOFFSETTO:-0700
TZNAME:PDT
DTSTART:20260308T100000
END:DAYLIGHT
BEGIN:STANDARD
TZOFFSETFROM:-0700
TZOFFSETTO:-0800
TZNAME:PST
DTSTART:20261101T090000
END:STANDARD
END:VTIMEZONE
BEGIN:VEVENT
DTSTART;TZID=America/Los_Angeles:20251201T183000
DTEND;TZID=America/Los_Angeles:20251201T200000
DTSTAMP:20260423T140904
CREATED:20250924T194849Z
LAST-MODIFIED:20250924T194849Z
UID:10001820-1764613800-1764619200@uuspokane.org
SUMMARY:Meditation Group
DESCRIPTION:Buddhist Meditation – Sravasti Abbey
URL:https://uuspokane.org/event/meditation-group/2025-12-01/
LOCATION:Private Zoom
CATEGORIES:Meditation
END:VEVENT
BEGIN:VEVENT
DTSTART;TZID=America/Los_Angeles:20251202T100000
DTEND;TZID=America/Los_Angeles:20251202T130000
DTSTAMP:20260423T140904
CREATED:20251118T001850Z
LAST-MODIFIED:20251118T001850Z
UID:10003638-1764669600-1764680400@uuspokane.org
SUMMARY:Art Show Set Up
DESCRIPTION:
URL:https://uuspokane.org/event/art-show-set-up/
LOCATION:Friendship Hall
CATEGORIES:Event Set Up
END:VEVENT
BEGIN:VEVENT
DTSTART;TZID=America/Los_Angeles:20251202T180000
DTEND;TZID=America/Los_Angeles:20251202T193000
DTSTAMP:20260423T140904
CREATED:20250925T192129Z
LAST-MODIFIED:20250925T192129Z
UID:10002933-1764698400-1764703800@uuspokane.org
SUMMARY:Choir Rehearsal
DESCRIPTION:
URL:https://uuspokane.org/event/choir-rehearsal-2/2025-12-02/
LOCATION:Sanctuary
CATEGORIES:Choir Rehearsal
END:VEVENT
BEGIN:VEVENT
DTSTART;TZID=America/Los_Angeles:20251202T180000
DTEND;TZID=America/Los_Angeles:20251202T200000
DTSTAMP:20260423T140904
CREATED:20251106T183045Z
LAST-MODIFIED:20251120T162642Z
UID:10002328-1764698400-1764705600@uuspokane.org
SUMMARY:Silent Reading Club
DESCRIPTION:Looking for a quiet\, cozy place to read — and a community that celebrates the joy of reading for its own sake? Join us for the Secret Readers Society Silent Reading Club\, our monthly gathering for anyone who loves books\, stories\, or simply the idea of setting aside intentional time to read. \nWe settle in between 6:00 and 6:15 p.m.\, find our favorite spots\, and then enjoy 30 minutes of peaceful\, silent reading together. Bring whatever you like — print\, digital\, or audio (with headphones). No required book\, no assigned pages\, no pressure. Just you\, your book\, and a room full of fellow readers doing the same. \nAfterward\, we spend a little time sharing what we’re reading\, what we hope to read next\, or how we’re building a reading life that nourishes us. There’s a monthly reading prompt for inspiration\, but participation is entirely optional. \nAll are welcome (as long as a 30-minute attention span is doable!). Everyone reads whatever they want. And yes — there are usually homemade treats and hot water for tea or coffee. \nCome discover the quiet magic of reading in community. We wrap up organically\, always by 8:00 p.m. \nShhh…bring a book\, and join the Society. \n 
URL:https://uuspokane.org/event/secret-readers-society-2/2025-12-02/
LOCATION:Cummings Room
CATEGORIES:Meeting
ORGANIZER;CN="Lynn Jinishian":MAILTO:jinishian@comcast.net
END:VEVENT
BEGIN:VEVENT
DTSTART;TZID=America/Los_Angeles:20251203T100000
DTEND;TZID=America/Los_Angeles:20251203T110000
DTSTAMP:20260423T140904
CREATED:20251203T172547Z
LAST-MODIFIED:20251203T172547Z
UID:10003663-1764756000-1764759600@uuspokane.org
SUMMARY:Staff Meeting
DESCRIPTION:
URL:https://uuspokane.org/event/staff-meeting/2025-12-03/
LOCATION:UUCS Office
CATEGORIES:Meeting
END:VEVENT
BEGIN:VEVENT
DTSTART;TZID=America/Los_Angeles:20251203T140000
DTEND;TZID=America/Los_Angeles:20251203T160000
DTSTAMP:20260423T140904
CREATED:20250925T232509Z
LAST-MODIFIED:20250925T232509Z
UID:10003304-1764770400-1764777600@uuspokane.org
SUMMARY:Pastoral Care Team Planning Meeting
DESCRIPTION:
URL:https://uuspokane.org/event/pastoral-care-team-planning-meeting/2025-12-03/
LOCATION:ZOOM
CATEGORIES:Meeting
END:VEVENT
BEGIN:VEVENT
DTSTART;TZID=America/Los_Angeles:20251203T150000
DTEND;TZID=America/Los_Angeles:20251203T150000
DTSTAMP:20260423T140904
CREATED:20250924T191050Z
LAST-MODIFIED:20250924T191050Z
UID:10000073-1764774000-1764774000@uuspokane.org
SUMMARY:Weekly SUUN Submission Deadline
DESCRIPTION:
URL:https://uuspokane.org/event/weekly-suun-submission-deadline/2025-12-03/
CATEGORIES:Other
END:VEVENT
BEGIN:VEVENT
DTSTART;TZID=America/Los_Angeles:20251203T180000
DTEND;TZID=America/Los_Angeles:20251203T220000
DTSTAMP:20260423T140904
CREATED:20250925T165107Z
LAST-MODIFIED:20250925T165225Z
UID:10002134-1764784800-1764799200@uuspokane.org
SUMMARY:Spokane Camera Club
DESCRIPTION:
URL:https://uuspokane.org/event/spokane-camera-club/2025-12-03/
LOCATION:Friendship Hall
CATEGORIES:Meeting
END:VEVENT
BEGIN:VEVENT
DTSTART;TZID=America/Los_Angeles:20251204T120000
DTEND;TZID=America/Los_Angeles:20251204T180000
DTSTAMP:20260423T140904
CREATED:20251119T215554Z
LAST-MODIFIED:20251119T215554Z
UID:10003639-1764849600-1764871200@uuspokane.org
SUMMARY:Inland NW Land Conservancy Board Retreat
DESCRIPTION:
URL:https://uuspokane.org/event/inland-nw-land-conservancy-board-retreat/
LOCATION:Chapel
CATEGORIES:Private Event
END:VEVENT
BEGIN:VEVENT
DTSTART;TZID=America/Los_Angeles:20251204T143000
DTEND;TZID=America/Los_Angeles:20251204T163000
DTSTAMP:20260423T140904
CREATED:20250925T165550Z
LAST-MODIFIED:20250925T165550Z
UID:10002200-1764858600-1764865800@uuspokane.org
SUMMARY:Retirement Group (closed meeting)
DESCRIPTION:
URL:https://uuspokane.org/event/retirement-group-closed-meeting/2025-12-04/
LOCATION:ZOOM
CATEGORIES:Meeting
END:VEVENT
BEGIN:VEVENT
DTSTART;TZID=America/Los_Angeles:20251205T160000
DTEND;TZID=America/Los_Angeles:20251205T170000
DTSTAMP:20260423T140904
CREATED:20251023T164639Z
LAST-MODIFIED:20251023T164703Z
UID:10003454-1764950400-1764954000@uuspokane.org
SUMMARY:UUCS Art Show Setup
DESCRIPTION:
URL:https://uuspokane.org/event/uucs-art-show-setup/
LOCATION:Friendship Hall
CATEGORIES:Art Team Activity
END:VEVENT
BEGIN:VEVENT
DTSTART;TZID=America/Los_Angeles:20251205T160000
DTEND;TZID=America/Los_Angeles:20251205T173000
DTSTAMP:20260423T140904
CREATED:20250924T193300Z
LAST-MODIFIED:20250924T193300Z
UID:10000515-1764950400-1764955800@uuspokane.org
SUMMARY:LGBTQ+ Senior Group
DESCRIPTION:ZOOM
URL:https://uuspokane.org/event/lgbtq-senior-group/2025-12-05/
LOCATION:RE Zoom Account
CATEGORIES:Meeting
END:VEVENT
BEGIN:VEVENT
DTSTART;TZID=America/Los_Angeles:20251205T170000
DTEND;TZID=America/Los_Angeles:20251205T200000
DTSTAMP:20260423T140904
CREATED:20251014T185346Z
LAST-MODIFIED:20251120T181514Z
UID:10003453-1764954000-1764964800@uuspokane.org
SUMMARY:UUCS Art Show & Sale
DESCRIPTION:Where will your original artwork live when you’re gone? \nHere is your opportunity to give it a new home by donating it to the church during the upcoming art show and sale. UUCS joins art galleries around Spokane for First Friday Art Walk to kick off the sale. Art will be on display in the UUCS Fellowship Hall. This event is coordinated by the UUCS Aesthetics Team: Jean Larson\, Dan Eacret\, Susan Tyler-Babkirk and Lynn Diddens. \nDonation Information \n\nArtwork may be created by donor OR original artwork you own.\nThe show will be advertised and open to the public.\nArtwork will be donated and 100% of each sale will go to UUCS.\nTypes of art considered: original signed paintings\, framed numbered edition prints and etchings\, sculptures\, and historical photos.\nEntries shall be limited to three art pieces per donor.
URL:https://uuspokane.org/event/uucs-art-show/
LOCATION:Sanctuary
CATEGORIES:Art Team Activity
END:VEVENT
BEGIN:VEVENT
DTSTART;TZID=America/Los_Angeles:20251205T174500
DTEND;TZID=America/Los_Angeles:20251205T190000
DTSTAMP:20260423T140904
CREATED:20251125T000126Z
LAST-MODIFIED:20251125T164208Z
UID:10003645-1764956700-1764961200@uuspokane.org
SUMMARY:Neighboring Faiths
DESCRIPTION:“Neighboring Faiths” is a UU curriculum for middle schoolers with the following goals: \n\nTo participate personally in the faith traditions of others.\nTo reflect on the unique and universal of religious experience.\nTo explore their own values as they relate to many other faith traditions.\nTo become more aware of the many connections between Unitarian Universalism and other faith traditions.\nTo strengthen commitment to Unitarian Universalist faith and community.\nTo increase their understand and appreciation of religious diversity.\nTo build relationships with peers\, adult leaders\, and their congregations and community.\n\nWe are conducting an abbreviated version that acknowledges our busy schedules and positions Unitarian Universalism in the context of Western religions (i.e.\, Judaism\, Roman Catholicism\, Protestant Christianity). \nWe will meet the following times: \n\nFriday\, December 5\, 2025 at 5:45 p.m. at Temple Beth-Shalom\nSunday\, December 7\, 2025 at 10:45 a.m.at St. Aloysius Catholic Church\nWednesday\, December 10\, 2025 from 6:30 p.m. to 8:30 p.m. at First Presbyterian Church\nSunday\, December 14\, 2025 from 11:20 a.m. to 12:20 p.m. at UUCS\n\nTake me to the registration page.
URL:https://uuspokane.org/event/neighboring-faiths-3/
LOCATION:Temple Beth Shalom\, 1322 E 30th Ave\, Spokane\, WA\, 99203\, United States
CATEGORIES:RE Event
ORGANIZER;CN="Stephanie Gronholz":MAILTO:re@uuspokane.org
END:VEVENT
BEGIN:VEVENT
DTSTART;TZID=America/Los_Angeles:20251206T160000
DTEND;TZID=America/Los_Angeles:20251206T213000
DTSTAMP:20260423T140904
CREATED:20250925T165921Z
LAST-MODIFIED:20250925T165921Z
UID:10002320-1765036800-1765056600@uuspokane.org
SUMMARY:INWBMA Meeting
DESCRIPTION:
URL:https://uuspokane.org/event/inwbma-meeting/2025-12-06/
LOCATION:Sanctuary
CATEGORIES:Meeting
END:VEVENT
BEGIN:VEVENT
DTSTART;TZID=America/Los_Angeles:20251207T091500
DTEND;TZID=America/Los_Angeles:20251207T101500
DTSTAMP:20260423T140904
CREATED:20250924T193716Z
LAST-MODIFIED:20250925T235209Z
UID:10000777-1765098900-1765102500@uuspokane.org
SUMMARY:Sunday Worship
DESCRIPTION:Live Stream Available
URL:https://uuspokane.org/event/sunday-worship/2025-12-07/
LOCATION:Sanctuary
CATEGORIES:Worship Service
END:VEVENT
BEGIN:VEVENT
DTSTART;TZID=America/Los_Angeles:20251207T104500
DTEND;TZID=America/Los_Angeles:20251207T120000
DTSTAMP:20260423T140904
CREATED:20251125T000426Z
LAST-MODIFIED:20251125T164232Z
UID:10003646-1765104300-1765108800@uuspokane.org
SUMMARY:Neighboring Faiths
DESCRIPTION:“Neighboring Faiths” is a UU curriculum for middle schoolers with the following goals: \n\nTo participate personally in the faith traditions of others.\nTo reflect on the unique and universal of religious experience.\nTo explore their own values as they relate to many other faith traditions.\nTo become more aware of the many connections between Unitarian Universalism and other faith traditions.\nTo strengthen commitment to Unitarian Universalist faith and community.\nTo increase their understand and appreciation of religious diversity.\nTo build relationships with peers\, adult leaders\, and their congregations and community.\n\nWe are conducting an abbreviated version that acknowledges our busy schedules and positions Unitarian Universalism in the context of Western religions (i.e.\, Judaism\, Roman Catholicism\, Protestant Christianity). \nWe will meet the following times: \n\nSunday\, December 7\, 2025 at 10:45 a.m.at St. Aloysius Catholic Church\nWednesday\, December 10\, 2025 from 6:30 p.m. to 8:30 p.m. at First Presbyterian Church\nSunday\, December 14\, 2025 from 11:20 a.m. to 12:20 p.m. at UUCS\n\nTake me to the registration page.
URL:https://uuspokane.org/event/neighboring-faiths-4/
LOCATION:St. Aloysius Catholic Church\, 330 E Boone Ave\, Spokane\, WA\, 99202\, United States
CATEGORIES:RE Event
ORGANIZER;CN="Stephanie Gronholz":MAILTO:re@uuspokane.org
END:VEVENT
BEGIN:VEVENT
DTSTART;TZID=America/Los_Angeles:20251207T110000
DTEND;TZID=America/Los_Angeles:20251207T120000
DTSTAMP:20260423T140904
CREATED:20250924T193853Z
LAST-MODIFIED:20250925T235352Z
UID:10001038-1765105200-1765108800@uuspokane.org
SUMMARY:Sunday Worship
DESCRIPTION:Live Stream Available
URL:https://uuspokane.org/event/sunday-worship-2/2025-12-07/
LOCATION:Sanctuary
CATEGORIES:Worship Service
END:VEVENT
BEGIN:VEVENT
DTSTART;TZID=America/Los_Angeles:20251207T110000
DTEND;TZID=America/Los_Angeles:20251207T121500
DTSTAMP:20260423T140904
CREATED:20250924T194449Z
LAST-MODIFIED:20250925T235502Z
UID:10001299-1765105200-1765109700@uuspokane.org
SUMMARY:Childcare for Sunday Services
DESCRIPTION:
URL:https://uuspokane.org/event/childcare-for-sunday-services/2025-12-07/
LOCATION:Channing Room (Nursery)
CATEGORIES:Childcare
END:VEVENT
BEGIN:VEVENT
DTSTART;TZID=America/Los_Angeles:20251207T123000
DTEND;TZID=America/Los_Angeles:20251207T143000
DTSTAMP:20260423T140904
CREATED:20250925T233304Z
LAST-MODIFIED:20251124T222812Z
UID:10003363-1765110600-1765117800@uuspokane.org
SUMMARY:Annual Tree Decorating and Cookie Sale
DESCRIPTION:Join us for our annual tree decorating and cookie sale. During\, between and after Sunday Services. Bring a plate of cookies to share in the sale\, stay for the music and fun. We look forward to seeing you all there. Happy holidays!
URL:https://uuspokane.org/event/annual-tree-decorating-and-cookie-sale/
LOCATION:Friendship Hall
CATEGORIES:Fellowship
ORGANIZER;CN="Stephanie Gronholz":MAILTO:re@uuspokane.org
END:VEVENT
BEGIN:VEVENT
DTSTART;TZID=America/Los_Angeles:20251207T130000
DTEND;TZID=America/Los_Angeles:20251207T143000
DTSTAMP:20260423T140904
CREATED:20251117T222330Z
LAST-MODIFIED:20251120T173330Z
UID:10003633-1765112400-1765117800@uuspokane.org
SUMMARY:Lisa Conger Poetry Reading & Book Signing
DESCRIPTION:Looking for a heart-warming way to spend a December afternoon? Join us as we celebrate our very own resident poet\, Lisa Conger\, and the release of her beautiful new poetry collection\, Paper Boat. \nLisa will be giving a reading from her book\, sharing the stories and inspirations behind her poems\, and signing copies afterward. Paper Boat will be available for purchase for $20\, and in true Lisa fashion\, a portion of each sale will be generously donated back to the church. It’s a lovely opportunity to support a gifted UUCS artist and the mission of our community. \nAnd since it all falls on the same day as our Annual Cookie Sale\, you can pick up a plate (or two!) of holiday treats and then head into the Chapel for poetry\, warmth\, and connection. \nCome for the cookies\, stay for the poetry — or come for the poetry\, stay for the cookies!\nEither way\, we hope you’ll join us in celebrating Lisa and supporting UUCS.
URL:https://uuspokane.org/event/lisa-conger-poetry-event/
LOCATION:Chapel
CATEGORIES:Other
ORGANIZER;CN="Lynn Jinishian":MAILTO:jinishian@comcast.net
END:VEVENT
BEGIN:VEVENT
DTSTART;TZID=America/Los_Angeles:20251208T183000
DTEND;TZID=America/Los_Angeles:20251208T200000
DTSTAMP:20260423T140904
CREATED:20250924T194849Z
LAST-MODIFIED:20250924T194849Z
UID:10001821-1765218600-1765224000@uuspokane.org
SUMMARY:Meditation Group
DESCRIPTION:Buddhist Meditation – Sravasti Abbey
URL:https://uuspokane.org/event/meditation-group/2025-12-08/
LOCATION:Private Zoom
CATEGORIES:Meditation
END:VEVENT
BEGIN:VEVENT
DTSTART;TZID=America/Los_Angeles:20251209T110000
DTEND;TZID=America/Los_Angeles:20251209T130000
DTSTAMP:20260423T140904
CREATED:20250925T173256Z
LAST-MODIFIED:20250925T173256Z
UID:10002570-1765278000-1765285200@uuspokane.org
SUMMARY:Ops Team Meeting
DESCRIPTION:
URL:https://uuspokane.org/event/ops-team-meeting/2025-12-09/
LOCATION:RE Zoom Account
CATEGORIES:Meeting
END:VEVENT
BEGIN:VEVENT
DTSTART;TZID=America/Los_Angeles:20251210T113000
DTEND;TZID=America/Los_Angeles:20251210T123000
DTSTAMP:20260423T140904
CREATED:20251125T002048Z
LAST-MODIFIED:20251125T002048Z
UID:10002388-1765366200-1765369800@uuspokane.org
SUMMARY:UU Women 2nd Wednesday Lunch - P.F. Chang's
DESCRIPTION:To celebrate the season after our lunch you may want to view the trees decorated for Christmas Tree Elegance with gifts\, by the Spokane Symphony. The trees are on display at River Park Square and the Davenport Hotel. \nRSVP to Jan Wingenroth at Jan_dennis@msn.com. \nTake me to a map of the location. \nTake me to the P.F. Chang’s menu.
URL:https://uuspokane.org/event/uu-women-2nd-wednesday-lunch-3/
LOCATION:Offsite
CATEGORIES:Fellowship
ORGANIZER;CN="Jan Wingeroth":MAILTO:jan_dennis@msn.com
END:VEVENT
BEGIN:VEVENT
DTSTART;TZID=America/Los_Angeles:20251210T150000
DTEND;TZID=America/Los_Angeles:20251210T150000
DTSTAMP:20260423T140904
CREATED:20250924T191050Z
LAST-MODIFIED:20250924T191050Z
UID:10000074-1765378800-1765378800@uuspokane.org
SUMMARY:Weekly SUUN Submission Deadline
DESCRIPTION:
URL:https://uuspokane.org/event/weekly-suun-submission-deadline/2025-12-10/
CATEGORIES:Other
END:VEVENT
BEGIN:VEVENT
DTSTART;TZID=America/Los_Angeles:20251210T160000
DTEND;TZID=America/Los_Angeles:20251210T170000
DTSTAMP:20260423T140904
CREATED:20251204T222131Z
LAST-MODIFIED:20251204T222141Z
UID:10002630-1765382400-1765386000@uuspokane.org
SUMMARY:Board Agenda Meeting
DESCRIPTION:
URL:https://uuspokane.org/event/board-agenda-meeting-2/
LOCATION:RE Zoom Account
CATEGORIES:Meeting
END:VEVENT
BEGIN:VEVENT
DTSTART;TZID=America/Los_Angeles:20251210T180000
DTEND;TZID=America/Los_Angeles:20251210T200000
DTSTAMP:20260423T140904
CREATED:20251105T205650Z
LAST-MODIFIED:20251105T205650Z
UID:10003528-1765389600-1765396800@uuspokane.org
SUMMARY:Spokane Indivisible General Meeting
DESCRIPTION:
URL:https://uuspokane.org/event/spokane-indivisible-general-meeting/
LOCATION:Thoreau Room
CATEGORIES:Meeting
END:VEVENT
BEGIN:VEVENT
DTSTART;TZID=America/Los_Angeles:20251211T183000
DTEND;TZID=America/Los_Angeles:20251211T203000
DTSTAMP:20260423T140904
CREATED:20251124T235631Z
LAST-MODIFIED:20251125T164257Z
UID:10003647-1765477800-1765485000@uuspokane.org
SUMMARY:Neighboring Faiths
DESCRIPTION:“Neighboring Faiths” is a UU curriculum for middle schoolers with the following goals: \n\nTo participate personally in the faith traditions of others.\nTo reflect on the unique and universal of religious experience.\nTo explore their own values as they relate to many other faith traditions.\nTo become more aware of the many connections between Unitarian Universalism and other faith traditions.\nTo strengthen commitment to Unitarian Universalist faith and community.\nTo increase their understand and appreciation of religious diversity.\nTo build relationships with peers\, adult leaders\, and their congregations and community.\n\nWe are conducting an abbreviated version that acknowledges our busy schedules and positions Unitarian Universalism in the context of Western religions (i.e.\, Judaism\, Roman Catholicism\, Protestant Christianity). \nWe will meet the following times: \n\nWednesday\, December 10\, 2025 from 6:30 p.m. to 8:30 p.m. at First Presbyterian Church\nSunday\, December 14\, 2025 from 11:20 a.m. to 12:20 p.m. at UUCS\n\nTake me to the registration page.
URL:https://uuspokane.org/event/neighboring-faiths-2/
LOCATION:First Prescyterian Church of Spokane\, 318 S Cedar St\, Spokane\, WA\, 99201\, United States
CATEGORIES:RE Event
ORGANIZER;CN="Stephanie Gronholz":MAILTO:re@uuspokane.org
END:VEVENT
BEGIN:VEVENT
DTSTART;TZID=America/Los_Angeles:20251212T160000
DTEND;TZID=America/Los_Angeles:20251212T173000
DTSTAMP:20260423T140904
CREATED:20250924T193300Z
LAST-MODIFIED:20250924T193300Z
UID:10000516-1765555200-1765560600@uuspokane.org
SUMMARY:LGBTQ+ Senior Group
DESCRIPTION:ZOOM
URL:https://uuspokane.org/event/lgbtq-senior-group/2025-12-12/
LOCATION:RE Zoom Account
CATEGORIES:Meeting
END:VEVENT
BEGIN:VEVENT
DTSTART;TZID=America/Los_Angeles:20251212T173000
DTEND;TZID=America/Los_Angeles:20251212T193000
DTSTAMP:20260423T140904
CREATED:20250925T233439Z
LAST-MODIFIED:20251204T211609Z
UID:10003364-1765560600-1765567800@uuspokane.org
SUMMARY:April Young Voice School - Winter Recital
DESCRIPTION:Building Use 3-8 PM
URL:https://uuspokane.org/event/april-young-voice-school-winter-recital-4-6-pm/
LOCATION:Sanctuary
CATEGORIES:Private Event
END:VEVENT
END:VCALENDAR