BEGIN:VCALENDAR
VERSION:2.0
PRODID:-//Unitarian Universalist Church of Spokane - ECPv6.15.20//NONSGML v1.0//EN
CALSCALE:GREGORIAN
METHOD:PUBLISH
X-ORIGINAL-URL:https://uuspokane.org
X-WR-CALDESC:Events for Unitarian Universalist Church of Spokane
REFRESH-INTERVAL;VALUE=DURATION:PT1H
X-Robots-Tag:noindex
X-PUBLISHED-TTL:PT1H
BEGIN:VTIMEZONE
TZID:America/Los_Angeles
BEGIN:DAYLIGHT
TZOFFSETFROM:-0800
TZOFFSETTO:-0700
TZNAME:PDT
DTSTART:20260308T100000
END:DAYLIGHT
BEGIN:STANDARD
TZOFFSETFROM:-0700
TZOFFSETTO:-0800
TZNAME:PST
DTSTART:20261101T090000
END:STANDARD
BEGIN:DAYLIGHT
TZOFFSETFROM:-0800
TZOFFSETTO:-0700
TZNAME:PDT
DTSTART:20270314T100000
END:DAYLIGHT
BEGIN:STANDARD
TZOFFSETFROM:-0700
TZOFFSETTO:-0800
TZNAME:PST
DTSTART:20271107T090000
END:STANDARD
BEGIN:DAYLIGHT
TZOFFSETFROM:-0800
TZOFFSETTO:-0700
TZNAME:PDT
DTSTART:20280312T100000
END:DAYLIGHT
BEGIN:STANDARD
TZOFFSETFROM:-0700
TZOFFSETTO:-0800
TZNAME:PST
DTSTART:20281105T090000
END:STANDARD
END:VTIMEZONE
BEGIN:VEVENT
DTSTART;TZID=America/Los_Angeles:20270901T100000
DTEND;TZID=America/Los_Angeles:20270901T110000
DTSTAMP:20260424T111453
CREATED:20251203T172547Z
LAST-MODIFIED:20251203T172547Z
UID:10003684-1819792800-1819796400@uuspokane.org
SUMMARY:Staff Meeting
DESCRIPTION:
URL:https://uuspokane.org/event/staff-meeting/2027-09-01/
LOCATION:UUCS Office
CATEGORIES:Meeting
END:VEVENT
BEGIN:VEVENT
DTSTART;TZID=America/Los_Angeles:20270901T140000
DTEND;TZID=America/Los_Angeles:20270901T160000
DTSTAMP:20260424T111453
CREATED:20250925T232509Z
LAST-MODIFIED:20250925T232509Z
UID:10003325-1819807200-1819814400@uuspokane.org
SUMMARY:Pastoral Care Team Planning Meeting
DESCRIPTION:
URL:https://uuspokane.org/event/pastoral-care-team-planning-meeting/2027-09-01/
LOCATION:ZOOM
CATEGORIES:Meeting
END:VEVENT
BEGIN:VEVENT
DTSTART;TZID=America/Los_Angeles:20270901T150000
DTEND;TZID=America/Los_Angeles:20270901T150000
DTSTAMP:20260424T111453
CREATED:20250924T191050Z
LAST-MODIFIED:20250924T191050Z
UID:10000164-1819810800-1819810800@uuspokane.org
SUMMARY:Weekly SUUN Submission Deadline
DESCRIPTION:
URL:https://uuspokane.org/event/weekly-suun-submission-deadline/2027-09-01/
CATEGORIES:Other
END:VEVENT
BEGIN:VEVENT
DTSTART;TZID=America/Los_Angeles:20270902T140000
DTEND;TZID=America/Los_Angeles:20270902T160000
DTSTAMP:20260424T111453
CREATED:20260122T180054Z
LAST-MODIFIED:20260122T180054Z
UID:10003924-1819893600-1819900800@uuspokane.org
SUMMARY:Retirement Group (closed meeting)
DESCRIPTION:
URL:https://uuspokane.org/event/retirement-group-closed-meeting-2/2027-09-02/
LOCATION:ZOOM
CATEGORIES:Meeting
END:VEVENT
BEGIN:VEVENT
DTSTART;TZID=America/Los_Angeles:20270903T160000
DTEND;TZID=America/Los_Angeles:20270903T173000
DTSTAMP:20260424T111453
CREATED:20260414T155358Z
LAST-MODIFIED:20260414T155358Z
UID:10000606-1819987200-1819992600@uuspokane.org
SUMMARY:LGBTQ+ Senior Group
DESCRIPTION:ZOOM
URL:https://uuspokane.org/event/lgbtq-senior-group-2-2/2027-09-03/
LOCATION:ZOOM
CATEGORIES:Meeting
ORGANIZER;CN="Nancy Avery":MAILTO:NancyTavery@comcast.net
END:VEVENT
BEGIN:VEVENT
DTSTART;TZID=America/Los_Angeles:20270905T091500
DTEND;TZID=America/Los_Angeles:20270905T101500
DTSTAMP:20260424T111453
CREATED:20250924T193716Z
LAST-MODIFIED:20250925T235209Z
UID:10000868-1820135700-1820139300@uuspokane.org
SUMMARY:Sunday Worship
DESCRIPTION:Live Stream Available
URL:https://uuspokane.org/event/sunday-worship/2027-09-05/
LOCATION:Sanctuary
CATEGORIES:Worship Service
END:VEVENT
BEGIN:VEVENT
DTSTART;TZID=America/Los_Angeles:20270905T110000
DTEND;TZID=America/Los_Angeles:20270905T120000
DTSTAMP:20260424T111453
CREATED:20250924T193853Z
LAST-MODIFIED:20250925T235352Z
UID:10001129-1820142000-1820145600@uuspokane.org
SUMMARY:Sunday Worship
DESCRIPTION:Live Stream Available
URL:https://uuspokane.org/event/sunday-worship-2/2027-09-05/
LOCATION:Sanctuary
CATEGORIES:Worship Service
END:VEVENT
BEGIN:VEVENT
DTSTART;TZID=America/Los_Angeles:20270905T110000
DTEND;TZID=America/Los_Angeles:20270905T121500
DTSTAMP:20260424T111453
CREATED:20250924T194449Z
LAST-MODIFIED:20250925T235502Z
UID:10001390-1820142000-1820146500@uuspokane.org
SUMMARY:Childcare for Sunday Services
DESCRIPTION:
URL:https://uuspokane.org/event/childcare-for-sunday-services/2027-09-05/
LOCATION:Channing Room (Nursery)
CATEGORIES:Childcare
END:VEVENT
BEGIN:VEVENT
DTSTART;TZID=America/Los_Angeles:20270906T183000
DTEND;TZID=America/Los_Angeles:20270906T200000
DTSTAMP:20260424T111453
CREATED:20250924T194849Z
LAST-MODIFIED:20250924T194849Z
UID:10001912-1820255400-1820260800@uuspokane.org
SUMMARY:Meditation Group
DESCRIPTION:Buddhist Meditation – Sravasti Abbey
URL:https://uuspokane.org/event/meditation-group/2027-09-06/
LOCATION:Private Zoom
CATEGORIES:Meditation
END:VEVENT
BEGIN:VEVENT
DTSTART;TZID=America/Los_Angeles:20270908T113000
DTEND;TZID=America/Los_Angeles:20270908T123000
DTSTAMP:20260424T111453
CREATED:20250925T172123Z
LAST-MODIFIED:20250930T175456Z
UID:10002409-1820403000-1820406600@uuspokane.org
SUMMARY:UU Women 2nd Wednesday Lunch
DESCRIPTION:Location varies
URL:https://uuspokane.org/event/uu-women-2nd-wednesday-lunch/2027-09-08/
LOCATION:Offsite
CATEGORIES:Fellowship
END:VEVENT
BEGIN:VEVENT
DTSTART;TZID=America/Los_Angeles:20270908T150000
DTEND;TZID=America/Los_Angeles:20270908T150000
DTSTAMP:20260424T111453
CREATED:20250924T191050Z
LAST-MODIFIED:20250924T191050Z
UID:10000165-1820415600-1820415600@uuspokane.org
SUMMARY:Weekly SUUN Submission Deadline
DESCRIPTION:
URL:https://uuspokane.org/event/weekly-suun-submission-deadline/2027-09-08/
CATEGORIES:Other
END:VEVENT
BEGIN:VEVENT
DTSTART;TZID=America/Los_Angeles:20270910T160000
DTEND;TZID=America/Los_Angeles:20270910T173000
DTSTAMP:20260424T111453
CREATED:20260414T155358Z
LAST-MODIFIED:20260414T155358Z
UID:10000607-1820592000-1820597400@uuspokane.org
SUMMARY:LGBTQ+ Senior Group
DESCRIPTION:ZOOM
URL:https://uuspokane.org/event/lgbtq-senior-group-2-2/2027-09-10/
LOCATION:ZOOM
CATEGORIES:Meeting
ORGANIZER;CN="Nancy Avery":MAILTO:NancyTavery@comcast.net
END:VEVENT
BEGIN:VEVENT
DTSTART;TZID=America/Los_Angeles:20270910T170000
DTEND;TZID=America/Los_Angeles:20270910T183000
DTSTAMP:20260424T111453
CREATED:20260305T213814Z
LAST-MODIFIED:20260305T213814Z
UID:10004187-1820595600-1820601000@uuspokane.org
SUMMARY:Meaningful Movies - Set Up
DESCRIPTION:
URL:https://uuspokane.org/event/meaningful-movies-set-up-2/2027-09-10/
LOCATION:Friendship Hall
CATEGORIES:Event Set Up,Social Justice
ORGANIZER;CN="Barb Stuebing":MAILTO:barbstuebing@gmail.com
END:VEVENT
BEGIN:VEVENT
DTSTART;TZID=America/Los_Angeles:20270910T180000
DTEND;TZID=America/Los_Angeles:20270910T210000
DTSTAMP:20260424T111453
CREATED:20251208T220636Z
LAST-MODIFIED:20260305T213645Z
UID:10004128-1820599200-1820610000@uuspokane.org
SUMMARY:Meaningful Movies
DESCRIPTION:
URL:https://uuspokane.org/event/meaningful-movies-4/2027-09-10/
LOCATION:Chapel
CATEGORIES:Social Justice
ORGANIZER;CN="Barb Stuebing":MAILTO:barbstuebing@gmail.com
END:VEVENT
BEGIN:VEVENT
DTSTART;TZID=America/Los_Angeles:20270910T210000
DTEND;TZID=America/Los_Angeles:20270910T220000
DTSTAMP:20260424T111453
CREATED:20260305T213857Z
LAST-MODIFIED:20260305T213857Z
UID:10004246-1820610000-1820613600@uuspokane.org
SUMMARY:Meaningful Movies - Cleanup
DESCRIPTION:
URL:https://uuspokane.org/event/meaningful-movies-cleanup-2/2027-09-10/
LOCATION:Chapel
CATEGORIES:Event Tear Down and Clean Up,Social Justice
ORGANIZER;CN="Barb Stuebing":MAILTO:barbstuebing@gmail.com
END:VEVENT
BEGIN:VEVENT
DTSTART;TZID=America/Los_Angeles:20270911T083000
DTEND;TZID=America/Los_Angeles:20270911T103000
DTSTAMP:20260424T111453
CREATED:20250925T172416Z
LAST-MODIFIED:20251001T030203Z
UID:10002470-1820651400-1820658600@uuspokane.org
SUMMARY:UU Men's Group at Rockwood Retirement
DESCRIPTION:Please join us for breakfast and conversation in the Livingston Dining Area of the Summit building at the Rockwood South Hill Retirement Community \n\nQuestions? Contact Tom Mosher at 509-220-1879. \nTake me to a map of the location.
URL:https://uuspokane.org/event/uu-mens-group-at-rockwood-retirement/2027-09-11/
LOCATION:Offsite
CATEGORIES:Fellowship
END:VEVENT
BEGIN:VEVENT
DTSTART;TZID=America/Los_Angeles:20270911T113000
DTEND;TZID=America/Los_Angeles:20270911T140000
DTSTAMP:20260424T111453
CREATED:20260204T203641Z
LAST-MODIFIED:20260204T203641Z
UID:10002530-1820662200-1820671200@uuspokane.org
SUMMARY:LGBTQ+ Seniors of the Inland Northwest Potluck
DESCRIPTION:Join us for food\, fellowship and conversation.
URL:https://uuspokane.org/event/lgbtq-seniors-of-the-inland-northwest-potluck-2/2027-09-11/
LOCATION:Friendship Hall
CATEGORIES:Other
ORGANIZER;CN="Nancy Avery":MAILTO:NancyTavery@comcast.net
END:VEVENT
BEGIN:VEVENT
DTSTART;TZID=America/Los_Angeles:20270912T091500
DTEND;TZID=America/Los_Angeles:20270912T101500
DTSTAMP:20260424T111453
CREATED:20250924T193716Z
LAST-MODIFIED:20250925T235209Z
UID:10000869-1820740500-1820744100@uuspokane.org
SUMMARY:Sunday Worship
DESCRIPTION:Live Stream Available
URL:https://uuspokane.org/event/sunday-worship/2027-09-12/
LOCATION:Sanctuary
CATEGORIES:Worship Service
END:VEVENT
BEGIN:VEVENT
DTSTART;TZID=America/Los_Angeles:20270912T110000
DTEND;TZID=America/Los_Angeles:20270912T120000
DTSTAMP:20260424T111453
CREATED:20250924T193853Z
LAST-MODIFIED:20250925T235352Z
UID:10001130-1820746800-1820750400@uuspokane.org
SUMMARY:Sunday Worship
DESCRIPTION:Live Stream Available
URL:https://uuspokane.org/event/sunday-worship-2/2027-09-12/
LOCATION:Sanctuary
CATEGORIES:Worship Service
END:VEVENT
BEGIN:VEVENT
DTSTART;TZID=America/Los_Angeles:20270912T110000
DTEND;TZID=America/Los_Angeles:20270912T121500
DTSTAMP:20260424T111453
CREATED:20250924T194449Z
LAST-MODIFIED:20250925T235502Z
UID:10001391-1820746800-1820751300@uuspokane.org
SUMMARY:Childcare for Sunday Services
DESCRIPTION:
URL:https://uuspokane.org/event/childcare-for-sunday-services/2027-09-12/
LOCATION:Channing Room (Nursery)
CATEGORIES:Childcare
END:VEVENT
BEGIN:VEVENT
DTSTART;TZID=America/Los_Angeles:20270912T123000
DTEND;TZID=America/Los_Angeles:20270912T133000
DTSTAMP:20260424T111453
CREATED:20251120T162222Z
LAST-MODIFIED:20251120T162222Z
UID:10002771-1820752200-1820755800@uuspokane.org
SUMMARY:Poetry Sharing Circle
DESCRIPTION:Have you ever stumbled upon a poem — whether found in a book\, heard in passing\, or written yourself — that felt too meaningful to keep to yourself? Our Poetry Sharing Circle is a gentle\, welcoming hour created just for that. \nThis is not a workshop\, class\, or writers’ critique group. Instead\, it’s a simple in-person gathering where we come together to share poems that move us\, comfort us\, surprise us\, or make us think. Bring a poem you love and a few words about why it speaks to you — or simply come to listen and enjoy the company of others who appreciate the magic of poetry. \nNo pressure … no preparation … no expectations. \nJust people\, poems\, and a peaceful moment in community.
URL:https://uuspokane.org/event/poetry-sharing-circle-2/2027-09-12/
LOCATION:Chapel
CATEGORIES:Adult Enrichment
ORGANIZER;CN="Lynn Jinishian":MAILTO:jinishian@comcast.net
END:VEVENT
BEGIN:VEVENT
DTSTART;TZID=America/Los_Angeles:20270912T130000
DTEND;TZID=America/Los_Angeles:20270912T160000
DTSTAMP:20260424T111453
CREATED:20250925T174023Z
LAST-MODIFIED:20250925T174023Z
UID:10002831-1820754000-1820764800@uuspokane.org
SUMMARY:Spokane Handweaver's Guild
DESCRIPTION:
URL:https://uuspokane.org/event/spokane-handweavers-guild/2027-09-12/
LOCATION:Thoreau Room
CATEGORIES:Private Event
END:VEVENT
BEGIN:VEVENT
DTSTART;TZID=America/Los_Angeles:20270913T183000
DTEND;TZID=America/Los_Angeles:20270913T200000
DTSTAMP:20260424T111453
CREATED:20250924T194849Z
LAST-MODIFIED:20250924T194849Z
UID:10001913-1820860200-1820865600@uuspokane.org
SUMMARY:Meditation Group
DESCRIPTION:Buddhist Meditation – Sravasti Abbey
URL:https://uuspokane.org/event/meditation-group/2027-09-13/
LOCATION:Private Zoom
CATEGORIES:Meditation
END:VEVENT
BEGIN:VEVENT
DTSTART;TZID=America/Los_Angeles:20270914T110000
DTEND;TZID=America/Los_Angeles:20270914T130000
DTSTAMP:20260424T111453
CREATED:20250925T173256Z
LAST-MODIFIED:20250925T173256Z
UID:10002591-1820919600-1820926800@uuspokane.org
SUMMARY:Ops Team Meeting
DESCRIPTION:
URL:https://uuspokane.org/event/ops-team-meeting/2027-09-14/
LOCATION:RE Zoom Account
CATEGORIES:Meeting
END:VEVENT
BEGIN:VEVENT
DTSTART;TZID=America/Los_Angeles:20270914T160000
DTEND;TZID=America/Los_Angeles:20270914T170000
DTSTAMP:20260424T111453
CREATED:20260305T212112Z
LAST-MODIFIED:20260305T212112Z
UID:10004070-1820937600-1820941200@uuspokane.org
SUMMARY:Monthly Family Service Project - Teen & Kid Closet
DESCRIPTION:One of the reasons our church exists is to work for justice/live justly. Opportunities for children and youths to do this can feel limited\, but we have arranged for UUCS families to volunteer at Teen & Kid Closet. They do incredibly work for vulnerable children in Spokane — read more about them on their website. A parent/guardian is expected to stay with their child(ren) the entire session. \n  \nTake me to the registration page.
URL:https://uuspokane.org/event/monthly-family-service-project-teen-kid-closet-3/2027-09-14/
LOCATION:Offsite
CATEGORIES:RE Event
ORGANIZER;CN="Stephanie Gronholz":MAILTO:re@uuspokane.org
END:VEVENT
BEGIN:VEVENT
DTSTART;TZID=America/Los_Angeles:20270915T150000
DTEND;TZID=America/Los_Angeles:20270915T150000
DTSTAMP:20260424T111453
CREATED:20250924T191050Z
LAST-MODIFIED:20250924T191050Z
UID:10000166-1821020400-1821020400@uuspokane.org
SUMMARY:Weekly SUUN Submission Deadline
DESCRIPTION:
URL:https://uuspokane.org/event/weekly-suun-submission-deadline/2027-09-15/
CATEGORIES:Other
END:VEVENT
BEGIN:VEVENT
DTSTART;TZID=America/Los_Angeles:20270915T160000
DTEND;TZID=America/Los_Angeles:20270915T170000
DTSTAMP:20260424T111453
CREATED:20250925T173505Z
LAST-MODIFIED:20250925T173505Z
UID:10002651-1821024000-1821027600@uuspokane.org
SUMMARY:Board Agenda Meeting
DESCRIPTION:
URL:https://uuspokane.org/event/board-agenda-meeting/2027-09-15/
LOCATION:RE Zoom Account
CATEGORIES:Meeting
END:VEVENT
BEGIN:VEVENT
DTSTART;TZID=America/Los_Angeles:20270916T130000
DTEND;TZID=America/Los_Angeles:20270916T150000
DTSTAMP:20260424T111453
CREATED:20250925T231947Z
LAST-MODIFIED:20250925T231947Z
UID:10003264-1821099600-1821106800@uuspokane.org
SUMMARY:Third Thursday Book Group
DESCRIPTION:
URL:https://uuspokane.org/event/third-thursday-book-group/2027-09-16/
LOCATION:Offsite
CATEGORIES:Adult Enrichment
END:VEVENT
BEGIN:VEVENT
DTSTART;TZID=America/Los_Angeles:20270917T160000
DTEND;TZID=America/Los_Angeles:20270917T173000
DTSTAMP:20260424T111453
CREATED:20260414T155358Z
LAST-MODIFIED:20260414T155358Z
UID:10000608-1821196800-1821202200@uuspokane.org
SUMMARY:LGBTQ+ Senior Group
DESCRIPTION:ZOOM
URL:https://uuspokane.org/event/lgbtq-senior-group-2-2/2027-09-17/
LOCATION:ZOOM
CATEGORIES:Meeting
ORGANIZER;CN="Nancy Avery":MAILTO:NancyTavery@comcast.net
END:VEVENT
BEGIN:VEVENT
DTSTART;TZID=America/Los_Angeles:20270918T100000
DTEND;TZID=America/Los_Angeles:20270918T120000
DTSTAMP:20260424T111453
CREATED:20260217T231342Z
LAST-MODIFIED:20260217T231342Z
UID:10002711-1821261600-1821268800@uuspokane.org
SUMMARY:NAUA Monthly Service - ZOOM Only
DESCRIPTION:
URL:https://uuspokane.org/event/naua-monthly-service-zoom-only-2/2027-09-18/
LOCATION:Private Zoom
CATEGORIES:Worship Service
ORGANIZER;CN="Roy Dickerson":MAILTO:info@naunitarians.org
END:VEVENT
END:VCALENDAR