BEGIN:VCALENDAR
VERSION:2.0
PRODID:-//Unitarian Universalist Church of Spokane - ECPv6.15.20//NONSGML v1.0//EN
CALSCALE:GREGORIAN
METHOD:PUBLISH
X-ORIGINAL-URL:https://uuspokane.org
X-WR-CALDESC:Events for Unitarian Universalist Church of Spokane
REFRESH-INTERVAL;VALUE=DURATION:PT1H
X-Robots-Tag:noindex
X-PUBLISHED-TTL:PT1H
BEGIN:VTIMEZONE
TZID:America/Los_Angeles
BEGIN:DAYLIGHT
TZOFFSETFROM:-0800
TZOFFSETTO:-0700
TZNAME:PDT
DTSTART:20240310T100000
END:DAYLIGHT
BEGIN:STANDARD
TZOFFSETFROM:-0700
TZOFFSETTO:-0800
TZNAME:PST
DTSTART:20241103T090000
END:STANDARD
BEGIN:DAYLIGHT
TZOFFSETFROM:-0800
TZOFFSETTO:-0700
TZNAME:PDT
DTSTART:20250309T100000
END:DAYLIGHT
BEGIN:STANDARD
TZOFFSETFROM:-0700
TZOFFSETTO:-0800
TZNAME:PST
DTSTART:20251102T090000
END:STANDARD
BEGIN:DAYLIGHT
TZOFFSETFROM:-0800
TZOFFSETTO:-0700
TZNAME:PDT
DTSTART:20260308T100000
END:DAYLIGHT
BEGIN:STANDARD
TZOFFSETFROM:-0700
TZOFFSETTO:-0800
TZNAME:PST
DTSTART:20261101T090000
END:STANDARD
BEGIN:DAYLIGHT
TZOFFSETFROM:-0800
TZOFFSETTO:-0700
TZNAME:PDT
DTSTART:20270314T100000
END:DAYLIGHT
BEGIN:STANDARD
TZOFFSETFROM:-0700
TZOFFSETTO:-0800
TZNAME:PST
DTSTART:20271107T090000
END:STANDARD
END:VTIMEZONE
BEGIN:VEVENT
DTSTART;TZID=America/Los_Angeles:20260421T180000
DTEND;TZID=America/Los_Angeles:20260421T193000
DTSTAMP:20260423T124936
CREATED:20260107T233841Z
LAST-MODIFIED:20260107T234027Z
UID:10003887-1776794400-1776799800@uuspokane.org
SUMMARY:Choir Rehearsal
DESCRIPTION:
URL:https://uuspokane.org/event/choir-rehearsal-4/2026-04-21/
LOCATION:Sanctuary
CATEGORIES:Choir Rehearsal
END:VEVENT
BEGIN:VEVENT
DTSTART;TZID=America/Los_Angeles:20260407T180000
DTEND;TZID=America/Los_Angeles:20260407T193000
DTSTAMP:20260423T124936
CREATED:20260107T233950Z
LAST-MODIFIED:20260107T234217Z
UID:10003869-1775584800-1775590200@uuspokane.org
SUMMARY:Choir Rehearsal
DESCRIPTION:
URL:https://uuspokane.org/event/choir-rehearsal-5/2026-04-07/
LOCATION:Sanctuary
CATEGORIES:Choir Rehearsal
END:VEVENT
BEGIN:VEVENT
DTSTART;TZID=America/Los_Angeles:20260317T180000
DTEND;TZID=America/Los_Angeles:20260317T193000
DTSTAMP:20260423T124936
CREATED:20260107T233841Z
LAST-MODIFIED:20260107T234027Z
UID:10003886-1773770400-1773775800@uuspokane.org
SUMMARY:Choir Rehearsal
DESCRIPTION:
URL:https://uuspokane.org/event/choir-rehearsal-4/2026-03-17/
LOCATION:Sanctuary
CATEGORIES:Choir Rehearsal
END:VEVENT
BEGIN:VEVENT
DTSTART;TZID=America/Los_Angeles:20260303T180000
DTEND;TZID=America/Los_Angeles:20260303T193000
DTSTAMP:20260423T124936
CREATED:20260107T233950Z
LAST-MODIFIED:20260107T234217Z
UID:10003868-1772560800-1772566200@uuspokane.org
SUMMARY:Choir Rehearsal
DESCRIPTION:
URL:https://uuspokane.org/event/choir-rehearsal-5/2026-03-03/
LOCATION:Sanctuary
CATEGORIES:Choir Rehearsal
END:VEVENT
BEGIN:VEVENT
DTSTART;TZID=America/Los_Angeles:20260217T180000
DTEND;TZID=America/Los_Angeles:20260217T193000
DTSTAMP:20260423T124936
CREATED:20260107T233841Z
LAST-MODIFIED:20260107T234027Z
UID:10003885-1771351200-1771356600@uuspokane.org
SUMMARY:Choir Rehearsal
DESCRIPTION:
URL:https://uuspokane.org/event/choir-rehearsal-4/2026-02-17/
LOCATION:Sanctuary
CATEGORIES:Choir Rehearsal
END:VEVENT
BEGIN:VEVENT
DTSTART;TZID=America/Los_Angeles:20260203T180000
DTEND;TZID=America/Los_Angeles:20260203T193000
DTSTAMP:20260423T124936
CREATED:20260107T233950Z
LAST-MODIFIED:20260107T234217Z
UID:10003867-1770141600-1770147000@uuspokane.org
SUMMARY:Choir Rehearsal
DESCRIPTION:
URL:https://uuspokane.org/event/choir-rehearsal-5/2026-02-03/
LOCATION:Sanctuary
CATEGORIES:Choir Rehearsal
END:VEVENT
BEGIN:VEVENT
DTSTART;TZID=America/Los_Angeles:20260120T180000
DTEND;TZID=America/Los_Angeles:20260120T193000
DTSTAMP:20260423T124936
CREATED:20260107T233841Z
LAST-MODIFIED:20260107T234027Z
UID:10003884-1768932000-1768937400@uuspokane.org
SUMMARY:Choir Rehearsal
DESCRIPTION:
URL:https://uuspokane.org/event/choir-rehearsal-4/2026-01-20/
LOCATION:Sanctuary
CATEGORIES:Choir Rehearsal
END:VEVENT
BEGIN:VEVENT
DTSTART;TZID=America/Los_Angeles:20251216T180000
DTEND;TZID=America/Los_Angeles:20251216T193000
DTSTAMP:20260423T124936
CREATED:20250925T192251Z
LAST-MODIFIED:20250925T192251Z
UID:10002936-1765908000-1765913400@uuspokane.org
SUMMARY:Choir Rehearsal
DESCRIPTION:
URL:https://uuspokane.org/event/choir-rehearsal-3/2025-12-16/
LOCATION:Sanctuary
CATEGORIES:Choir Rehearsal
END:VEVENT
BEGIN:VEVENT
DTSTART;TZID=America/Los_Angeles:20251202T180000
DTEND;TZID=America/Los_Angeles:20251202T193000
DTSTAMP:20260423T124936
CREATED:20250925T192129Z
LAST-MODIFIED:20250925T192129Z
UID:10002933-1764698400-1764703800@uuspokane.org
SUMMARY:Choir Rehearsal
DESCRIPTION:
URL:https://uuspokane.org/event/choir-rehearsal-2/2025-12-02/
LOCATION:Sanctuary
CATEGORIES:Choir Rehearsal
END:VEVENT
BEGIN:VEVENT
DTSTART;TZID=America/Los_Angeles:20251118T180000
DTEND;TZID=America/Los_Angeles:20251118T193000
DTSTAMP:20260423T124936
CREATED:20250925T192251Z
LAST-MODIFIED:20250925T192251Z
UID:10002935-1763488800-1763494200@uuspokane.org
SUMMARY:Choir Rehearsal
DESCRIPTION:
URL:https://uuspokane.org/event/choir-rehearsal-3/2025-11-18/
LOCATION:Sanctuary
CATEGORIES:Choir Rehearsal
END:VEVENT
BEGIN:VEVENT
DTSTART;TZID=America/Los_Angeles:20251104T180000
DTEND;TZID=America/Los_Angeles:20251104T193000
DTSTAMP:20260423T124936
CREATED:20250925T192129Z
LAST-MODIFIED:20250925T192129Z
UID:10002932-1762279200-1762284600@uuspokane.org
SUMMARY:Choir Rehearsal
DESCRIPTION:
URL:https://uuspokane.org/event/choir-rehearsal-2/2025-11-04/
LOCATION:Sanctuary
CATEGORIES:Choir Rehearsal
END:VEVENT
BEGIN:VEVENT
DTSTART;TZID=America/Los_Angeles:20251021T180000
DTEND;TZID=America/Los_Angeles:20251021T193000
DTSTAMP:20260423T124936
CREATED:20250925T192251Z
LAST-MODIFIED:20250925T192251Z
UID:10002934-1761069600-1761075000@uuspokane.org
SUMMARY:Choir Rehearsal
DESCRIPTION:
URL:https://uuspokane.org/event/choir-rehearsal-3/2025-10-21/
LOCATION:Sanctuary
CATEGORIES:Choir Rehearsal
END:VEVENT
BEGIN:VEVENT
DTSTART;TZID=America/Los_Angeles:20251007T180000
DTEND;TZID=America/Los_Angeles:20251007T193000
DTSTAMP:20260423T124936
CREATED:20250925T192129Z
LAST-MODIFIED:20250925T192129Z
UID:10002931-1759860000-1759865400@uuspokane.org
SUMMARY:Choir Rehearsal
DESCRIPTION:
URL:https://uuspokane.org/event/choir-rehearsal-2/2025-10-07/
LOCATION:Sanctuary
CATEGORIES:Choir Rehearsal
END:VEVENT
BEGIN:VEVENT
DTSTART;TZID=America/Los_Angeles:20250930T180000
DTEND;TZID=America/Los_Angeles:20250930T193000
DTSTAMP:20260423T124936
CREATED:20250925T192009Z
LAST-MODIFIED:20250925T192009Z
UID:10002930-1759255200-1759260600@uuspokane.org
SUMMARY:Choir Rehearsal
DESCRIPTION:
URL:https://uuspokane.org/event/choir-rehearsal/
LOCATION:Sanctuary
CATEGORIES:Choir Rehearsal
END:VEVENT
END:VCALENDAR