BEGIN:VCALENDAR
VERSION:2.0
PRODID:-//Unitarian Universalist Church of Spokane - ECPv6.15.20//NONSGML v1.0//EN
CALSCALE:GREGORIAN
METHOD:PUBLISH
X-ORIGINAL-URL:https://uuspokane.org
X-WR-CALDESC:Events for Unitarian Universalist Church of Spokane
REFRESH-INTERVAL;VALUE=DURATION:PT1H
X-Robots-Tag:noindex
X-PUBLISHED-TTL:PT1H
BEGIN:VTIMEZONE
TZID:America/Los_Angeles
BEGIN:DAYLIGHT
TZOFFSETFROM:-0800
TZOFFSETTO:-0700
TZNAME:PDT
DTSTART:20290311T100000
END:DAYLIGHT
BEGIN:STANDARD
TZOFFSETFROM:-0700
TZOFFSETTO:-0800
TZNAME:PST
DTSTART:20291104T090000
END:STANDARD
BEGIN:DAYLIGHT
TZOFFSETFROM:-0800
TZOFFSETTO:-0700
TZNAME:PDT
DTSTART:20300310T100000
END:DAYLIGHT
BEGIN:STANDARD
TZOFFSETFROM:-0700
TZOFFSETTO:-0800
TZNAME:PST
DTSTART:20301103T090000
END:STANDARD
BEGIN:DAYLIGHT
TZOFFSETFROM:-0800
TZOFFSETTO:-0700
TZNAME:PDT
DTSTART:20310309T100000
END:DAYLIGHT
BEGIN:STANDARD
TZOFFSETFROM:-0700
TZOFFSETTO:-0800
TZNAME:PST
DTSTART:20311102T090000
END:STANDARD
END:VTIMEZONE
BEGIN:VEVENT
DTSTART;TZID=America/Los_Angeles:20300206T100000
DTEND;TZID=America/Los_Angeles:20300206T110000
DTSTAMP:20260424T195017
CREATED:20251203T172547Z
LAST-MODIFIED:20251203T172547Z
UID:10003713-1896602400-1896606000@uuspokane.org
SUMMARY:Staff Meeting
DESCRIPTION:
URL:https://uuspokane.org/event/staff-meeting/2030-02-06/
LOCATION:UUCS Office
CATEGORIES:Meeting
END:VEVENT
BEGIN:VEVENT
DTSTART;TZID=America/Los_Angeles:20300212T110000
DTEND;TZID=America/Los_Angeles:20300212T130000
DTSTAMP:20260424T195017
CREATED:20250925T173256Z
LAST-MODIFIED:20250925T173256Z
UID:10002620-1897124400-1897131600@uuspokane.org
SUMMARY:Ops Team Meeting
DESCRIPTION:
URL:https://uuspokane.org/event/ops-team-meeting/2030-02-12/
LOCATION:RE Zoom Account
CATEGORIES:Meeting
END:VEVENT
BEGIN:VEVENT
DTSTART;TZID=America/Los_Angeles:20300306T100000
DTEND;TZID=America/Los_Angeles:20300306T110000
DTSTAMP:20260424T195017
CREATED:20251203T172547Z
LAST-MODIFIED:20251203T172547Z
UID:10003714-1899021600-1899025200@uuspokane.org
SUMMARY:Staff Meeting
DESCRIPTION:
URL:https://uuspokane.org/event/staff-meeting/2030-03-06/
LOCATION:UUCS Office
CATEGORIES:Meeting
END:VEVENT
BEGIN:VEVENT
DTSTART;TZID=America/Los_Angeles:20300312T110000
DTEND;TZID=America/Los_Angeles:20300312T130000
DTSTAMP:20260424T195017
CREATED:20250925T173256Z
LAST-MODIFIED:20250925T173256Z
UID:10002621-1899543600-1899550800@uuspokane.org
SUMMARY:Ops Team Meeting
DESCRIPTION:
URL:https://uuspokane.org/event/ops-team-meeting/2030-03-12/
LOCATION:RE Zoom Account
CATEGORIES:Meeting
END:VEVENT
BEGIN:VEVENT
DTSTART;TZID=America/Los_Angeles:20300403T100000
DTEND;TZID=America/Los_Angeles:20300403T110000
DTSTAMP:20260424T195017
CREATED:20251203T172547Z
LAST-MODIFIED:20251203T172547Z
UID:10003715-1901440800-1901444400@uuspokane.org
SUMMARY:Staff Meeting
DESCRIPTION:
URL:https://uuspokane.org/event/staff-meeting/2030-04-03/
LOCATION:UUCS Office
CATEGORIES:Meeting
END:VEVENT
BEGIN:VEVENT
DTSTART;TZID=America/Los_Angeles:20300409T110000
DTEND;TZID=America/Los_Angeles:20300409T130000
DTSTAMP:20260424T195017
CREATED:20250925T173256Z
LAST-MODIFIED:20250925T173256Z
UID:10002622-1901962800-1901970000@uuspokane.org
SUMMARY:Ops Team Meeting
DESCRIPTION:
URL:https://uuspokane.org/event/ops-team-meeting/2030-04-09/
LOCATION:RE Zoom Account
CATEGORIES:Meeting
END:VEVENT
BEGIN:VEVENT
DTSTART;TZID=America/Los_Angeles:20300501T100000
DTEND;TZID=America/Los_Angeles:20300501T110000
DTSTAMP:20260424T195017
CREATED:20251203T172547Z
LAST-MODIFIED:20251203T172547Z
UID:10003716-1903860000-1903863600@uuspokane.org
SUMMARY:Staff Meeting
DESCRIPTION:
URL:https://uuspokane.org/event/staff-meeting/2030-05-01/
LOCATION:UUCS Office
CATEGORIES:Meeting
END:VEVENT
BEGIN:VEVENT
DTSTART;TZID=America/Los_Angeles:20300514T110000
DTEND;TZID=America/Los_Angeles:20300514T130000
DTSTAMP:20260424T195017
CREATED:20250925T173256Z
LAST-MODIFIED:20250925T173256Z
UID:10002623-1904986800-1904994000@uuspokane.org
SUMMARY:Ops Team Meeting
DESCRIPTION:
URL:https://uuspokane.org/event/ops-team-meeting/2030-05-14/
LOCATION:RE Zoom Account
CATEGORIES:Meeting
END:VEVENT
BEGIN:VEVENT
DTSTART;TZID=America/Los_Angeles:20300605T100000
DTEND;TZID=America/Los_Angeles:20300605T110000
DTSTAMP:20260424T195017
CREATED:20251203T172547Z
LAST-MODIFIED:20251203T172547Z
UID:10003717-1906884000-1906887600@uuspokane.org
SUMMARY:Staff Meeting
DESCRIPTION:
URL:https://uuspokane.org/event/staff-meeting/2030-06-05/
LOCATION:UUCS Office
CATEGORIES:Meeting
END:VEVENT
BEGIN:VEVENT
DTSTART;TZID=America/Los_Angeles:20300611T110000
DTEND;TZID=America/Los_Angeles:20300611T130000
DTSTAMP:20260424T195017
CREATED:20250925T173256Z
LAST-MODIFIED:20250925T173256Z
UID:10002624-1907406000-1907413200@uuspokane.org
SUMMARY:Ops Team Meeting
DESCRIPTION:
URL:https://uuspokane.org/event/ops-team-meeting/2030-06-11/
LOCATION:RE Zoom Account
CATEGORIES:Meeting
END:VEVENT
BEGIN:VEVENT
DTSTART;TZID=America/Los_Angeles:20300703T100000
DTEND;TZID=America/Los_Angeles:20300703T110000
DTSTAMP:20260424T195017
CREATED:20251203T172547Z
LAST-MODIFIED:20251203T172547Z
UID:10003718-1909303200-1909306800@uuspokane.org
SUMMARY:Staff Meeting
DESCRIPTION:
URL:https://uuspokane.org/event/staff-meeting/2030-07-03/
LOCATION:UUCS Office
CATEGORIES:Meeting
END:VEVENT
BEGIN:VEVENT
DTSTART;TZID=America/Los_Angeles:20300709T110000
DTEND;TZID=America/Los_Angeles:20300709T130000
DTSTAMP:20260424T195017
CREATED:20250925T173256Z
LAST-MODIFIED:20250925T173256Z
UID:10002625-1909825200-1909832400@uuspokane.org
SUMMARY:Ops Team Meeting
DESCRIPTION:
URL:https://uuspokane.org/event/ops-team-meeting/2030-07-09/
LOCATION:RE Zoom Account
CATEGORIES:Meeting
END:VEVENT
BEGIN:VEVENT
DTSTART;TZID=America/Los_Angeles:20300807T100000
DTEND;TZID=America/Los_Angeles:20300807T110000
DTSTAMP:20260424T195017
CREATED:20251203T172547Z
LAST-MODIFIED:20251203T172547Z
UID:10003719-1912327200-1912330800@uuspokane.org
SUMMARY:Staff Meeting
DESCRIPTION:
URL:https://uuspokane.org/event/staff-meeting/2030-08-07/
LOCATION:UUCS Office
CATEGORIES:Meeting
END:VEVENT
BEGIN:VEVENT
DTSTART;TZID=America/Los_Angeles:20300813T110000
DTEND;TZID=America/Los_Angeles:20300813T130000
DTSTAMP:20260424T195017
CREATED:20250925T173256Z
LAST-MODIFIED:20250925T173256Z
UID:10002626-1912849200-1912856400@uuspokane.org
SUMMARY:Ops Team Meeting
DESCRIPTION:
URL:https://uuspokane.org/event/ops-team-meeting/2030-08-13/
LOCATION:RE Zoom Account
CATEGORIES:Meeting
END:VEVENT
BEGIN:VEVENT
DTSTART;TZID=America/Los_Angeles:20300904T100000
DTEND;TZID=America/Los_Angeles:20300904T110000
DTSTAMP:20260424T195017
CREATED:20251203T172547Z
LAST-MODIFIED:20251203T172547Z
UID:10003720-1914746400-1914750000@uuspokane.org
SUMMARY:Staff Meeting
DESCRIPTION:
URL:https://uuspokane.org/event/staff-meeting/2030-09-04/
LOCATION:UUCS Office
CATEGORIES:Meeting
END:VEVENT
BEGIN:VEVENT
DTSTART;TZID=America/Los_Angeles:20300910T110000
DTEND;TZID=America/Los_Angeles:20300910T130000
DTSTAMP:20260424T195017
CREATED:20250925T173256Z
LAST-MODIFIED:20250925T173256Z
UID:10002627-1915268400-1915275600@uuspokane.org
SUMMARY:Ops Team Meeting
DESCRIPTION:
URL:https://uuspokane.org/event/ops-team-meeting/2030-09-10/
LOCATION:RE Zoom Account
CATEGORIES:Meeting
END:VEVENT
BEGIN:VEVENT
DTSTART;TZID=America/Los_Angeles:20301002T100000
DTEND;TZID=America/Los_Angeles:20301002T110000
DTSTAMP:20260424T195017
CREATED:20251203T172547Z
LAST-MODIFIED:20251203T172547Z
UID:10003721-1917165600-1917169200@uuspokane.org
SUMMARY:Staff Meeting
DESCRIPTION:
URL:https://uuspokane.org/event/staff-meeting/2030-10-02/
LOCATION:UUCS Office
CATEGORIES:Meeting
END:VEVENT
BEGIN:VEVENT
DTSTART;TZID=America/Los_Angeles:20301106T100000
DTEND;TZID=America/Los_Angeles:20301106T110000
DTSTAMP:20260424T195017
CREATED:20251203T172547Z
LAST-MODIFIED:20251203T172547Z
UID:10003722-1920189600-1920193200@uuspokane.org
SUMMARY:Staff Meeting
DESCRIPTION:
URL:https://uuspokane.org/event/staff-meeting/2030-11-06/
LOCATION:UUCS Office
CATEGORIES:Meeting
END:VEVENT
END:VCALENDAR