BEGIN:VCALENDAR
VERSION:2.0
PRODID:-//Unitarian Universalist Church of Spokane - ECPv6.15.20//NONSGML v1.0//EN
CALSCALE:GREGORIAN
METHOD:PUBLISH
X-ORIGINAL-URL:https://uuspokane.org
X-WR-CALDESC:Events for Unitarian Universalist Church of Spokane
REFRESH-INTERVAL;VALUE=DURATION:PT1H
X-Robots-Tag:noindex
X-PUBLISHED-TTL:PT1H
BEGIN:VTIMEZONE
TZID:America/Los_Angeles
BEGIN:DAYLIGHT
TZOFFSETFROM:-0800
TZOFFSETTO:-0700
TZNAME:PDT
DTSTART:20270314T100000
END:DAYLIGHT
BEGIN:STANDARD
TZOFFSETFROM:-0700
TZOFFSETTO:-0800
TZNAME:PST
DTSTART:20271107T090000
END:STANDARD
BEGIN:DAYLIGHT
TZOFFSETFROM:-0800
TZOFFSETTO:-0700
TZNAME:PDT
DTSTART:20280312T100000
END:DAYLIGHT
BEGIN:STANDARD
TZOFFSETFROM:-0700
TZOFFSETTO:-0800
TZNAME:PST
DTSTART:20281105T090000
END:STANDARD
BEGIN:DAYLIGHT
TZOFFSETFROM:-0800
TZOFFSETTO:-0700
TZNAME:PDT
DTSTART:20290311T100000
END:DAYLIGHT
BEGIN:STANDARD
TZOFFSETFROM:-0700
TZOFFSETTO:-0800
TZNAME:PST
DTSTART:20291104T090000
END:STANDARD
BEGIN:DAYLIGHT
TZOFFSETFROM:-0800
TZOFFSETTO:-0700
TZNAME:PDT
DTSTART:20300310T100000
END:DAYLIGHT
BEGIN:STANDARD
TZOFFSETFROM:-0700
TZOFFSETTO:-0800
TZNAME:PST
DTSTART:20301103T090000
END:STANDARD
END:VTIMEZONE
BEGIN:VEVENT
DTSTART;TZID=America/Los_Angeles:20280607T100000
DTEND;TZID=America/Los_Angeles:20280607T110000
DTSTAMP:20260424T131625
CREATED:20251203T172547Z
LAST-MODIFIED:20251203T172547Z
UID:10003693-1843984800-1843988400@uuspokane.org
SUMMARY:Staff Meeting
DESCRIPTION:
URL:https://uuspokane.org/event/staff-meeting/2028-06-07/
LOCATION:UUCS Office
CATEGORIES:Meeting
END:VEVENT
BEGIN:VEVENT
DTSTART;TZID=America/Los_Angeles:20280613T110000
DTEND;TZID=America/Los_Angeles:20280613T130000
DTSTAMP:20260424T131625
CREATED:20250925T173256Z
LAST-MODIFIED:20250925T173256Z
UID:10002600-1844506800-1844514000@uuspokane.org
SUMMARY:Ops Team Meeting
DESCRIPTION:
URL:https://uuspokane.org/event/ops-team-meeting/2028-06-13/
LOCATION:RE Zoom Account
CATEGORIES:Meeting
END:VEVENT
BEGIN:VEVENT
DTSTART;TZID=America/Los_Angeles:20280705T100000
DTEND;TZID=America/Los_Angeles:20280705T110000
DTSTAMP:20260424T131625
CREATED:20251203T172547Z
LAST-MODIFIED:20251203T172547Z
UID:10003694-1846404000-1846407600@uuspokane.org
SUMMARY:Staff Meeting
DESCRIPTION:
URL:https://uuspokane.org/event/staff-meeting/2028-07-05/
LOCATION:UUCS Office
CATEGORIES:Meeting
END:VEVENT
BEGIN:VEVENT
DTSTART;TZID=America/Los_Angeles:20280711T110000
DTEND;TZID=America/Los_Angeles:20280711T130000
DTSTAMP:20260424T131625
CREATED:20250925T173256Z
LAST-MODIFIED:20250925T173256Z
UID:10002601-1846926000-1846933200@uuspokane.org
SUMMARY:Ops Team Meeting
DESCRIPTION:
URL:https://uuspokane.org/event/ops-team-meeting/2028-07-11/
LOCATION:RE Zoom Account
CATEGORIES:Meeting
END:VEVENT
BEGIN:VEVENT
DTSTART;TZID=America/Los_Angeles:20280802T100000
DTEND;TZID=America/Los_Angeles:20280802T110000
DTSTAMP:20260424T131625
CREATED:20251203T172547Z
LAST-MODIFIED:20251203T172547Z
UID:10003695-1848823200-1848826800@uuspokane.org
SUMMARY:Staff Meeting
DESCRIPTION:
URL:https://uuspokane.org/event/staff-meeting/2028-08-02/
LOCATION:UUCS Office
CATEGORIES:Meeting
END:VEVENT
BEGIN:VEVENT
DTSTART;TZID=America/Los_Angeles:20280808T110000
DTEND;TZID=America/Los_Angeles:20280808T130000
DTSTAMP:20260424T131625
CREATED:20250925T173256Z
LAST-MODIFIED:20250925T173256Z
UID:10002602-1849345200-1849352400@uuspokane.org
SUMMARY:Ops Team Meeting
DESCRIPTION:
URL:https://uuspokane.org/event/ops-team-meeting/2028-08-08/
LOCATION:RE Zoom Account
CATEGORIES:Meeting
END:VEVENT
BEGIN:VEVENT
DTSTART;TZID=America/Los_Angeles:20280906T100000
DTEND;TZID=America/Los_Angeles:20280906T110000
DTSTAMP:20260424T131625
CREATED:20251203T172547Z
LAST-MODIFIED:20251203T172547Z
UID:10003696-1851847200-1851850800@uuspokane.org
SUMMARY:Staff Meeting
DESCRIPTION:
URL:https://uuspokane.org/event/staff-meeting/2028-09-06/
LOCATION:UUCS Office
CATEGORIES:Meeting
END:VEVENT
BEGIN:VEVENT
DTSTART;TZID=America/Los_Angeles:20280912T110000
DTEND;TZID=America/Los_Angeles:20280912T130000
DTSTAMP:20260424T131625
CREATED:20250925T173256Z
LAST-MODIFIED:20250925T173256Z
UID:10002603-1852369200-1852376400@uuspokane.org
SUMMARY:Ops Team Meeting
DESCRIPTION:
URL:https://uuspokane.org/event/ops-team-meeting/2028-09-12/
LOCATION:RE Zoom Account
CATEGORIES:Meeting
END:VEVENT
BEGIN:VEVENT
DTSTART;TZID=America/Los_Angeles:20281004T100000
DTEND;TZID=America/Los_Angeles:20281004T110000
DTSTAMP:20260424T131625
CREATED:20251203T172547Z
LAST-MODIFIED:20251203T172547Z
UID:10003697-1854266400-1854270000@uuspokane.org
SUMMARY:Staff Meeting
DESCRIPTION:
URL:https://uuspokane.org/event/staff-meeting/2028-10-04/
LOCATION:UUCS Office
CATEGORIES:Meeting
END:VEVENT
BEGIN:VEVENT
DTSTART;TZID=America/Los_Angeles:20281010T110000
DTEND;TZID=America/Los_Angeles:20281010T130000
DTSTAMP:20260424T131625
CREATED:20250925T173256Z
LAST-MODIFIED:20250925T173256Z
UID:10002604-1854788400-1854795600@uuspokane.org
SUMMARY:Ops Team Meeting
DESCRIPTION:
URL:https://uuspokane.org/event/ops-team-meeting/2028-10-10/
LOCATION:RE Zoom Account
CATEGORIES:Meeting
END:VEVENT
BEGIN:VEVENT
DTSTART;TZID=America/Los_Angeles:20281101T100000
DTEND;TZID=America/Los_Angeles:20281101T110000
DTSTAMP:20260424T131625
CREATED:20251203T172547Z
LAST-MODIFIED:20251203T172547Z
UID:10003698-1856685600-1856689200@uuspokane.org
SUMMARY:Staff Meeting
DESCRIPTION:
URL:https://uuspokane.org/event/staff-meeting/2028-11-01/
LOCATION:UUCS Office
CATEGORIES:Meeting
END:VEVENT
BEGIN:VEVENT
DTSTART;TZID=America/Los_Angeles:20281114T110000
DTEND;TZID=America/Los_Angeles:20281114T130000
DTSTAMP:20260424T131625
CREATED:20250925T173256Z
LAST-MODIFIED:20250925T173256Z
UID:10002605-1857812400-1857819600@uuspokane.org
SUMMARY:Ops Team Meeting
DESCRIPTION:
URL:https://uuspokane.org/event/ops-team-meeting/2028-11-14/
LOCATION:RE Zoom Account
CATEGORIES:Meeting
END:VEVENT
BEGIN:VEVENT
DTSTART;TZID=America/Los_Angeles:20281206T100000
DTEND;TZID=America/Los_Angeles:20281206T110000
DTSTAMP:20260424T131625
CREATED:20251203T172547Z
LAST-MODIFIED:20251203T172547Z
UID:10003699-1859709600-1859713200@uuspokane.org
SUMMARY:Staff Meeting
DESCRIPTION:
URL:https://uuspokane.org/event/staff-meeting/2028-12-06/
LOCATION:UUCS Office
CATEGORIES:Meeting
END:VEVENT
BEGIN:VEVENT
DTSTART;TZID=America/Los_Angeles:20281212T110000
DTEND;TZID=America/Los_Angeles:20281212T130000
DTSTAMP:20260424T131625
CREATED:20250925T173256Z
LAST-MODIFIED:20250925T173256Z
UID:10002606-1860231600-1860238800@uuspokane.org
SUMMARY:Ops Team Meeting
DESCRIPTION:
URL:https://uuspokane.org/event/ops-team-meeting/2028-12-12/
LOCATION:RE Zoom Account
CATEGORIES:Meeting
END:VEVENT
BEGIN:VEVENT
DTSTART;TZID=America/Los_Angeles:20290103T100000
DTEND;TZID=America/Los_Angeles:20290103T110000
DTSTAMP:20260424T131625
CREATED:20251203T172547Z
LAST-MODIFIED:20251203T172547Z
UID:10003700-1862128800-1862132400@uuspokane.org
SUMMARY:Staff Meeting
DESCRIPTION:
URL:https://uuspokane.org/event/staff-meeting/2029-01-03/
LOCATION:UUCS Office
CATEGORIES:Meeting
END:VEVENT
BEGIN:VEVENT
DTSTART;TZID=America/Los_Angeles:20290109T110000
DTEND;TZID=America/Los_Angeles:20290109T130000
DTSTAMP:20260424T131625
CREATED:20250925T173256Z
LAST-MODIFIED:20250925T173256Z
UID:10002607-1862650800-1862658000@uuspokane.org
SUMMARY:Ops Team Meeting
DESCRIPTION:
URL:https://uuspokane.org/event/ops-team-meeting/2029-01-09/
LOCATION:RE Zoom Account
CATEGORIES:Meeting
END:VEVENT
BEGIN:VEVENT
DTSTART;TZID=America/Los_Angeles:20290207T100000
DTEND;TZID=America/Los_Angeles:20290207T110000
DTSTAMP:20260424T131625
CREATED:20251203T172547Z
LAST-MODIFIED:20251203T172547Z
UID:10003701-1865152800-1865156400@uuspokane.org
SUMMARY:Staff Meeting
DESCRIPTION:
URL:https://uuspokane.org/event/staff-meeting/2029-02-07/
LOCATION:UUCS Office
CATEGORIES:Meeting
END:VEVENT
BEGIN:VEVENT
DTSTART;TZID=America/Los_Angeles:20290213T110000
DTEND;TZID=America/Los_Angeles:20290213T130000
DTSTAMP:20260424T131625
CREATED:20250925T173256Z
LAST-MODIFIED:20250925T173256Z
UID:10002608-1865674800-1865682000@uuspokane.org
SUMMARY:Ops Team Meeting
DESCRIPTION:
URL:https://uuspokane.org/event/ops-team-meeting/2029-02-13/
LOCATION:RE Zoom Account
CATEGORIES:Meeting
END:VEVENT
BEGIN:VEVENT
DTSTART;TZID=America/Los_Angeles:20290307T100000
DTEND;TZID=America/Los_Angeles:20290307T110000
DTSTAMP:20260424T131625
CREATED:20251203T172547Z
LAST-MODIFIED:20251203T172547Z
UID:10003702-1867572000-1867575600@uuspokane.org
SUMMARY:Staff Meeting
DESCRIPTION:
URL:https://uuspokane.org/event/staff-meeting/2029-03-07/
LOCATION:UUCS Office
CATEGORIES:Meeting
END:VEVENT
BEGIN:VEVENT
DTSTART;TZID=America/Los_Angeles:20290313T110000
DTEND;TZID=America/Los_Angeles:20290313T130000
DTSTAMP:20260424T131625
CREATED:20250925T173256Z
LAST-MODIFIED:20250925T173256Z
UID:10002609-1868094000-1868101200@uuspokane.org
SUMMARY:Ops Team Meeting
DESCRIPTION:
URL:https://uuspokane.org/event/ops-team-meeting/2029-03-13/
LOCATION:RE Zoom Account
CATEGORIES:Meeting
END:VEVENT
BEGIN:VEVENT
DTSTART;TZID=America/Los_Angeles:20290404T100000
DTEND;TZID=America/Los_Angeles:20290404T110000
DTSTAMP:20260424T131625
CREATED:20251203T172547Z
LAST-MODIFIED:20251203T172547Z
UID:10003703-1869991200-1869994800@uuspokane.org
SUMMARY:Staff Meeting
DESCRIPTION:
URL:https://uuspokane.org/event/staff-meeting/2029-04-04/
LOCATION:UUCS Office
CATEGORIES:Meeting
END:VEVENT
BEGIN:VEVENT
DTSTART;TZID=America/Los_Angeles:20290410T110000
DTEND;TZID=America/Los_Angeles:20290410T130000
DTSTAMP:20260424T131625
CREATED:20250925T173256Z
LAST-MODIFIED:20250925T173256Z
UID:10002610-1870513200-1870520400@uuspokane.org
SUMMARY:Ops Team Meeting
DESCRIPTION:
URL:https://uuspokane.org/event/ops-team-meeting/2029-04-10/
LOCATION:RE Zoom Account
CATEGORIES:Meeting
END:VEVENT
BEGIN:VEVENT
DTSTART;TZID=America/Los_Angeles:20290502T100000
DTEND;TZID=America/Los_Angeles:20290502T110000
DTSTAMP:20260424T131625
CREATED:20251203T172547Z
LAST-MODIFIED:20251203T172547Z
UID:10003704-1872410400-1872414000@uuspokane.org
SUMMARY:Staff Meeting
DESCRIPTION:
URL:https://uuspokane.org/event/staff-meeting/2029-05-02/
LOCATION:UUCS Office
CATEGORIES:Meeting
END:VEVENT
BEGIN:VEVENT
DTSTART;TZID=America/Los_Angeles:20290508T110000
DTEND;TZID=America/Los_Angeles:20290508T130000
DTSTAMP:20260424T131625
CREATED:20250925T173256Z
LAST-MODIFIED:20250925T173256Z
UID:10002611-1872932400-1872939600@uuspokane.org
SUMMARY:Ops Team Meeting
DESCRIPTION:
URL:https://uuspokane.org/event/ops-team-meeting/2029-05-08/
LOCATION:RE Zoom Account
CATEGORIES:Meeting
END:VEVENT
BEGIN:VEVENT
DTSTART;TZID=America/Los_Angeles:20290606T100000
DTEND;TZID=America/Los_Angeles:20290606T110000
DTSTAMP:20260424T131625
CREATED:20251203T172547Z
LAST-MODIFIED:20251203T172547Z
UID:10003705-1875434400-1875438000@uuspokane.org
SUMMARY:Staff Meeting
DESCRIPTION:
URL:https://uuspokane.org/event/staff-meeting/2029-06-06/
LOCATION:UUCS Office
CATEGORIES:Meeting
END:VEVENT
BEGIN:VEVENT
DTSTART;TZID=America/Los_Angeles:20290612T110000
DTEND;TZID=America/Los_Angeles:20290612T130000
DTSTAMP:20260424T131625
CREATED:20250925T173256Z
LAST-MODIFIED:20250925T173256Z
UID:10002612-1875956400-1875963600@uuspokane.org
SUMMARY:Ops Team Meeting
DESCRIPTION:
URL:https://uuspokane.org/event/ops-team-meeting/2029-06-12/
LOCATION:RE Zoom Account
CATEGORIES:Meeting
END:VEVENT
BEGIN:VEVENT
DTSTART;TZID=America/Los_Angeles:20290704T100000
DTEND;TZID=America/Los_Angeles:20290704T110000
DTSTAMP:20260424T131625
CREATED:20251203T172547Z
LAST-MODIFIED:20251203T172547Z
UID:10003706-1877853600-1877857200@uuspokane.org
SUMMARY:Staff Meeting
DESCRIPTION:
URL:https://uuspokane.org/event/staff-meeting/2029-07-04/
LOCATION:UUCS Office
CATEGORIES:Meeting
END:VEVENT
BEGIN:VEVENT
DTSTART;TZID=America/Los_Angeles:20290710T110000
DTEND;TZID=America/Los_Angeles:20290710T130000
DTSTAMP:20260424T131625
CREATED:20250925T173256Z
LAST-MODIFIED:20250925T173256Z
UID:10002613-1878375600-1878382800@uuspokane.org
SUMMARY:Ops Team Meeting
DESCRIPTION:
URL:https://uuspokane.org/event/ops-team-meeting/2029-07-10/
LOCATION:RE Zoom Account
CATEGORIES:Meeting
END:VEVENT
BEGIN:VEVENT
DTSTART;TZID=America/Los_Angeles:20290801T100000
DTEND;TZID=America/Los_Angeles:20290801T110000
DTSTAMP:20260424T131625
CREATED:20251203T172547Z
LAST-MODIFIED:20251203T172547Z
UID:10003707-1880272800-1880276400@uuspokane.org
SUMMARY:Staff Meeting
DESCRIPTION:
URL:https://uuspokane.org/event/staff-meeting/2029-08-01/
LOCATION:UUCS Office
CATEGORIES:Meeting
END:VEVENT
BEGIN:VEVENT
DTSTART;TZID=America/Los_Angeles:20290814T110000
DTEND;TZID=America/Los_Angeles:20290814T130000
DTSTAMP:20260424T131625
CREATED:20250925T173256Z
LAST-MODIFIED:20250925T173256Z
UID:10002614-1881399600-1881406800@uuspokane.org
SUMMARY:Ops Team Meeting
DESCRIPTION:
URL:https://uuspokane.org/event/ops-team-meeting/2029-08-14/
LOCATION:RE Zoom Account
CATEGORIES:Meeting
END:VEVENT
END:VCALENDAR