BEGIN:VCALENDAR
VERSION:2.0
PRODID:-//Unitarian Universalist Church of Spokane - ECPv6.15.20//NONSGML v1.0//EN
CALSCALE:GREGORIAN
METHOD:PUBLISH
X-ORIGINAL-URL:https://uuspokane.org
X-WR-CALDESC:Events for Unitarian Universalist Church of Spokane
REFRESH-INTERVAL;VALUE=DURATION:PT1H
X-Robots-Tag:noindex
X-PUBLISHED-TTL:PT1H
BEGIN:VTIMEZONE
TZID:America/Los_Angeles
BEGIN:DAYLIGHT
TZOFFSETFROM:-0800
TZOFFSETTO:-0700
TZNAME:PDT
DTSTART:20290311T100000
END:DAYLIGHT
BEGIN:STANDARD
TZOFFSETFROM:-0700
TZOFFSETTO:-0800
TZNAME:PST
DTSTART:20291104T090000
END:STANDARD
BEGIN:DAYLIGHT
TZOFFSETFROM:-0800
TZOFFSETTO:-0700
TZNAME:PDT
DTSTART:20300310T100000
END:DAYLIGHT
BEGIN:STANDARD
TZOFFSETFROM:-0700
TZOFFSETTO:-0800
TZNAME:PST
DTSTART:20301103T090000
END:STANDARD
BEGIN:DAYLIGHT
TZOFFSETFROM:-0800
TZOFFSETTO:-0700
TZNAME:PDT
DTSTART:20310309T100000
END:DAYLIGHT
BEGIN:STANDARD
TZOFFSETFROM:-0700
TZOFFSETTO:-0800
TZNAME:PST
DTSTART:20311102T090000
END:STANDARD
BEGIN:DAYLIGHT
TZOFFSETFROM:-0800
TZOFFSETTO:-0700
TZNAME:PDT
DTSTART:20320314T100000
END:DAYLIGHT
BEGIN:STANDARD
TZOFFSETFROM:-0700
TZOFFSETTO:-0800
TZNAME:PST
DTSTART:20321107T090000
END:STANDARD
END:VTIMEZONE
BEGIN:VEVENT
DTSTART;TZID=America/Los_Angeles:20300720T100000
DTEND;TZID=America/Los_Angeles:20300720T120000
DTSTAMP:20260423T192308
CREATED:20260217T231342Z
LAST-MODIFIED:20260217T231342Z
UID:10002745-1910772000-1910779200@uuspokane.org
SUMMARY:NAUA Monthly Service - ZOOM Only
DESCRIPTION:
URL:https://uuspokane.org/event/naua-monthly-service-zoom-only-2/2030-07-20/
LOCATION:Private Zoom
CATEGORIES:Worship Service
ORGANIZER;CN="Roy Dickerson":MAILTO:info@naunitarians.org
END:VEVENT
BEGIN:VEVENT
DTSTART;TZID=America/Los_Angeles:20300817T100000
DTEND;TZID=America/Los_Angeles:20300817T120000
DTSTAMP:20260423T192308
CREATED:20260217T231342Z
LAST-MODIFIED:20260217T231342Z
UID:10002746-1913191200-1913198400@uuspokane.org
SUMMARY:NAUA Monthly Service - ZOOM Only
DESCRIPTION:
URL:https://uuspokane.org/event/naua-monthly-service-zoom-only-2/2030-08-17/
LOCATION:Private Zoom
CATEGORIES:Worship Service
ORGANIZER;CN="Roy Dickerson":MAILTO:info@naunitarians.org
END:VEVENT
BEGIN:VEVENT
DTSTART;TZID=America/Los_Angeles:20300921T100000
DTEND;TZID=America/Los_Angeles:20300921T120000
DTSTAMP:20260423T192308
CREATED:20260217T231342Z
LAST-MODIFIED:20260217T231342Z
UID:10002747-1916215200-1916222400@uuspokane.org
SUMMARY:NAUA Monthly Service - ZOOM Only
DESCRIPTION:
URL:https://uuspokane.org/event/naua-monthly-service-zoom-only-2/2030-09-21/
LOCATION:Private Zoom
CATEGORIES:Worship Service
ORGANIZER;CN="Roy Dickerson":MAILTO:info@naunitarians.org
END:VEVENT
BEGIN:VEVENT
DTSTART;TZID=America/Los_Angeles:20301019T100000
DTEND;TZID=America/Los_Angeles:20301019T120000
DTSTAMP:20260423T192308
CREATED:20260217T231342Z
LAST-MODIFIED:20260217T231342Z
UID:10004035-1918634400-1918641600@uuspokane.org
SUMMARY:NAUA Monthly Service - ZOOM Only
DESCRIPTION:
URL:https://uuspokane.org/event/naua-monthly-service-zoom-only-2/2030-10-19/
LOCATION:Private Zoom
CATEGORIES:Worship Service
ORGANIZER;CN="Roy Dickerson":MAILTO:info@naunitarians.org
END:VEVENT
BEGIN:VEVENT
DTSTART;TZID=America/Los_Angeles:20301116T100000
DTEND;TZID=America/Los_Angeles:20301116T120000
DTSTAMP:20260423T192308
CREATED:20260217T231342Z
LAST-MODIFIED:20260217T231342Z
UID:10004036-1921053600-1921060800@uuspokane.org
SUMMARY:NAUA Monthly Service - ZOOM Only
DESCRIPTION:
URL:https://uuspokane.org/event/naua-monthly-service-zoom-only-2/2030-11-16/
LOCATION:Private Zoom
CATEGORIES:Worship Service
ORGANIZER;CN="Roy Dickerson":MAILTO:info@naunitarians.org
END:VEVENT
BEGIN:VEVENT
DTSTART;TZID=America/Los_Angeles:20301221T100000
DTEND;TZID=America/Los_Angeles:20301221T120000
DTSTAMP:20260423T192308
CREATED:20260217T231342Z
LAST-MODIFIED:20260217T231342Z
UID:10004037-1924077600-1924084800@uuspokane.org
SUMMARY:NAUA Monthly Service - ZOOM Only
DESCRIPTION:
URL:https://uuspokane.org/event/naua-monthly-service-zoom-only-2/2030-12-21/
LOCATION:Private Zoom
CATEGORIES:Worship Service
ORGANIZER;CN="Roy Dickerson":MAILTO:info@naunitarians.org
END:VEVENT
BEGIN:VEVENT
DTSTART;TZID=America/Los_Angeles:20310118T100000
DTEND;TZID=America/Los_Angeles:20310118T120000
DTSTAMP:20260423T192308
CREATED:20260217T231342Z
LAST-MODIFIED:20260217T231342Z
UID:10004038-1926496800-1926504000@uuspokane.org
SUMMARY:NAUA Monthly Service - ZOOM Only
DESCRIPTION:
URL:https://uuspokane.org/event/naua-monthly-service-zoom-only-2/2031-01-18/
LOCATION:Private Zoom
CATEGORIES:Worship Service
ORGANIZER;CN="Roy Dickerson":MAILTO:info@naunitarians.org
END:VEVENT
BEGIN:VEVENT
DTSTART;TZID=America/Los_Angeles:20310215T100000
DTEND;TZID=America/Los_Angeles:20310215T120000
DTSTAMP:20260423T192308
CREATED:20260217T231342Z
LAST-MODIFIED:20260217T231342Z
UID:10004039-1928916000-1928923200@uuspokane.org
SUMMARY:NAUA Monthly Service - ZOOM Only
DESCRIPTION:
URL:https://uuspokane.org/event/naua-monthly-service-zoom-only-2/2031-02-15/
LOCATION:Private Zoom
CATEGORIES:Worship Service
ORGANIZER;CN="Roy Dickerson":MAILTO:info@naunitarians.org
END:VEVENT
END:VCALENDAR