BEGIN:VCALENDAR
VERSION:2.0
PRODID:-//Unitarian Universalist Church of Spokane - ECPv6.15.20//NONSGML v1.0//EN
CALSCALE:GREGORIAN
METHOD:PUBLISH
X-ORIGINAL-URL:https://uuspokane.org
X-WR-CALDESC:Events for Unitarian Universalist Church of Spokane
REFRESH-INTERVAL;VALUE=DURATION:PT1H
X-Robots-Tag:noindex
X-PUBLISHED-TTL:PT1H
BEGIN:VTIMEZONE
TZID:America/Los_Angeles
BEGIN:DAYLIGHT
TZOFFSETFROM:-0800
TZOFFSETTO:-0700
TZNAME:PDT
DTSTART:20240310T100000
END:DAYLIGHT
BEGIN:STANDARD
TZOFFSETFROM:-0700
TZOFFSETTO:-0800
TZNAME:PST
DTSTART:20241103T090000
END:STANDARD
BEGIN:DAYLIGHT
TZOFFSETFROM:-0800
TZOFFSETTO:-0700
TZNAME:PDT
DTSTART:20250309T100000
END:DAYLIGHT
BEGIN:STANDARD
TZOFFSETFROM:-0700
TZOFFSETTO:-0800
TZNAME:PST
DTSTART:20251102T090000
END:STANDARD
BEGIN:DAYLIGHT
TZOFFSETFROM:-0800
TZOFFSETTO:-0700
TZNAME:PDT
DTSTART:20260308T100000
END:DAYLIGHT
BEGIN:STANDARD
TZOFFSETFROM:-0700
TZOFFSETTO:-0800
TZNAME:PST
DTSTART:20261101T090000
END:STANDARD
END:VTIMEZONE
BEGIN:VEVENT
DTSTART;TZID=America/Los_Angeles:20251125T180000
DTEND;TZID=America/Los_Angeles:20251125T200000
DTSTAMP:20260423T141041
CREATED:20250925T224112Z
LAST-MODIFIED:20251030T174743Z
UID:10002999-1764093600-1764100800@uuspokane.org
SUMMARY:The Kerdcera Dojo
DESCRIPTION:The Kerdcera Dojo means\, “The practice of heart and mind\,” now meets in person at UUCS in our chapel. Rev. Dr. Todd Eklof guides participants in the practice of logic and Emotional Intelligence techniques.
URL:https://uuspokane.org/event/the-kerdcera-dojo-2/2025-11-25/
LOCATION:Chapel
CATEGORIES:Adult Enrichment
ORGANIZER;CN="Todd Eklof":MAILTO:minister@uuspokane.org
END:VEVENT
BEGIN:VEVENT
DTSTART;TZID=America/Los_Angeles:20251111T180000
DTEND;TZID=America/Los_Angeles:20251111T200000
DTSTAMP:20260423T141041
CREATED:20250925T223836Z
LAST-MODIFIED:20251030T174551Z
UID:10002939-1762884000-1762891200@uuspokane.org
SUMMARY:The Kerdcera Dojo
DESCRIPTION:The Kerdcera Dojo means\, “The practice of heart and mind\,” now meets in person at UUCS in our chapel. Rev. Dr. Todd Eklof guides participants in the practice of logic and Emotional Intelligence techniques.
URL:https://uuspokane.org/event/the-kerdcera-dojo/2025-11-11/
LOCATION:Chapel
CATEGORIES:Adult Enrichment
ORGANIZER;CN="Todd Eklof":MAILTO:minister@uuspokane.org
END:VEVENT
BEGIN:VEVENT
DTSTART;TZID=America/Los_Angeles:20251028T180000
DTEND;TZID=America/Los_Angeles:20251028T200000
DTSTAMP:20260423T141041
CREATED:20250925T224112Z
LAST-MODIFIED:20251030T174743Z
UID:10002998-1761674400-1761681600@uuspokane.org
SUMMARY:The Kerdcera Dojo
DESCRIPTION:The Kerdcera Dojo means\, “The practice of heart and mind\,” now meets in person at UUCS in our chapel. Rev. Dr. Todd Eklof guides participants in the practice of logic and Emotional Intelligence techniques.
URL:https://uuspokane.org/event/the-kerdcera-dojo-2/2025-10-28/
LOCATION:Chapel
CATEGORIES:Adult Enrichment
ORGANIZER;CN="Todd Eklof":MAILTO:minister@uuspokane.org
END:VEVENT
BEGIN:VEVENT
DTSTART;TZID=America/Los_Angeles:20251014T180000
DTEND;TZID=America/Los_Angeles:20251014T200000
DTSTAMP:20260423T141041
CREATED:20250925T223836Z
LAST-MODIFIED:20251030T174551Z
UID:10002938-1760464800-1760472000@uuspokane.org
SUMMARY:The Kerdcera Dojo
DESCRIPTION:The Kerdcera Dojo means\, “The practice of heart and mind\,” now meets in person at UUCS in our chapel. Rev. Dr. Todd Eklof guides participants in the practice of logic and Emotional Intelligence techniques.
URL:https://uuspokane.org/event/the-kerdcera-dojo/2025-10-14/
LOCATION:Chapel
CATEGORIES:Adult Enrichment
ORGANIZER;CN="Todd Eklof":MAILTO:minister@uuspokane.org
END:VEVENT
END:VCALENDAR