BEGIN:VCALENDAR
VERSION:2.0
PRODID:-//Unitarian Universalist Church of Spokane - ECPv6.15.20//NONSGML v1.0//EN
CALSCALE:GREGORIAN
METHOD:PUBLISH
X-ORIGINAL-URL:https://uuspokane.org
X-WR-CALDESC:Events for Unitarian Universalist Church of Spokane
REFRESH-INTERVAL;VALUE=DURATION:PT1H
X-Robots-Tag:noindex
X-PUBLISHED-TTL:PT1H
BEGIN:VTIMEZONE
TZID:America/Los_Angeles
BEGIN:DAYLIGHT
TZOFFSETFROM:-0800
TZOFFSETTO:-0700
TZNAME:PDT
DTSTART:20240310T100000
END:DAYLIGHT
BEGIN:STANDARD
TZOFFSETFROM:-0700
TZOFFSETTO:-0800
TZNAME:PST
DTSTART:20241103T090000
END:STANDARD
BEGIN:DAYLIGHT
TZOFFSETFROM:-0800
TZOFFSETTO:-0700
TZNAME:PDT
DTSTART:20250309T100000
END:DAYLIGHT
BEGIN:STANDARD
TZOFFSETFROM:-0700
TZOFFSETTO:-0800
TZNAME:PST
DTSTART:20251102T090000
END:STANDARD
BEGIN:DAYLIGHT
TZOFFSETFROM:-0800
TZOFFSETTO:-0700
TZNAME:PDT
DTSTART:20260308T100000
END:DAYLIGHT
BEGIN:STANDARD
TZOFFSETFROM:-0700
TZOFFSETTO:-0800
TZNAME:PST
DTSTART:20261101T090000
END:STANDARD
BEGIN:DAYLIGHT
TZOFFSETFROM:-0800
TZOFFSETTO:-0700
TZNAME:PDT
DTSTART:20270314T100000
END:DAYLIGHT
BEGIN:STANDARD
TZOFFSETFROM:-0700
TZOFFSETTO:-0800
TZNAME:PST
DTSTART:20271107T090000
END:STANDARD
END:VTIMEZONE
BEGIN:VEVENT
DTSTART;TZID=America/Los_Angeles:20260411T083000
DTEND;TZID=America/Los_Angeles:20260411T103000
DTSTAMP:20260423T124936
CREATED:20250925T172416Z
LAST-MODIFIED:20251001T030203Z
UID:10002453-1775896200-1775903400@uuspokane.org
SUMMARY:UU Men's Group at Rockwood Retirement
DESCRIPTION:Please join us for breakfast and conversation in the Livingston Dining Area of the Summit building at the Rockwood South Hill Retirement Community \n\nQuestions? Contact Tom Mosher at 509-220-1879. \nTake me to a map of the location.
URL:https://uuspokane.org/event/uu-mens-group-at-rockwood-retirement/2026-04-11/
LOCATION:Offsite
CATEGORIES:Fellowship
END:VEVENT
BEGIN:VEVENT
DTSTART;TZID=America/Los_Angeles:20260314T083000
DTEND;TZID=America/Los_Angeles:20260314T103000
DTSTAMP:20260423T124936
CREATED:20250925T172416Z
LAST-MODIFIED:20251001T030203Z
UID:10002452-1773477000-1773484200@uuspokane.org
SUMMARY:UU Men's Group at Rockwood Retirement
DESCRIPTION:Please join us for breakfast and conversation in the Livingston Dining Area of the Summit building at the Rockwood South Hill Retirement Community \n\nQuestions? Contact Tom Mosher at 509-220-1879. \nTake me to a map of the location.
URL:https://uuspokane.org/event/uu-mens-group-at-rockwood-retirement/2026-03-14/
LOCATION:Offsite
CATEGORIES:Fellowship
END:VEVENT
BEGIN:VEVENT
DTSTART;TZID=America/Los_Angeles:20260214T083000
DTEND;TZID=America/Los_Angeles:20260214T103000
DTSTAMP:20260423T124936
CREATED:20250925T172416Z
LAST-MODIFIED:20251001T030203Z
UID:10002451-1771057800-1771065000@uuspokane.org
SUMMARY:UU Men's Group at Rockwood Retirement
DESCRIPTION:Please join us for breakfast and conversation in the Livingston Dining Area of the Summit building at the Rockwood South Hill Retirement Community \n\nQuestions? Contact Tom Mosher at 509-220-1879. \nTake me to a map of the location.
URL:https://uuspokane.org/event/uu-mens-group-at-rockwood-retirement/2026-02-14/
LOCATION:Offsite
CATEGORIES:Fellowship
END:VEVENT
BEGIN:VEVENT
DTSTART;TZID=America/Los_Angeles:20260110T083000
DTEND;TZID=America/Los_Angeles:20260110T103000
DTSTAMP:20260423T124936
CREATED:20250925T172416Z
LAST-MODIFIED:20251001T030203Z
UID:10002450-1768033800-1768041000@uuspokane.org
SUMMARY:UU Men's Group at Rockwood Retirement
DESCRIPTION:Please join us for breakfast and conversation in the Livingston Dining Area of the Summit building at the Rockwood South Hill Retirement Community \n\nQuestions? Contact Tom Mosher at 509-220-1879. \nTake me to a map of the location.
URL:https://uuspokane.org/event/uu-mens-group-at-rockwood-retirement/2026-01-10/
LOCATION:Offsite
CATEGORIES:Fellowship
END:VEVENT
BEGIN:VEVENT
DTSTART;TZID=America/Los_Angeles:20251214T123000
DTEND;TZID=America/Los_Angeles:20251214T133000
DTSTAMP:20260423T124936
CREATED:20251120T175511Z
LAST-MODIFIED:20251120T180824Z
UID:10003641-1765715400-1765719000@uuspokane.org
SUMMARY:Usher Training Session
DESCRIPTION:Isn’t it welcoming to have someone greet you when you arrive somewhere? And\, tell you it is good to see you! That is part of what our UUCS Ushers do. Often they are the first smiling face you see when you arrive for Sunday services. They will offer you an order-of-service\, and answer a question if you are new. They also pass the collection baskets for the offering. \nAdditionally\, first impressions are often lasting impressions. A warm welcome may be just what brings a new visitor back. \nWe need more Ushers to help with those greetings for each service. An Usher works only one service on a Sunday. When we have enough volunteers we have more Ushers to rotate through. \nNow is a great time to join our Usher Team\, since we will be having an usher training session after the 2nd service on Sunday\, December 14th. \nIf you are interested in joining the Usher Team or have questions\, please contact Lead Usher Tom Mosher at tgmosher@gmail.com or 509-220-1879.
URL:https://uuspokane.org/event/usher-training-session/
LOCATION:Sanctuary
END:VEVENT
BEGIN:VEVENT
DTSTART;TZID=America/Los_Angeles:20251213T083000
DTEND;TZID=America/Los_Angeles:20251213T103000
DTSTAMP:20260423T124936
CREATED:20250925T172416Z
LAST-MODIFIED:20251001T030203Z
UID:10002449-1765614600-1765621800@uuspokane.org
SUMMARY:UU Men's Group at Rockwood Retirement
DESCRIPTION:Please join us for breakfast and conversation in the Livingston Dining Area of the Summit building at the Rockwood South Hill Retirement Community \n\nQuestions? Contact Tom Mosher at 509-220-1879. \nTake me to a map of the location.
URL:https://uuspokane.org/event/uu-mens-group-at-rockwood-retirement/2025-12-13/
LOCATION:Offsite
CATEGORIES:Fellowship
END:VEVENT
BEGIN:VEVENT
DTSTART;TZID=America/Los_Angeles:20251108T083000
DTEND;TZID=America/Los_Angeles:20251108T103000
DTSTAMP:20260423T124936
CREATED:20250925T172416Z
LAST-MODIFIED:20251001T030203Z
UID:10002448-1762590600-1762597800@uuspokane.org
SUMMARY:UU Men's Group at Rockwood Retirement
DESCRIPTION:Please join us for breakfast and conversation in the Livingston Dining Area of the Summit building at the Rockwood South Hill Retirement Community \n\nQuestions? Contact Tom Mosher at 509-220-1879. \nTake me to a map of the location.
URL:https://uuspokane.org/event/uu-mens-group-at-rockwood-retirement/2025-11-08/
LOCATION:Offsite
CATEGORIES:Fellowship
END:VEVENT
BEGIN:VEVENT
DTSTART;TZID=America/Los_Angeles:20251011T083000
DTEND;TZID=America/Los_Angeles:20251011T103000
DTSTAMP:20260423T124936
CREATED:20250925T172416Z
LAST-MODIFIED:20251001T030203Z
UID:10002447-1760171400-1760178600@uuspokane.org
SUMMARY:UU Men's Group at Rockwood Retirement
DESCRIPTION:Please join us for breakfast and conversation in the Livingston Dining Area of the Summit building at the Rockwood South Hill Retirement Community \n\nQuestions? Contact Tom Mosher at 509-220-1879. \nTake me to a map of the location.
URL:https://uuspokane.org/event/uu-mens-group-at-rockwood-retirement/2025-10-11/
LOCATION:Offsite
CATEGORIES:Fellowship
END:VEVENT
END:VCALENDAR