BEGIN:VCALENDAR
VERSION:2.0
PRODID:-//Unitarian Universalist Church of Spokane - ECPv6.15.20//NONSGML v1.0//EN
CALSCALE:GREGORIAN
METHOD:PUBLISH
X-ORIGINAL-URL:https://uuspokane.org
X-WR-CALDESC:Events for Unitarian Universalist Church of Spokane
REFRESH-INTERVAL;VALUE=DURATION:PT1H
X-Robots-Tag:noindex
X-PUBLISHED-TTL:PT1H
BEGIN:VTIMEZONE
TZID:America/Los_Angeles
BEGIN:DAYLIGHT
TZOFFSETFROM:-0800
TZOFFSETTO:-0700
TZNAME:PDT
DTSTART:20250309T100000
END:DAYLIGHT
BEGIN:STANDARD
TZOFFSETFROM:-0700
TZOFFSETTO:-0800
TZNAME:PST
DTSTART:20251102T090000
END:STANDARD
BEGIN:DAYLIGHT
TZOFFSETFROM:-0800
TZOFFSETTO:-0700
TZNAME:PDT
DTSTART:20260308T100000
END:DAYLIGHT
BEGIN:STANDARD
TZOFFSETFROM:-0700
TZOFFSETTO:-0800
TZNAME:PST
DTSTART:20261101T090000
END:STANDARD
BEGIN:DAYLIGHT
TZOFFSETFROM:-0800
TZOFFSETTO:-0700
TZNAME:PDT
DTSTART:20270314T100000
END:DAYLIGHT
BEGIN:STANDARD
TZOFFSETFROM:-0700
TZOFFSETTO:-0800
TZNAME:PST
DTSTART:20271107T090000
END:STANDARD
END:VTIMEZONE
BEGIN:VEVENT
DTSTART;TZID=America/Los_Angeles:20260510T110000
DTEND;TZID=America/Los_Angeles:20260510T120000
DTSTAMP:20260423T172340
CREATED:20250924T193853Z
LAST-MODIFIED:20250925T235352Z
UID:10001060-1778410800-1778414400@uuspokane.org
SUMMARY:Sunday Worship
DESCRIPTION:Live Stream Available
URL:https://uuspokane.org/event/sunday-worship-2/2026-05-10/
LOCATION:Sanctuary
CATEGORIES:Worship Service
END:VEVENT
BEGIN:VEVENT
DTSTART;TZID=America/Los_Angeles:20260510T110000
DTEND;TZID=America/Los_Angeles:20260510T121500
DTSTAMP:20260423T172340
CREATED:20250924T194449Z
LAST-MODIFIED:20250925T235502Z
UID:10001321-1778410800-1778415300@uuspokane.org
SUMMARY:Childcare for Sunday Services
DESCRIPTION:
URL:https://uuspokane.org/event/childcare-for-sunday-services/2026-05-10/
LOCATION:Channing Room (Nursery)
CATEGORIES:Childcare
END:VEVENT
BEGIN:VEVENT
DTSTART;TZID=America/Los_Angeles:20260510T123000
DTEND;TZID=America/Los_Angeles:20260510T133000
DTSTAMP:20260423T172340
CREATED:20251120T162222Z
LAST-MODIFIED:20251120T162222Z
UID:10002755-1778416200-1778419800@uuspokane.org
SUMMARY:Poetry Sharing Circle
DESCRIPTION:Have you ever stumbled upon a poem — whether found in a book\, heard in passing\, or written yourself — that felt too meaningful to keep to yourself? Our Poetry Sharing Circle is a gentle\, welcoming hour created just for that. \nThis is not a workshop\, class\, or writers’ critique group. Instead\, it’s a simple in-person gathering where we come together to share poems that move us\, comfort us\, surprise us\, or make us think. Bring a poem you love and a few words about why it speaks to you — or simply come to listen and enjoy the company of others who appreciate the magic of poetry. \nNo pressure … no preparation … no expectations. \nJust people\, poems\, and a peaceful moment in community.
URL:https://uuspokane.org/event/poetry-sharing-circle-2/2026-05-10/
LOCATION:Chapel
CATEGORIES:Adult Enrichment
ORGANIZER;CN="Lynn Jinishian":MAILTO:jinishian@comcast.net
END:VEVENT
BEGIN:VEVENT
DTSTART;TZID=America/Los_Angeles:20260510T130000
DTEND;TZID=America/Los_Angeles:20260510T160000
DTSTAMP:20260423T172340
CREATED:20250925T174023Z
LAST-MODIFIED:20250925T174023Z
UID:10002815-1778418000-1778428800@uuspokane.org
SUMMARY:Spokane Handweaver's Guild
DESCRIPTION:
URL:https://uuspokane.org/event/spokane-handweavers-guild/2026-05-10/
LOCATION:Thoreau Room
CATEGORIES:Private Event
END:VEVENT
BEGIN:VEVENT
DTSTART;TZID=America/Los_Angeles:20260511T183000
DTEND;TZID=America/Los_Angeles:20260511T200000
DTSTAMP:20260423T172340
CREATED:20250924T194849Z
LAST-MODIFIED:20250924T194849Z
UID:10001843-1778524200-1778529600@uuspokane.org
SUMMARY:Meditation Group
DESCRIPTION:Buddhist Meditation – Sravasti Abbey
URL:https://uuspokane.org/event/meditation-group/2026-05-11/
LOCATION:Private Zoom
CATEGORIES:Meditation
END:VEVENT
BEGIN:VEVENT
DTSTART;TZID=America/Los_Angeles:20260512T110000
DTEND;TZID=America/Los_Angeles:20260512T130000
DTSTAMP:20260423T172340
CREATED:20250925T173256Z
LAST-MODIFIED:20250925T173256Z
UID:10002575-1778583600-1778590800@uuspokane.org
SUMMARY:Ops Team Meeting
DESCRIPTION:
URL:https://uuspokane.org/event/ops-team-meeting/2026-05-12/
LOCATION:RE Zoom Account
CATEGORIES:Meeting
END:VEVENT
BEGIN:VEVENT
DTSTART;TZID=America/Los_Angeles:20260512T160000
DTEND;TZID=America/Los_Angeles:20260512T170000
DTSTAMP:20260423T172340
CREATED:20260305T212112Z
LAST-MODIFIED:20260305T212112Z
UID:10004054-1778601600-1778605200@uuspokane.org
SUMMARY:Monthly Family Service Project - Teen & Kid Closet
DESCRIPTION:One of the reasons our church exists is to work for justice/live justly. Opportunities for children and youths to do this can feel limited\, but we have arranged for UUCS families to volunteer at Teen & Kid Closet. They do incredibly work for vulnerable children in Spokane — read more about them on their website. A parent/guardian is expected to stay with their child(ren) the entire session. \n  \nTake me to the registration page.
URL:https://uuspokane.org/event/monthly-family-service-project-teen-kid-closet-3/2026-05-12/
LOCATION:Offsite
CATEGORIES:RE Event
ORGANIZER;CN="Stephanie Gronholz":MAILTO:re@uuspokane.org
END:VEVENT
BEGIN:VEVENT
DTSTART;TZID=America/Los_Angeles:20260513T113000
DTEND;TZID=America/Los_Angeles:20260513T123000
DTSTAMP:20260423T172340
CREATED:20250925T172123Z
LAST-MODIFIED:20250930T175456Z
UID:10002393-1778671800-1778675400@uuspokane.org
SUMMARY:UU Women 2nd Wednesday Lunch
DESCRIPTION:Location varies
URL:https://uuspokane.org/event/uu-women-2nd-wednesday-lunch/2026-05-13/
LOCATION:Offsite
CATEGORIES:Fellowship
END:VEVENT
BEGIN:VEVENT
DTSTART;TZID=America/Los_Angeles:20260513T150000
DTEND;TZID=America/Los_Angeles:20260513T150000
DTSTAMP:20260423T172340
CREATED:20250924T191050Z
LAST-MODIFIED:20250924T191050Z
UID:10000096-1778684400-1778684400@uuspokane.org
SUMMARY:Weekly SUUN Submission Deadline
DESCRIPTION:
URL:https://uuspokane.org/event/weekly-suun-submission-deadline/2026-05-13/
CATEGORIES:Other
END:VEVENT
BEGIN:VEVENT
DTSTART;TZID=America/Los_Angeles:20260514T100000
DTEND;TZID=America/Los_Angeles:20260514T120000
DTSTAMP:20260423T172340
CREATED:20260217T190138Z
LAST-MODIFIED:20260217T190138Z
UID:10004009-1778752800-1778760000@uuspokane.org
SUMMARY:Election Coalition Team- Spokane Indivisible
DESCRIPTION:
URL:https://uuspokane.org/event/election-coalition-team-spokane-indivisible/2026-05-14/
LOCATION:Thoreau Room
CATEGORIES:Social Justice
END:VEVENT
BEGIN:VEVENT
DTSTART;TZID=America/Los_Angeles:20260515T160000
DTEND;TZID=America/Los_Angeles:20260515T173000
DTSTAMP:20260423T172340
CREATED:20260414T155358Z
LAST-MODIFIED:20260414T155358Z
UID:10000538-1778860800-1778866200@uuspokane.org
SUMMARY:LGBTQ+ Senior Group
DESCRIPTION:ZOOM
URL:https://uuspokane.org/event/lgbtq-senior-group-2-2/2026-05-15/
LOCATION:ZOOM
CATEGORIES:Meeting
ORGANIZER;CN="Nancy Avery":MAILTO:NancyTavery@comcast.net
END:VEVENT
BEGIN:VEVENT
DTSTART;TZID=America/Los_Angeles:20260516T100000
DTEND;TZID=America/Los_Angeles:20260516T120000
DTSTAMP:20260423T172341
CREATED:20260126T194217Z
LAST-MODIFIED:20260126T194217Z
UID:10003975-1778925600-1778932800@uuspokane.org
SUMMARY:Spokane Indivisible Meeting
DESCRIPTION:
URL:https://uuspokane.org/event/spokane-indivisible-meeting-2/2026-05-16/
LOCATION:Potter Room
CATEGORIES:Social Justice
END:VEVENT
BEGIN:VEVENT
DTSTART;TZID=America/Los_Angeles:20260516T100000
DTEND;TZID=America/Los_Angeles:20260516T120000
DTSTAMP:20260423T172341
CREATED:20260217T231342Z
LAST-MODIFIED:20260217T231342Z
UID:10002695-1778925600-1778932800@uuspokane.org
SUMMARY:NAUA Monthly Service - ZOOM Only
DESCRIPTION:
URL:https://uuspokane.org/event/naua-monthly-service-zoom-only-2/2026-05-16/
LOCATION:Private Zoom
CATEGORIES:Worship Service
ORGANIZER;CN="Roy Dickerson":MAILTO:info@naunitarians.org
END:VEVENT
BEGIN:VEVENT
DTSTART;TZID=America/Los_Angeles:20260516T120000
DTEND;TZID=America/Los_Angeles:20260516T160000
DTSTAMP:20260423T172341
CREATED:20260408T190338Z
LAST-MODIFIED:20260415T204648Z
UID:10004336-1778932800-1778947200@uuspokane.org
SUMMARY:Memorial Service for Jon Bagby 1-3 PM
DESCRIPTION:
URL:https://uuspokane.org/event/memorial-service-for-jon-bagby/
LOCATION:Sanctuary
CATEGORIES:Memorial Service
ORGANIZER;CN="Todd Eklof":MAILTO:minister@uuspokane.org
END:VEVENT
BEGIN:VEVENT
DTSTART;TZID=America/Los_Angeles:20260517T091500
DTEND;TZID=America/Los_Angeles:20260517T101500
DTSTAMP:20260423T172341
CREATED:20250924T193716Z
LAST-MODIFIED:20250925T235209Z
UID:10000800-1779009300-1779012900@uuspokane.org
SUMMARY:Sunday Worship
DESCRIPTION:Live Stream Available
URL:https://uuspokane.org/event/sunday-worship/2026-05-17/
LOCATION:Sanctuary
CATEGORIES:Worship Service
END:VEVENT
BEGIN:VEVENT
DTSTART;TZID=America/Los_Angeles:20260517T110000
DTEND;TZID=America/Los_Angeles:20260517T120000
DTSTAMP:20260423T172341
CREATED:20250924T193853Z
LAST-MODIFIED:20250925T235352Z
UID:10001061-1779015600-1779019200@uuspokane.org
SUMMARY:Sunday Worship
DESCRIPTION:Live Stream Available
URL:https://uuspokane.org/event/sunday-worship-2/2026-05-17/
LOCATION:Sanctuary
CATEGORIES:Worship Service
END:VEVENT
BEGIN:VEVENT
DTSTART;TZID=America/Los_Angeles:20260517T110000
DTEND;TZID=America/Los_Angeles:20260517T121500
DTSTAMP:20260423T172341
CREATED:20250924T194449Z
LAST-MODIFIED:20250925T235502Z
UID:10001322-1779015600-1779020100@uuspokane.org
SUMMARY:Childcare for Sunday Services
DESCRIPTION:
URL:https://uuspokane.org/event/childcare-for-sunday-services/2026-05-17/
LOCATION:Channing Room (Nursery)
CATEGORIES:Childcare
END:VEVENT
BEGIN:VEVENT
DTSTART;TZID=America/Los_Angeles:20260517T123000
DTEND;TZID=America/Los_Angeles:20260517T140000
DTSTAMP:20260423T172341
CREATED:20260204T193727Z
LAST-MODIFIED:20260204T193727Z
UID:10003126-1779021000-1779026400@uuspokane.org
SUMMARY:Church Potluck
DESCRIPTION:
URL:https://uuspokane.org/event/church-potluck-5/2026-05-17/
LOCATION:Friendship Hall
CATEGORIES:Fellowship
END:VEVENT
BEGIN:VEVENT
DTSTART;TZID=America/Los_Angeles:20260518T183000
DTEND;TZID=America/Los_Angeles:20260518T200000
DTSTAMP:20260423T172341
CREATED:20250924T194849Z
LAST-MODIFIED:20250924T194849Z
UID:10001844-1779129000-1779134400@uuspokane.org
SUMMARY:Meditation Group
DESCRIPTION:Buddhist Meditation – Sravasti Abbey
URL:https://uuspokane.org/event/meditation-group/2026-05-18/
LOCATION:Private Zoom
CATEGORIES:Meditation
END:VEVENT
BEGIN:VEVENT
DTSTART;TZID=America/Los_Angeles:20260518T183000
DTEND;TZID=America/Los_Angeles:20260518T200000
DTSTAMP:20260423T172341
CREATED:20250925T180231Z
LAST-MODIFIED:20250925T231548Z
UID:10003187-1779129000-1779134400@uuspokane.org
SUMMARY:Social Justice Coordinating Council
DESCRIPTION:
URL:https://uuspokane.org/event/social-justice-coordinating-council/2026-05-18/
LOCATION:RE Zoom Account
CATEGORIES:Meeting
END:VEVENT
BEGIN:VEVENT
DTSTART;TZID=America/Los_Angeles:20260519T180000
DTEND;TZID=America/Los_Angeles:20260519T193000
DTSTAMP:20260423T172341
CREATED:20260107T233841Z
LAST-MODIFIED:20260107T234027Z
UID:10003888-1779213600-1779219000@uuspokane.org
SUMMARY:Choir Rehearsal
DESCRIPTION:
URL:https://uuspokane.org/event/choir-rehearsal-4/2026-05-19/
LOCATION:Sanctuary
CATEGORIES:Choir Rehearsal
END:VEVENT
BEGIN:VEVENT
DTSTART;TZID=America/Los_Angeles:20260520T150000
DTEND;TZID=America/Los_Angeles:20260520T150000
DTSTAMP:20260423T172341
CREATED:20250924T191050Z
LAST-MODIFIED:20250924T191050Z
UID:10000097-1779289200-1779289200@uuspokane.org
SUMMARY:Weekly SUUN Submission Deadline
DESCRIPTION:
URL:https://uuspokane.org/event/weekly-suun-submission-deadline/2026-05-20/
CATEGORIES:Other
END:VEVENT
BEGIN:VEVENT
DTSTART;TZID=America/Los_Angeles:20260520T160000
DTEND;TZID=America/Los_Angeles:20260520T170000
DTSTAMP:20260423T172341
CREATED:20250925T173505Z
LAST-MODIFIED:20250925T173505Z
UID:10002635-1779292800-1779296400@uuspokane.org
SUMMARY:Board Agenda Meeting
DESCRIPTION:
URL:https://uuspokane.org/event/board-agenda-meeting/2026-05-20/
LOCATION:RE Zoom Account
CATEGORIES:Meeting
END:VEVENT
BEGIN:VEVENT
DTSTART;TZID=America/Los_Angeles:20260521T100000
DTEND;TZID=America/Los_Angeles:20260521T120000
DTSTAMP:20260423T172341
CREATED:20260217T190138Z
LAST-MODIFIED:20260217T190138Z
UID:10004010-1779357600-1779364800@uuspokane.org
SUMMARY:Election Coalition Team- Spokane Indivisible
DESCRIPTION:
URL:https://uuspokane.org/event/election-coalition-team-spokane-indivisible/2026-05-21/
LOCATION:Thoreau Room
CATEGORIES:Social Justice
END:VEVENT
BEGIN:VEVENT
DTSTART;TZID=America/Los_Angeles:20260521T130000
DTEND;TZID=America/Los_Angeles:20260521T150000
DTSTAMP:20260423T172341
CREATED:20260408T172900Z
LAST-MODIFIED:20260408T173006Z
UID:10003248-1779368400-1779375600@uuspokane.org
SUMMARY:Third Thursday Book Group - The Optimist's Daughter
DESCRIPTION:
URL:https://uuspokane.org/event/third-thursday-book-group-9/
LOCATION:Offsite
CATEGORIES:Adult Enrichment
END:VEVENT
BEGIN:VEVENT
DTSTART;TZID=America/Los_Angeles:20260522T160000
DTEND;TZID=America/Los_Angeles:20260522T173000
DTSTAMP:20260423T172341
CREATED:20260414T155358Z
LAST-MODIFIED:20260414T155358Z
UID:10000539-1779465600-1779471000@uuspokane.org
SUMMARY:LGBTQ+ Senior Group
DESCRIPTION:ZOOM
URL:https://uuspokane.org/event/lgbtq-senior-group-2-2/2026-05-22/
LOCATION:ZOOM
CATEGORIES:Meeting
ORGANIZER;CN="Nancy Avery":MAILTO:NancyTavery@comcast.net
END:VEVENT
BEGIN:VEVENT
DTSTART;TZID=America/Los_Angeles:20260524T091500
DTEND;TZID=America/Los_Angeles:20260524T101500
DTSTAMP:20260423T172341
CREATED:20250924T193716Z
LAST-MODIFIED:20250925T235209Z
UID:10000801-1779614100-1779617700@uuspokane.org
SUMMARY:Sunday Worship
DESCRIPTION:Live Stream Available
URL:https://uuspokane.org/event/sunday-worship/2026-05-24/
LOCATION:Sanctuary
CATEGORIES:Worship Service
END:VEVENT
BEGIN:VEVENT
DTSTART;TZID=America/Los_Angeles:20260524T110000
DTEND;TZID=America/Los_Angeles:20260524T120000
DTSTAMP:20260423T172341
CREATED:20250924T193853Z
LAST-MODIFIED:20250925T235352Z
UID:10001062-1779620400-1779624000@uuspokane.org
SUMMARY:Sunday Worship
DESCRIPTION:Live Stream Available
URL:https://uuspokane.org/event/sunday-worship-2/2026-05-24/
LOCATION:Sanctuary
CATEGORIES:Worship Service
END:VEVENT
BEGIN:VEVENT
DTSTART;TZID=America/Los_Angeles:20260524T110000
DTEND;TZID=America/Los_Angeles:20260524T121500
DTSTAMP:20260423T172341
CREATED:20250924T194449Z
LAST-MODIFIED:20250925T235502Z
UID:10001323-1779620400-1779624900@uuspokane.org
SUMMARY:Childcare for Sunday Services
DESCRIPTION:
URL:https://uuspokane.org/event/childcare-for-sunday-services/2026-05-24/
LOCATION:Channing Room (Nursery)
CATEGORIES:Childcare
END:VEVENT
BEGIN:VEVENT
DTSTART;TZID=America/Los_Angeles:20260525T183000
DTEND;TZID=America/Los_Angeles:20260525T200000
DTSTAMP:20260423T172341
CREATED:20250924T194849Z
LAST-MODIFIED:20250924T194849Z
UID:10001845-1779733800-1779739200@uuspokane.org
SUMMARY:Meditation Group
DESCRIPTION:Buddhist Meditation – Sravasti Abbey
URL:https://uuspokane.org/event/meditation-group/2026-05-25/
LOCATION:Private Zoom
CATEGORIES:Meditation
END:VEVENT
END:VCALENDAR