BEGIN:VCALENDAR
VERSION:2.0
PRODID:-//Unitarian Universalist Church of Spokane - ECPv6.15.20//NONSGML v1.0//EN
CALSCALE:GREGORIAN
METHOD:PUBLISH
X-ORIGINAL-URL:https://uuspokane.org
X-WR-CALDESC:Events for Unitarian Universalist Church of Spokane
REFRESH-INTERVAL;VALUE=DURATION:PT1H
X-Robots-Tag:noindex
X-PUBLISHED-TTL:PT1H
BEGIN:VTIMEZONE
TZID:America/Los_Angeles
BEGIN:DAYLIGHT
TZOFFSETFROM:-0800
TZOFFSETTO:-0700
TZNAME:PDT
DTSTART:20260308T100000
END:DAYLIGHT
BEGIN:STANDARD
TZOFFSETFROM:-0700
TZOFFSETTO:-0800
TZNAME:PST
DTSTART:20261101T090000
END:STANDARD
BEGIN:DAYLIGHT
TZOFFSETFROM:-0800
TZOFFSETTO:-0700
TZNAME:PDT
DTSTART:20270314T100000
END:DAYLIGHT
BEGIN:STANDARD
TZOFFSETFROM:-0700
TZOFFSETTO:-0800
TZNAME:PST
DTSTART:20271107T090000
END:STANDARD
BEGIN:DAYLIGHT
TZOFFSETFROM:-0800
TZOFFSETTO:-0700
TZNAME:PDT
DTSTART:20280312T100000
END:DAYLIGHT
BEGIN:STANDARD
TZOFFSETFROM:-0700
TZOFFSETTO:-0800
TZNAME:PST
DTSTART:20281105T090000
END:STANDARD
BEGIN:DAYLIGHT
TZOFFSETFROM:-0800
TZOFFSETTO:-0700
TZNAME:PDT
DTSTART:20290311T100000
END:DAYLIGHT
BEGIN:STANDARD
TZOFFSETFROM:-0700
TZOFFSETTO:-0800
TZNAME:PST
DTSTART:20291104T090000
END:STANDARD
BEGIN:DAYLIGHT
TZOFFSETFROM:-0800
TZOFFSETTO:-0700
TZNAME:PDT
DTSTART:20300310T100000
END:DAYLIGHT
BEGIN:STANDARD
TZOFFSETFROM:-0700
TZOFFSETTO:-0800
TZNAME:PST
DTSTART:20301103T090000
END:STANDARD
END:VTIMEZONE
BEGIN:VEVENT
DTSTART;TZID=America/Los_Angeles:20270214T130000
DTEND;TZID=America/Los_Angeles:20270214T160000
DTSTAMP:20260423T125158
CREATED:20250925T174023Z
LAST-MODIFIED:20250925T174023Z
UID:10002824-1802610000-1802620800@uuspokane.org
SUMMARY:Spokane Handweaver's Guild
DESCRIPTION:
URL:https://uuspokane.org/event/spokane-handweavers-guild/2027-02-14/
LOCATION:Thoreau Room
CATEGORIES:Private Event
END:VEVENT
BEGIN:VEVENT
DTSTART;TZID=America/Los_Angeles:20270314T130000
DTEND;TZID=America/Los_Angeles:20270314T160000
DTSTAMP:20260423T125158
CREATED:20250925T174023Z
LAST-MODIFIED:20250925T174023Z
UID:10002825-1805029200-1805040000@uuspokane.org
SUMMARY:Spokane Handweaver's Guild
DESCRIPTION:
URL:https://uuspokane.org/event/spokane-handweavers-guild/2027-03-14/
LOCATION:Thoreau Room
CATEGORIES:Private Event
END:VEVENT
BEGIN:VEVENT
DTSTART;TZID=America/Los_Angeles:20270411T130000
DTEND;TZID=America/Los_Angeles:20270411T160000
DTSTAMP:20260423T125158
CREATED:20250925T174023Z
LAST-MODIFIED:20250925T174023Z
UID:10002826-1807448400-1807459200@uuspokane.org
SUMMARY:Spokane Handweaver's Guild
DESCRIPTION:
URL:https://uuspokane.org/event/spokane-handweavers-guild/2027-04-11/
LOCATION:Thoreau Room
CATEGORIES:Private Event
END:VEVENT
BEGIN:VEVENT
DTSTART;TZID=America/Los_Angeles:20270509T130000
DTEND;TZID=America/Los_Angeles:20270509T160000
DTSTAMP:20260423T125158
CREATED:20250925T174023Z
LAST-MODIFIED:20250925T174023Z
UID:10002827-1809867600-1809878400@uuspokane.org
SUMMARY:Spokane Handweaver's Guild
DESCRIPTION:
URL:https://uuspokane.org/event/spokane-handweavers-guild/2027-05-09/
LOCATION:Thoreau Room
CATEGORIES:Private Event
END:VEVENT
BEGIN:VEVENT
DTSTART;TZID=America/Los_Angeles:20270613T130000
DTEND;TZID=America/Los_Angeles:20270613T160000
DTSTAMP:20260423T125158
CREATED:20250925T174023Z
LAST-MODIFIED:20250925T174023Z
UID:10002828-1812891600-1812902400@uuspokane.org
SUMMARY:Spokane Handweaver's Guild
DESCRIPTION:
URL:https://uuspokane.org/event/spokane-handweavers-guild/2027-06-13/
LOCATION:Thoreau Room
CATEGORIES:Private Event
END:VEVENT
BEGIN:VEVENT
DTSTART;TZID=America/Los_Angeles:20270711T130000
DTEND;TZID=America/Los_Angeles:20270711T160000
DTSTAMP:20260423T125158
CREATED:20250925T174023Z
LAST-MODIFIED:20250925T174023Z
UID:10002829-1815310800-1815321600@uuspokane.org
SUMMARY:Spokane Handweaver's Guild
DESCRIPTION:
URL:https://uuspokane.org/event/spokane-handweavers-guild/2027-07-11/
LOCATION:Thoreau Room
CATEGORIES:Private Event
END:VEVENT
BEGIN:VEVENT
DTSTART;TZID=America/Los_Angeles:20270808T130000
DTEND;TZID=America/Los_Angeles:20270808T160000
DTSTAMP:20260423T125158
CREATED:20250925T174023Z
LAST-MODIFIED:20250925T174023Z
UID:10002830-1817730000-1817740800@uuspokane.org
SUMMARY:Spokane Handweaver's Guild
DESCRIPTION:
URL:https://uuspokane.org/event/spokane-handweavers-guild/2027-08-08/
LOCATION:Thoreau Room
CATEGORIES:Private Event
END:VEVENT
BEGIN:VEVENT
DTSTART;TZID=America/Los_Angeles:20270912T130000
DTEND;TZID=America/Los_Angeles:20270912T160000
DTSTAMP:20260423T125158
CREATED:20250925T174023Z
LAST-MODIFIED:20250925T174023Z
UID:10002831-1820754000-1820764800@uuspokane.org
SUMMARY:Spokane Handweaver's Guild
DESCRIPTION:
URL:https://uuspokane.org/event/spokane-handweavers-guild/2027-09-12/
LOCATION:Thoreau Room
CATEGORIES:Private Event
END:VEVENT
BEGIN:VEVENT
DTSTART;TZID=America/Los_Angeles:20271010T130000
DTEND;TZID=America/Los_Angeles:20271010T160000
DTSTAMP:20260423T125158
CREATED:20250925T174023Z
LAST-MODIFIED:20250925T174023Z
UID:10002832-1823173200-1823184000@uuspokane.org
SUMMARY:Spokane Handweaver's Guild
DESCRIPTION:
URL:https://uuspokane.org/event/spokane-handweavers-guild/2027-10-10/
LOCATION:Thoreau Room
CATEGORIES:Private Event
END:VEVENT
BEGIN:VEVENT
DTSTART;TZID=America/Los_Angeles:20271114T130000
DTEND;TZID=America/Los_Angeles:20271114T160000
DTSTAMP:20260423T125158
CREATED:20250925T174023Z
LAST-MODIFIED:20250925T174023Z
UID:10002833-1826197200-1826208000@uuspokane.org
SUMMARY:Spokane Handweaver's Guild
DESCRIPTION:
URL:https://uuspokane.org/event/spokane-handweavers-guild/2027-11-14/
LOCATION:Thoreau Room
CATEGORIES:Private Event
END:VEVENT
BEGIN:VEVENT
DTSTART;TZID=America/Los_Angeles:20271212T130000
DTEND;TZID=America/Los_Angeles:20271212T160000
DTSTAMP:20260423T125158
CREATED:20250925T174023Z
LAST-MODIFIED:20250925T174023Z
UID:10002834-1828616400-1828627200@uuspokane.org
SUMMARY:Spokane Handweaver's Guild
DESCRIPTION:
URL:https://uuspokane.org/event/spokane-handweavers-guild/2027-12-12/
LOCATION:Thoreau Room
CATEGORIES:Private Event
END:VEVENT
BEGIN:VEVENT
DTSTART;TZID=America/Los_Angeles:20280109T130000
DTEND;TZID=America/Los_Angeles:20280109T160000
DTSTAMP:20260423T125158
CREATED:20250925T174023Z
LAST-MODIFIED:20250925T174023Z
UID:10002835-1831035600-1831046400@uuspokane.org
SUMMARY:Spokane Handweaver's Guild
DESCRIPTION:
URL:https://uuspokane.org/event/spokane-handweavers-guild/2028-01-09/
LOCATION:Thoreau Room
CATEGORIES:Private Event
END:VEVENT
BEGIN:VEVENT
DTSTART;TZID=America/Los_Angeles:20280213T130000
DTEND;TZID=America/Los_Angeles:20280213T160000
DTSTAMP:20260423T125158
CREATED:20250925T174023Z
LAST-MODIFIED:20250925T174023Z
UID:10002836-1834059600-1834070400@uuspokane.org
SUMMARY:Spokane Handweaver's Guild
DESCRIPTION:
URL:https://uuspokane.org/event/spokane-handweavers-guild/2028-02-13/
LOCATION:Thoreau Room
CATEGORIES:Private Event
END:VEVENT
BEGIN:VEVENT
DTSTART;TZID=America/Los_Angeles:20280312T130000
DTEND;TZID=America/Los_Angeles:20280312T160000
DTSTAMP:20260423T125158
CREATED:20250925T174023Z
LAST-MODIFIED:20250925T174023Z
UID:10002837-1836478800-1836489600@uuspokane.org
SUMMARY:Spokane Handweaver's Guild
DESCRIPTION:
URL:https://uuspokane.org/event/spokane-handweavers-guild/2028-03-12/
LOCATION:Thoreau Room
CATEGORIES:Private Event
END:VEVENT
BEGIN:VEVENT
DTSTART;TZID=America/Los_Angeles:20280409T130000
DTEND;TZID=America/Los_Angeles:20280409T160000
DTSTAMP:20260423T125158
CREATED:20250925T174023Z
LAST-MODIFIED:20250925T174023Z
UID:10002838-1838898000-1838908800@uuspokane.org
SUMMARY:Spokane Handweaver's Guild
DESCRIPTION:
URL:https://uuspokane.org/event/spokane-handweavers-guild/2028-04-09/
LOCATION:Thoreau Room
CATEGORIES:Private Event
END:VEVENT
BEGIN:VEVENT
DTSTART;TZID=America/Los_Angeles:20280514T130000
DTEND;TZID=America/Los_Angeles:20280514T160000
DTSTAMP:20260423T125158
CREATED:20250925T174023Z
LAST-MODIFIED:20250925T174023Z
UID:10002839-1841922000-1841932800@uuspokane.org
SUMMARY:Spokane Handweaver's Guild
DESCRIPTION:
URL:https://uuspokane.org/event/spokane-handweavers-guild/2028-05-14/
LOCATION:Thoreau Room
CATEGORIES:Private Event
END:VEVENT
BEGIN:VEVENT
DTSTART;TZID=America/Los_Angeles:20280611T130000
DTEND;TZID=America/Los_Angeles:20280611T160000
DTSTAMP:20260423T125158
CREATED:20250925T174023Z
LAST-MODIFIED:20250925T174023Z
UID:10002840-1844341200-1844352000@uuspokane.org
SUMMARY:Spokane Handweaver's Guild
DESCRIPTION:
URL:https://uuspokane.org/event/spokane-handweavers-guild/2028-06-11/
LOCATION:Thoreau Room
CATEGORIES:Private Event
END:VEVENT
BEGIN:VEVENT
DTSTART;TZID=America/Los_Angeles:20280709T130000
DTEND;TZID=America/Los_Angeles:20280709T160000
DTSTAMP:20260423T125158
CREATED:20250925T174023Z
LAST-MODIFIED:20250925T174023Z
UID:10002841-1846760400-1846771200@uuspokane.org
SUMMARY:Spokane Handweaver's Guild
DESCRIPTION:
URL:https://uuspokane.org/event/spokane-handweavers-guild/2028-07-09/
LOCATION:Thoreau Room
CATEGORIES:Private Event
END:VEVENT
BEGIN:VEVENT
DTSTART;TZID=America/Los_Angeles:20280813T130000
DTEND;TZID=America/Los_Angeles:20280813T160000
DTSTAMP:20260423T125158
CREATED:20250925T174023Z
LAST-MODIFIED:20250925T174023Z
UID:10002842-1849784400-1849795200@uuspokane.org
SUMMARY:Spokane Handweaver's Guild
DESCRIPTION:
URL:https://uuspokane.org/event/spokane-handweavers-guild/2028-08-13/
LOCATION:Thoreau Room
CATEGORIES:Private Event
END:VEVENT
BEGIN:VEVENT
DTSTART;TZID=America/Los_Angeles:20280910T130000
DTEND;TZID=America/Los_Angeles:20280910T160000
DTSTAMP:20260423T125158
CREATED:20250925T174023Z
LAST-MODIFIED:20250925T174023Z
UID:10002843-1852203600-1852214400@uuspokane.org
SUMMARY:Spokane Handweaver's Guild
DESCRIPTION:
URL:https://uuspokane.org/event/spokane-handweavers-guild/2028-09-10/
LOCATION:Thoreau Room
CATEGORIES:Private Event
END:VEVENT
BEGIN:VEVENT
DTSTART;TZID=America/Los_Angeles:20281008T130000
DTEND;TZID=America/Los_Angeles:20281008T160000
DTSTAMP:20260423T125158
CREATED:20250925T174023Z
LAST-MODIFIED:20250925T174023Z
UID:10002844-1854622800-1854633600@uuspokane.org
SUMMARY:Spokane Handweaver's Guild
DESCRIPTION:
URL:https://uuspokane.org/event/spokane-handweavers-guild/2028-10-08/
LOCATION:Thoreau Room
CATEGORIES:Private Event
END:VEVENT
BEGIN:VEVENT
DTSTART;TZID=America/Los_Angeles:20281112T130000
DTEND;TZID=America/Los_Angeles:20281112T160000
DTSTAMP:20260423T125158
CREATED:20250925T174023Z
LAST-MODIFIED:20250925T174023Z
UID:10002845-1857646800-1857657600@uuspokane.org
SUMMARY:Spokane Handweaver's Guild
DESCRIPTION:
URL:https://uuspokane.org/event/spokane-handweavers-guild/2028-11-12/
LOCATION:Thoreau Room
CATEGORIES:Private Event
END:VEVENT
BEGIN:VEVENT
DTSTART;TZID=America/Los_Angeles:20281210T130000
DTEND;TZID=America/Los_Angeles:20281210T160000
DTSTAMP:20260423T125158
CREATED:20250925T174023Z
LAST-MODIFIED:20250925T174023Z
UID:10002846-1860066000-1860076800@uuspokane.org
SUMMARY:Spokane Handweaver's Guild
DESCRIPTION:
URL:https://uuspokane.org/event/spokane-handweavers-guild/2028-12-10/
LOCATION:Thoreau Room
CATEGORIES:Private Event
END:VEVENT
BEGIN:VEVENT
DTSTART;TZID=America/Los_Angeles:20290114T130000
DTEND;TZID=America/Los_Angeles:20290114T160000
DTSTAMP:20260423T125158
CREATED:20250925T174023Z
LAST-MODIFIED:20250925T174023Z
UID:10002847-1863090000-1863100800@uuspokane.org
SUMMARY:Spokane Handweaver's Guild
DESCRIPTION:
URL:https://uuspokane.org/event/spokane-handweavers-guild/2029-01-14/
LOCATION:Thoreau Room
CATEGORIES:Private Event
END:VEVENT
BEGIN:VEVENT
DTSTART;TZID=America/Los_Angeles:20290211T130000
DTEND;TZID=America/Los_Angeles:20290211T160000
DTSTAMP:20260423T125158
CREATED:20250925T174023Z
LAST-MODIFIED:20250925T174023Z
UID:10002848-1865509200-1865520000@uuspokane.org
SUMMARY:Spokane Handweaver's Guild
DESCRIPTION:
URL:https://uuspokane.org/event/spokane-handweavers-guild/2029-02-11/
LOCATION:Thoreau Room
CATEGORIES:Private Event
END:VEVENT
BEGIN:VEVENT
DTSTART;TZID=America/Los_Angeles:20290311T130000
DTEND;TZID=America/Los_Angeles:20290311T160000
DTSTAMP:20260423T125158
CREATED:20250925T174023Z
LAST-MODIFIED:20250925T174023Z
UID:10002849-1867928400-1867939200@uuspokane.org
SUMMARY:Spokane Handweaver's Guild
DESCRIPTION:
URL:https://uuspokane.org/event/spokane-handweavers-guild/2029-03-11/
LOCATION:Thoreau Room
CATEGORIES:Private Event
END:VEVENT
BEGIN:VEVENT
DTSTART;TZID=America/Los_Angeles:20290408T130000
DTEND;TZID=America/Los_Angeles:20290408T160000
DTSTAMP:20260423T125158
CREATED:20250925T174023Z
LAST-MODIFIED:20250925T174023Z
UID:10002850-1870347600-1870358400@uuspokane.org
SUMMARY:Spokane Handweaver's Guild
DESCRIPTION:
URL:https://uuspokane.org/event/spokane-handweavers-guild/2029-04-08/
LOCATION:Thoreau Room
CATEGORIES:Private Event
END:VEVENT
BEGIN:VEVENT
DTSTART;TZID=America/Los_Angeles:20290513T130000
DTEND;TZID=America/Los_Angeles:20290513T160000
DTSTAMP:20260423T125158
CREATED:20250925T174023Z
LAST-MODIFIED:20250925T174023Z
UID:10002851-1873371600-1873382400@uuspokane.org
SUMMARY:Spokane Handweaver's Guild
DESCRIPTION:
URL:https://uuspokane.org/event/spokane-handweavers-guild/2029-05-13/
LOCATION:Thoreau Room
CATEGORIES:Private Event
END:VEVENT
BEGIN:VEVENT
DTSTART;TZID=America/Los_Angeles:20290610T130000
DTEND;TZID=America/Los_Angeles:20290610T160000
DTSTAMP:20260423T125158
CREATED:20250925T174023Z
LAST-MODIFIED:20250925T174023Z
UID:10002852-1875790800-1875801600@uuspokane.org
SUMMARY:Spokane Handweaver's Guild
DESCRIPTION:
URL:https://uuspokane.org/event/spokane-handweavers-guild/2029-06-10/
LOCATION:Thoreau Room
CATEGORIES:Private Event
END:VEVENT
BEGIN:VEVENT
DTSTART;TZID=America/Los_Angeles:20290708T130000
DTEND;TZID=America/Los_Angeles:20290708T160000
DTSTAMP:20260423T125158
CREATED:20250925T174023Z
LAST-MODIFIED:20250925T174023Z
UID:10002853-1878210000-1878220800@uuspokane.org
SUMMARY:Spokane Handweaver's Guild
DESCRIPTION:
URL:https://uuspokane.org/event/spokane-handweavers-guild/2029-07-08/
LOCATION:Thoreau Room
CATEGORIES:Private Event
END:VEVENT
END:VCALENDAR