BEGIN:VCALENDAR
VERSION:2.0
PRODID:-//Unitarian Universalist Church of Spokane - ECPv6.15.20//NONSGML v1.0//EN
CALSCALE:GREGORIAN
METHOD:PUBLISH
X-ORIGINAL-URL:https://uuspokane.org
X-WR-CALDESC:Events for Unitarian Universalist Church of Spokane
REFRESH-INTERVAL;VALUE=DURATION:PT1H
X-Robots-Tag:noindex
X-PUBLISHED-TTL:PT1H
BEGIN:VTIMEZONE
TZID:America/Los_Angeles
BEGIN:DAYLIGHT
TZOFFSETFROM:-0800
TZOFFSETTO:-0700
TZNAME:PDT
DTSTART:20250309T100000
END:DAYLIGHT
BEGIN:STANDARD
TZOFFSETFROM:-0700
TZOFFSETTO:-0800
TZNAME:PST
DTSTART:20251102T090000
END:STANDARD
BEGIN:DAYLIGHT
TZOFFSETFROM:-0800
TZOFFSETTO:-0700
TZNAME:PDT
DTSTART:20260308T100000
END:DAYLIGHT
BEGIN:STANDARD
TZOFFSETFROM:-0700
TZOFFSETTO:-0800
TZNAME:PST
DTSTART:20261101T090000
END:STANDARD
BEGIN:DAYLIGHT
TZOFFSETFROM:-0800
TZOFFSETTO:-0700
TZNAME:PDT
DTSTART:20270314T100000
END:DAYLIGHT
BEGIN:STANDARD
TZOFFSETFROM:-0700
TZOFFSETTO:-0800
TZNAME:PST
DTSTART:20271107T090000
END:STANDARD
BEGIN:DAYLIGHT
TZOFFSETFROM:-0800
TZOFFSETTO:-0700
TZNAME:PDT
DTSTART:20280312T100000
END:DAYLIGHT
BEGIN:STANDARD
TZOFFSETFROM:-0700
TZOFFSETTO:-0800
TZNAME:PST
DTSTART:20281105T090000
END:STANDARD
END:VTIMEZONE
BEGIN:VEVENT
DTSTART;TZID=America/Los_Angeles:20261129T110000
DTEND;TZID=America/Los_Angeles:20261129T121500
DTSTAMP:20260423T163919
CREATED:20250924T194449Z
LAST-MODIFIED:20250925T235502Z
UID:10001350-1795950000-1795954500@uuspokane.org
SUMMARY:Childcare for Sunday Services
DESCRIPTION:
URL:https://uuspokane.org/event/childcare-for-sunday-services/2026-11-29/
LOCATION:Channing Room (Nursery)
CATEGORIES:Childcare
END:VEVENT
BEGIN:VEVENT
DTSTART;TZID=America/Los_Angeles:20261206T110000
DTEND;TZID=America/Los_Angeles:20261206T121500
DTSTAMP:20260423T163919
CREATED:20250924T194449Z
LAST-MODIFIED:20250925T235502Z
UID:10001351-1796554800-1796559300@uuspokane.org
SUMMARY:Childcare for Sunday Services
DESCRIPTION:
URL:https://uuspokane.org/event/childcare-for-sunday-services/2026-12-06/
LOCATION:Channing Room (Nursery)
CATEGORIES:Childcare
END:VEVENT
BEGIN:VEVENT
DTSTART;TZID=America/Los_Angeles:20261213T110000
DTEND;TZID=America/Los_Angeles:20261213T121500
DTSTAMP:20260423T163919
CREATED:20250924T194449Z
LAST-MODIFIED:20250925T235502Z
UID:10001352-1797159600-1797164100@uuspokane.org
SUMMARY:Childcare for Sunday Services
DESCRIPTION:
URL:https://uuspokane.org/event/childcare-for-sunday-services/2026-12-13/
LOCATION:Channing Room (Nursery)
CATEGORIES:Childcare
END:VEVENT
BEGIN:VEVENT
DTSTART;TZID=America/Los_Angeles:20261220T110000
DTEND;TZID=America/Los_Angeles:20261220T121500
DTSTAMP:20260423T163919
CREATED:20250924T194449Z
LAST-MODIFIED:20250925T235502Z
UID:10001353-1797764400-1797768900@uuspokane.org
SUMMARY:Childcare for Sunday Services
DESCRIPTION:
URL:https://uuspokane.org/event/childcare-for-sunday-services/2026-12-20/
LOCATION:Channing Room (Nursery)
CATEGORIES:Childcare
END:VEVENT
BEGIN:VEVENT
DTSTART;TZID=America/Los_Angeles:20261227T110000
DTEND;TZID=America/Los_Angeles:20261227T121500
DTSTAMP:20260423T163919
CREATED:20250924T194449Z
LAST-MODIFIED:20250925T235502Z
UID:10001354-1798369200-1798373700@uuspokane.org
SUMMARY:Childcare for Sunday Services
DESCRIPTION:
URL:https://uuspokane.org/event/childcare-for-sunday-services/2026-12-27/
LOCATION:Channing Room (Nursery)
CATEGORIES:Childcare
END:VEVENT
BEGIN:VEVENT
DTSTART;TZID=America/Los_Angeles:20270103T110000
DTEND;TZID=America/Los_Angeles:20270103T121500
DTSTAMP:20260423T163919
CREATED:20250924T194449Z
LAST-MODIFIED:20250925T235502Z
UID:10001355-1798974000-1798978500@uuspokane.org
SUMMARY:Childcare for Sunday Services
DESCRIPTION:
URL:https://uuspokane.org/event/childcare-for-sunday-services/2027-01-03/
LOCATION:Channing Room (Nursery)
CATEGORIES:Childcare
END:VEVENT
BEGIN:VEVENT
DTSTART;TZID=America/Los_Angeles:20270110T110000
DTEND;TZID=America/Los_Angeles:20270110T121500
DTSTAMP:20260423T163919
CREATED:20250924T194449Z
LAST-MODIFIED:20250925T235502Z
UID:10001356-1799578800-1799583300@uuspokane.org
SUMMARY:Childcare for Sunday Services
DESCRIPTION:
URL:https://uuspokane.org/event/childcare-for-sunday-services/2027-01-10/
LOCATION:Channing Room (Nursery)
CATEGORIES:Childcare
END:VEVENT
BEGIN:VEVENT
DTSTART;TZID=America/Los_Angeles:20270117T110000
DTEND;TZID=America/Los_Angeles:20270117T121500
DTSTAMP:20260423T163919
CREATED:20250924T194449Z
LAST-MODIFIED:20250925T235502Z
UID:10001357-1800183600-1800188100@uuspokane.org
SUMMARY:Childcare for Sunday Services
DESCRIPTION:
URL:https://uuspokane.org/event/childcare-for-sunday-services/2027-01-17/
LOCATION:Channing Room (Nursery)
CATEGORIES:Childcare
END:VEVENT
BEGIN:VEVENT
DTSTART;TZID=America/Los_Angeles:20270124T110000
DTEND;TZID=America/Los_Angeles:20270124T121500
DTSTAMP:20260423T163919
CREATED:20250924T194449Z
LAST-MODIFIED:20250925T235502Z
UID:10001358-1800788400-1800792900@uuspokane.org
SUMMARY:Childcare for Sunday Services
DESCRIPTION:
URL:https://uuspokane.org/event/childcare-for-sunday-services/2027-01-24/
LOCATION:Channing Room (Nursery)
CATEGORIES:Childcare
END:VEVENT
BEGIN:VEVENT
DTSTART;TZID=America/Los_Angeles:20270131T110000
DTEND;TZID=America/Los_Angeles:20270131T121500
DTSTAMP:20260423T163919
CREATED:20250924T194449Z
LAST-MODIFIED:20250925T235502Z
UID:10001359-1801393200-1801397700@uuspokane.org
SUMMARY:Childcare for Sunday Services
DESCRIPTION:
URL:https://uuspokane.org/event/childcare-for-sunday-services/2027-01-31/
LOCATION:Channing Room (Nursery)
CATEGORIES:Childcare
END:VEVENT
BEGIN:VEVENT
DTSTART;TZID=America/Los_Angeles:20270207T110000
DTEND;TZID=America/Los_Angeles:20270207T121500
DTSTAMP:20260423T163919
CREATED:20250924T194449Z
LAST-MODIFIED:20250925T235502Z
UID:10001360-1801998000-1802002500@uuspokane.org
SUMMARY:Childcare for Sunday Services
DESCRIPTION:
URL:https://uuspokane.org/event/childcare-for-sunday-services/2027-02-07/
LOCATION:Channing Room (Nursery)
CATEGORIES:Childcare
END:VEVENT
BEGIN:VEVENT
DTSTART;TZID=America/Los_Angeles:20270214T110000
DTEND;TZID=America/Los_Angeles:20270214T121500
DTSTAMP:20260423T163919
CREATED:20250924T194449Z
LAST-MODIFIED:20250925T235502Z
UID:10001361-1802602800-1802607300@uuspokane.org
SUMMARY:Childcare for Sunday Services
DESCRIPTION:
URL:https://uuspokane.org/event/childcare-for-sunday-services/2027-02-14/
LOCATION:Channing Room (Nursery)
CATEGORIES:Childcare
END:VEVENT
BEGIN:VEVENT
DTSTART;TZID=America/Los_Angeles:20270221T110000
DTEND;TZID=America/Los_Angeles:20270221T121500
DTSTAMP:20260423T163919
CREATED:20250924T194449Z
LAST-MODIFIED:20250925T235502Z
UID:10001362-1803207600-1803212100@uuspokane.org
SUMMARY:Childcare for Sunday Services
DESCRIPTION:
URL:https://uuspokane.org/event/childcare-for-sunday-services/2027-02-21/
LOCATION:Channing Room (Nursery)
CATEGORIES:Childcare
END:VEVENT
BEGIN:VEVENT
DTSTART;TZID=America/Los_Angeles:20270228T110000
DTEND;TZID=America/Los_Angeles:20270228T121500
DTSTAMP:20260423T163919
CREATED:20250924T194449Z
LAST-MODIFIED:20250925T235502Z
UID:10001363-1803812400-1803816900@uuspokane.org
SUMMARY:Childcare for Sunday Services
DESCRIPTION:
URL:https://uuspokane.org/event/childcare-for-sunday-services/2027-02-28/
LOCATION:Channing Room (Nursery)
CATEGORIES:Childcare
END:VEVENT
BEGIN:VEVENT
DTSTART;TZID=America/Los_Angeles:20270307T110000
DTEND;TZID=America/Los_Angeles:20270307T121500
DTSTAMP:20260423T163919
CREATED:20250924T194449Z
LAST-MODIFIED:20250925T235502Z
UID:10001364-1804417200-1804421700@uuspokane.org
SUMMARY:Childcare for Sunday Services
DESCRIPTION:
URL:https://uuspokane.org/event/childcare-for-sunday-services/2027-03-07/
LOCATION:Channing Room (Nursery)
CATEGORIES:Childcare
END:VEVENT
BEGIN:VEVENT
DTSTART;TZID=America/Los_Angeles:20270314T110000
DTEND;TZID=America/Los_Angeles:20270314T121500
DTSTAMP:20260423T163919
CREATED:20250924T194449Z
LAST-MODIFIED:20250925T235502Z
UID:10001365-1805022000-1805026500@uuspokane.org
SUMMARY:Childcare for Sunday Services
DESCRIPTION:
URL:https://uuspokane.org/event/childcare-for-sunday-services/2027-03-14/
LOCATION:Channing Room (Nursery)
CATEGORIES:Childcare
END:VEVENT
BEGIN:VEVENT
DTSTART;TZID=America/Los_Angeles:20270321T110000
DTEND;TZID=America/Los_Angeles:20270321T121500
DTSTAMP:20260423T163919
CREATED:20250924T194449Z
LAST-MODIFIED:20250925T235502Z
UID:10001366-1805626800-1805631300@uuspokane.org
SUMMARY:Childcare for Sunday Services
DESCRIPTION:
URL:https://uuspokane.org/event/childcare-for-sunday-services/2027-03-21/
LOCATION:Channing Room (Nursery)
CATEGORIES:Childcare
END:VEVENT
BEGIN:VEVENT
DTSTART;TZID=America/Los_Angeles:20270328T110000
DTEND;TZID=America/Los_Angeles:20270328T121500
DTSTAMP:20260423T163919
CREATED:20250924T194449Z
LAST-MODIFIED:20250925T235502Z
UID:10001367-1806231600-1806236100@uuspokane.org
SUMMARY:Childcare for Sunday Services
DESCRIPTION:
URL:https://uuspokane.org/event/childcare-for-sunday-services/2027-03-28/
LOCATION:Channing Room (Nursery)
CATEGORIES:Childcare
END:VEVENT
BEGIN:VEVENT
DTSTART;TZID=America/Los_Angeles:20270404T110000
DTEND;TZID=America/Los_Angeles:20270404T121500
DTSTAMP:20260423T163919
CREATED:20250924T194449Z
LAST-MODIFIED:20250925T235502Z
UID:10001368-1806836400-1806840900@uuspokane.org
SUMMARY:Childcare for Sunday Services
DESCRIPTION:
URL:https://uuspokane.org/event/childcare-for-sunday-services/2027-04-04/
LOCATION:Channing Room (Nursery)
CATEGORIES:Childcare
END:VEVENT
BEGIN:VEVENT
DTSTART;TZID=America/Los_Angeles:20270411T110000
DTEND;TZID=America/Los_Angeles:20270411T121500
DTSTAMP:20260423T163919
CREATED:20250924T194449Z
LAST-MODIFIED:20250925T235502Z
UID:10001369-1807441200-1807445700@uuspokane.org
SUMMARY:Childcare for Sunday Services
DESCRIPTION:
URL:https://uuspokane.org/event/childcare-for-sunday-services/2027-04-11/
LOCATION:Channing Room (Nursery)
CATEGORIES:Childcare
END:VEVENT
BEGIN:VEVENT
DTSTART;TZID=America/Los_Angeles:20270418T110000
DTEND;TZID=America/Los_Angeles:20270418T121500
DTSTAMP:20260423T163919
CREATED:20250924T194449Z
LAST-MODIFIED:20250925T235502Z
UID:10001370-1808046000-1808050500@uuspokane.org
SUMMARY:Childcare for Sunday Services
DESCRIPTION:
URL:https://uuspokane.org/event/childcare-for-sunday-services/2027-04-18/
LOCATION:Channing Room (Nursery)
CATEGORIES:Childcare
END:VEVENT
BEGIN:VEVENT
DTSTART;TZID=America/Los_Angeles:20270425T110000
DTEND;TZID=America/Los_Angeles:20270425T121500
DTSTAMP:20260423T163919
CREATED:20250924T194449Z
LAST-MODIFIED:20250925T235502Z
UID:10001371-1808650800-1808655300@uuspokane.org
SUMMARY:Childcare for Sunday Services
DESCRIPTION:
URL:https://uuspokane.org/event/childcare-for-sunday-services/2027-04-25/
LOCATION:Channing Room (Nursery)
CATEGORIES:Childcare
END:VEVENT
BEGIN:VEVENT
DTSTART;TZID=America/Los_Angeles:20270502T110000
DTEND;TZID=America/Los_Angeles:20270502T121500
DTSTAMP:20260423T163919
CREATED:20250924T194449Z
LAST-MODIFIED:20250925T235502Z
UID:10001372-1809255600-1809260100@uuspokane.org
SUMMARY:Childcare for Sunday Services
DESCRIPTION:
URL:https://uuspokane.org/event/childcare-for-sunday-services/2027-05-02/
LOCATION:Channing Room (Nursery)
CATEGORIES:Childcare
END:VEVENT
BEGIN:VEVENT
DTSTART;TZID=America/Los_Angeles:20270509T110000
DTEND;TZID=America/Los_Angeles:20270509T121500
DTSTAMP:20260423T163919
CREATED:20250924T194449Z
LAST-MODIFIED:20250925T235502Z
UID:10001373-1809860400-1809864900@uuspokane.org
SUMMARY:Childcare for Sunday Services
DESCRIPTION:
URL:https://uuspokane.org/event/childcare-for-sunday-services/2027-05-09/
LOCATION:Channing Room (Nursery)
CATEGORIES:Childcare
END:VEVENT
BEGIN:VEVENT
DTSTART;TZID=America/Los_Angeles:20270516T110000
DTEND;TZID=America/Los_Angeles:20270516T121500
DTSTAMP:20260423T163919
CREATED:20250924T194449Z
LAST-MODIFIED:20250925T235502Z
UID:10001374-1810465200-1810469700@uuspokane.org
SUMMARY:Childcare for Sunday Services
DESCRIPTION:
URL:https://uuspokane.org/event/childcare-for-sunday-services/2027-05-16/
LOCATION:Channing Room (Nursery)
CATEGORIES:Childcare
END:VEVENT
BEGIN:VEVENT
DTSTART;TZID=America/Los_Angeles:20270523T110000
DTEND;TZID=America/Los_Angeles:20270523T121500
DTSTAMP:20260423T163919
CREATED:20250924T194449Z
LAST-MODIFIED:20250925T235502Z
UID:10001375-1811070000-1811074500@uuspokane.org
SUMMARY:Childcare for Sunday Services
DESCRIPTION:
URL:https://uuspokane.org/event/childcare-for-sunday-services/2027-05-23/
LOCATION:Channing Room (Nursery)
CATEGORIES:Childcare
END:VEVENT
BEGIN:VEVENT
DTSTART;TZID=America/Los_Angeles:20270530T110000
DTEND;TZID=America/Los_Angeles:20270530T121500
DTSTAMP:20260423T163919
CREATED:20250924T194449Z
LAST-MODIFIED:20250925T235502Z
UID:10001376-1811674800-1811679300@uuspokane.org
SUMMARY:Childcare for Sunday Services
DESCRIPTION:
URL:https://uuspokane.org/event/childcare-for-sunday-services/2027-05-30/
LOCATION:Channing Room (Nursery)
CATEGORIES:Childcare
END:VEVENT
BEGIN:VEVENT
DTSTART;TZID=America/Los_Angeles:20270606T110000
DTEND;TZID=America/Los_Angeles:20270606T121500
DTSTAMP:20260423T163919
CREATED:20250924T194449Z
LAST-MODIFIED:20250925T235502Z
UID:10001377-1812279600-1812284100@uuspokane.org
SUMMARY:Childcare for Sunday Services
DESCRIPTION:
URL:https://uuspokane.org/event/childcare-for-sunday-services/2027-06-06/
LOCATION:Channing Room (Nursery)
CATEGORIES:Childcare
END:VEVENT
BEGIN:VEVENT
DTSTART;TZID=America/Los_Angeles:20270613T110000
DTEND;TZID=America/Los_Angeles:20270613T121500
DTSTAMP:20260423T163919
CREATED:20250924T194449Z
LAST-MODIFIED:20250925T235502Z
UID:10001378-1812884400-1812888900@uuspokane.org
SUMMARY:Childcare for Sunday Services
DESCRIPTION:
URL:https://uuspokane.org/event/childcare-for-sunday-services/2027-06-13/
LOCATION:Channing Room (Nursery)
CATEGORIES:Childcare
END:VEVENT
BEGIN:VEVENT
DTSTART;TZID=America/Los_Angeles:20270620T110000
DTEND;TZID=America/Los_Angeles:20270620T121500
DTSTAMP:20260423T163919
CREATED:20250924T194449Z
LAST-MODIFIED:20250925T235502Z
UID:10001379-1813489200-1813493700@uuspokane.org
SUMMARY:Childcare for Sunday Services
DESCRIPTION:
URL:https://uuspokane.org/event/childcare-for-sunday-services/2027-06-20/
LOCATION:Channing Room (Nursery)
CATEGORIES:Childcare
END:VEVENT
END:VCALENDAR